BEGIN:VCALENDAR
VERSION:2.0
PRODID:-//Bowie TX Chamber of Commerce - ECPv6.15.20//NONSGML v1.0//EN
CALSCALE:GREGORIAN
METHOD:PUBLISH
X-ORIGINAL-URL:https://bowietxchamber.org
X-WR-CALDESC:Events for Bowie TX Chamber of Commerce
REFRESH-INTERVAL;VALUE=DURATION:PT1H
X-Robots-Tag:noindex
X-PUBLISHED-TTL:PT1H
BEGIN:VTIMEZONE
TZID:UTC
BEGIN:STANDARD
TZOFFSETFROM:+0000
TZOFFSETTO:+0000
TZNAME:UTC
DTSTART:20220101T000000
END:STANDARD
END:VTIMEZONE
BEGIN:VEVENT
DTSTART;TZID=UTC:20231108T120000
DTEND;TZID=UTC:20231108T130000
DTSTAMP:20260419T124217
CREATED:20221230T172921Z
LAST-MODIFIED:20221230T172947Z
UID:2080-1699444800-1699448400@bowietxchamber.org
SUMMARY:Chamber Board Meeting
DESCRIPTION:Monthly Bowie Chamber of Commerce Board of Directors Meeting. General board meetings are open to the public; however\, if someone has the desire to speak to the board\, please speak to the director of the chamber to be placed on the agenda at least 8 days prior to the meeting.
URL:https://bowietxchamber.org/event/chamber-board-meeting-6-copy-3-copy/
LOCATION:Chamber of Commerce – EDC Building\, 101 E. Pecan St\, Bowie\, TX\, 76230\, United States
CATEGORIES:Chamber Board Meetings
ORGANIZER;CN="Debbie Herriage":MAILTO:info@bowietxchamber.org
END:VEVENT
END:VCALENDAR