BEGIN:VCALENDAR
VERSION:2.0
PRODID:-//Bowie TX Chamber of Commerce - ECPv6.15.20//NONSGML v1.0//EN
CALSCALE:GREGORIAN
METHOD:PUBLISH
X-WR-CALNAME:Bowie TX Chamber of Commerce
X-ORIGINAL-URL:https://bowietxchamber.org
X-WR-CALDESC:Events for Bowie TX Chamber of Commerce
REFRESH-INTERVAL;VALUE=DURATION:PT1H
X-Robots-Tag:noindex
X-PUBLISHED-TTL:PT1H
BEGIN:VTIMEZONE
TZID:UTC
BEGIN:STANDARD
TZOFFSETFROM:+0000
TZOFFSETTO:+0000
TZNAME:UTC
DTSTART:20220101T000000
END:STANDARD
END:VTIMEZONE
BEGIN:VTIMEZONE
TZID:America/Chicago
BEGIN:DAYLIGHT
TZOFFSETFROM:-0600
TZOFFSETTO:-0500
TZNAME:CDT
DTSTART:20220313T080000
END:DAYLIGHT
BEGIN:STANDARD
TZOFFSETFROM:-0500
TZOFFSETTO:-0600
TZNAME:CST
DTSTART:20221106T070000
END:STANDARD
BEGIN:DAYLIGHT
TZOFFSETFROM:-0600
TZOFFSETTO:-0500
TZNAME:CDT
DTSTART:20230312T080000
END:DAYLIGHT
BEGIN:STANDARD
TZOFFSETFROM:-0500
TZOFFSETTO:-0600
TZNAME:CST
DTSTART:20231105T070000
END:STANDARD
BEGIN:DAYLIGHT
TZOFFSETFROM:-0600
TZOFFSETTO:-0500
TZNAME:CDT
DTSTART:20240310T080000
END:DAYLIGHT
BEGIN:STANDARD
TZOFFSETFROM:-0500
TZOFFSETTO:-0600
TZNAME:CST
DTSTART:20241103T070000
END:STANDARD
END:VTIMEZONE
BEGIN:VEVENT
DTSTART;TZID=UTC:20231110T080000
DTEND;TZID=UTC:20231112T170000
DTSTAMP:20260419T123233
CREATED:20221230T173811Z
LAST-MODIFIED:20221230T174614Z
UID:2100-1699603200-1699808400@bowietxchamber.org
SUMMARY:2nd Monday Trade Days
DESCRIPTION:Second Monday Trade Days is open rain sleet or snow on the weekend of the Second Monday every month — The Friday\, Saturday & Sunday preceding the second Monday of each Month.
URL:https://bowietxchamber.org/event/2nd-monday-trade-days-6k/
LOCATION:2nd Monday Trade Days\, 414 Pelham St.\, Bowie\, TX\, 76230\, United States
CATEGORIES:2nd Monday Trade Days
ORGANIZER;CN="Bonnie Kinder":MAILTO:communitycenter@cityofbowietx.com
END:VEVENT
BEGIN:VEVENT
DTSTART;TZID=America/Chicago:20231110T183000
DTEND;TZID=America/Chicago:20231110T220000
DTSTAMP:20260419T123233
CREATED:20230901T141407Z
LAST-MODIFIED:20230901T141407Z
UID:2828-1699641000-1699653600@bowietxchamber.org
SUMMARY:Curtis Grimes Concert to Benefit the Bowie Mission
DESCRIPTION:Nov 10 \nBowie Jr. High Auditorium \nAdmission $5 and 2 canned goods \nChildren under 12 free
URL:https://bowietxchamber.org/event/curtis-grimes-concert-to-benefit-the-bowie-mission/
END:VEVENT
END:VCALENDAR