BEGIN:VCALENDAR
VERSION:2.0
PRODID:-//Bowie TX Chamber of Commerce - ECPv6.15.20//NONSGML v1.0//EN
CALSCALE:GREGORIAN
METHOD:PUBLISH
X-ORIGINAL-URL:https://bowietxchamber.org
X-WR-CALDESC:Events for Bowie TX Chamber of Commerce
REFRESH-INTERVAL;VALUE=DURATION:PT1H
X-Robots-Tag:noindex
X-PUBLISHED-TTL:PT1H
BEGIN:VTIMEZONE
TZID:America/Chicago
BEGIN:DAYLIGHT
TZOFFSETFROM:-0600
TZOFFSETTO:-0500
TZNAME:CDT
DTSTART:20220313T080000
END:DAYLIGHT
BEGIN:STANDARD
TZOFFSETFROM:-0500
TZOFFSETTO:-0600
TZNAME:CST
DTSTART:20221106T070000
END:STANDARD
BEGIN:DAYLIGHT
TZOFFSETFROM:-0600
TZOFFSETTO:-0500
TZNAME:CDT
DTSTART:20230312T080000
END:DAYLIGHT
BEGIN:STANDARD
TZOFFSETFROM:-0500
TZOFFSETTO:-0600
TZNAME:CST
DTSTART:20231105T070000
END:STANDARD
BEGIN:DAYLIGHT
TZOFFSETFROM:-0600
TZOFFSETTO:-0500
TZNAME:CDT
DTSTART:20240310T080000
END:DAYLIGHT
BEGIN:STANDARD
TZOFFSETFROM:-0500
TZOFFSETTO:-0600
TZNAME:CST
DTSTART:20241103T070000
END:STANDARD
END:VTIMEZONE
BEGIN:VEVENT
DTSTART;TZID=America/Chicago:20231201T160000
DTEND;TZID=America/Chicago:20231201T180000
DTSTAMP:20260419T124217
CREATED:20231130T144018Z
LAST-MODIFIED:20231130T144018Z
UID:3622-1701446400-1701453600@bowietxchamber.org
SUMMARY:Open House: Bowie Economic Development Office
DESCRIPTION:Please join us for our \nOPEN HOUSE \nfor \nBowe Economic Development Office Building \n101 East Pecan Street \nBowie\, Texas 76230 \nFriday\, December 1\, 2023 \n4 – 6 Pm
URL:https://bowietxchamber.org/event/open-house-bowie-economic-development-office/
END:VEVENT
BEGIN:VEVENT
DTSTART;TZID=America/Chicago:20231201T163000
DTEND;TZID=America/Chicago:20231201T170000
DTSTAMP:20260419T124217
CREATED:20231130T143657Z
LAST-MODIFIED:20231130T143657Z
UID:3620-1701448200-1701450000@bowietxchamber.org
SUMMARY:Ribbon Cutting: TScott Designs
DESCRIPTION:Bowie Chamber of Commerce is excited to welcome TScott Designs to our historic downtown Bowie\, Texas. With this ribbon cutting guests will be stepping back in history to a simpler time when craftsmanship and quality was accomplished by the human hand. Come see this beautiful historic building brought back to life the way it may have been in the good ol’ days. \n109 N. Mason \nStreet next door to the Bowie Post Office. \nThe ribbon cutting ceremony will be at 4:30 p.m. before the start of the Gingerbread Sip & Stroll with me event\, Friday evening December 1\, 2023.
URL:https://bowietxchamber.org/event/ribbon-cutting-tscott-designs/
CATEGORIES:Ribbon Cutting
END:VEVENT
BEGIN:VEVENT
DTSTART;TZID=America/Chicago:20231201T180000
DTEND;TZID=America/Chicago:20231201T200000
DTSTAMP:20260419T124217
CREATED:20230302T163218Z
LAST-MODIFIED:20230302T163218Z
UID:2285-1701453600-1701460800@bowietxchamber.org
SUMMARY:Sip & Stroll
DESCRIPTION:Sip & Stroll \nDowntown \nBowie\, TX \nSweet Gingerbread \nDecember 1\, 2023
URL:https://bowietxchamber.org/event/sip-stroll-4/
END:VEVENT
END:VCALENDAR