BEGIN:VCALENDAR
VERSION:2.0
PRODID:-//Bowie TX Chamber of Commerce - ECPv6.15.20//NONSGML v1.0//EN
CALSCALE:GREGORIAN
METHOD:PUBLISH
X-WR-CALNAME:Bowie TX Chamber of Commerce
X-ORIGINAL-URL:https://bowietxchamber.org
X-WR-CALDESC:Events for Bowie TX Chamber of Commerce
REFRESH-INTERVAL;VALUE=DURATION:PT1H
X-Robots-Tag:noindex
X-PUBLISHED-TTL:PT1H
BEGIN:VTIMEZONE
TZID:America/Chicago
BEGIN:DAYLIGHT
TZOFFSETFROM:-0600
TZOFFSETTO:-0500
TZNAME:CDT
DTSTART:20210314T080000
END:DAYLIGHT
BEGIN:STANDARD
TZOFFSETFROM:-0500
TZOFFSETTO:-0600
TZNAME:CST
DTSTART:20211107T070000
END:STANDARD
BEGIN:DAYLIGHT
TZOFFSETFROM:-0600
TZOFFSETTO:-0500
TZNAME:CDT
DTSTART:20220313T080000
END:DAYLIGHT
BEGIN:STANDARD
TZOFFSETFROM:-0500
TZOFFSETTO:-0600
TZNAME:CST
DTSTART:20221106T070000
END:STANDARD
BEGIN:DAYLIGHT
TZOFFSETFROM:-0600
TZOFFSETTO:-0500
TZNAME:CDT
DTSTART:20230312T080000
END:DAYLIGHT
BEGIN:STANDARD
TZOFFSETFROM:-0500
TZOFFSETTO:-0600
TZNAME:CST
DTSTART:20231105T070000
END:STANDARD
END:VTIMEZONE
BEGIN:VEVENT
DTSTART;TZID=America/Chicago:20221101T173000
DTEND;TZID=America/Chicago:20221101T190000
DTSTAMP:20260421T224844
CREATED:20221020T194140Z
LAST-MODIFIED:20221020T194140Z
UID:1935-1667323800-1667329200@bowietxchamber.org
SUMMARY:Kimber Creek Gifts and Wine Bar: Re-Grand Opening
DESCRIPTION:Kimber Creek Gifts and Wine Bar: Re-Grand Opening \nTuesday\, November 1st \nRibbon Cutting 5:30 \n5:30-7:00pm \n108 N. Mason St. \nBowie TX
URL:https://bowietxchamber.org/event/kimber-creek-gifts-and-wine-bar-re-grand-opening/
CATEGORIES:Ribbon Cutting
END:VEVENT
BEGIN:VEVENT
DTSTART;TZID=America/Chicago:20221104T120000
DTEND;TZID=America/Chicago:20221104T130000
DTSTAMP:20260421T224844
CREATED:20220930T143749Z
LAST-MODIFIED:20220930T143749Z
UID:1876-1667563200-1667566800@bowietxchamber.org
SUMMARY:Ribbon Cutting: Evergreen Life Services
DESCRIPTION:Ribbon Cutting: Evergreen Life Services \nKaren Towery & Dani Davila \n100 W. Wichita \nBowie\, TX 76230 \n972-998-2534 \nKtowery@evergreenls.org
URL:https://bowietxchamber.org/event/ribbon-cutting-evergreen-life-services/
CATEGORIES:Ribbon Cutting
END:VEVENT
BEGIN:VEVENT
DTSTART;TZID=America/Chicago:20221118T173000
DTEND;TZID=America/Chicago:20221118T190000
DTSTAMP:20260421T224844
CREATED:20221020T194650Z
LAST-MODIFIED:20221020T194650Z
UID:1942-1668792600-1668798000@bowietxchamber.org
SUMMARY:Xtreme Make – Over: Ribbon Cutting
DESCRIPTION:Xtreme Make – Over: Ribbon Cutting \nFriday\, November 18th \nRibbon Cutting 5:30 \n5:30 pm – 7:00 pm \n307 W Franklin St. Alvord
URL:https://bowietxchamber.org/event/xtreme-make-over-ribbon-cutting/
CATEGORIES:Ribbon Cutting
END:VEVENT
END:VCALENDAR