BEGIN:VCALENDAR
VERSION:2.0
PRODID:-//Bowie TX Chamber of Commerce - ECPv6.15.20//NONSGML v1.0//EN
CALSCALE:GREGORIAN
METHOD:PUBLISH
X-WR-CALNAME:Bowie TX Chamber of Commerce
X-ORIGINAL-URL:https://bowietxchamber.org
X-WR-CALDESC:Events for Bowie TX Chamber of Commerce
REFRESH-INTERVAL;VALUE=DURATION:PT1H
X-Robots-Tag:noindex
X-PUBLISHED-TTL:PT1H
BEGIN:VTIMEZONE
TZID:America/Chicago
BEGIN:DAYLIGHT
TZOFFSETFROM:-0600
TZOFFSETTO:-0500
TZNAME:CDT
DTSTART:20220313T080000
END:DAYLIGHT
BEGIN:STANDARD
TZOFFSETFROM:-0500
TZOFFSETTO:-0600
TZNAME:CST
DTSTART:20221106T070000
END:STANDARD
BEGIN:DAYLIGHT
TZOFFSETFROM:-0600
TZOFFSETTO:-0500
TZNAME:CDT
DTSTART:20230312T080000
END:DAYLIGHT
BEGIN:STANDARD
TZOFFSETFROM:-0500
TZOFFSETTO:-0600
TZNAME:CST
DTSTART:20231105T070000
END:STANDARD
BEGIN:DAYLIGHT
TZOFFSETFROM:-0600
TZOFFSETTO:-0500
TZNAME:CDT
DTSTART:20240310T080000
END:DAYLIGHT
BEGIN:STANDARD
TZOFFSETFROM:-0500
TZOFFSETTO:-0600
TZNAME:CST
DTSTART:20241103T070000
END:STANDARD
BEGIN:DAYLIGHT
TZOFFSETFROM:-0600
TZOFFSETTO:-0500
TZNAME:CDT
DTSTART:20250309T080000
END:DAYLIGHT
BEGIN:STANDARD
TZOFFSETFROM:-0500
TZOFFSETTO:-0600
TZNAME:CST
DTSTART:20251102T070000
END:STANDARD
END:VTIMEZONE
BEGIN:VTIMEZONE
TZID:UTC
BEGIN:STANDARD
TZOFFSETFROM:+0000
TZOFFSETTO:+0000
TZNAME:UTC
DTSTART:20230101T000000
END:STANDARD
END:VTIMEZONE
BEGIN:VEVENT
DTSTART;TZID=America/Chicago:20231222T180000
DTEND;TZID=America/Chicago:20231222T190000
DTSTAMP:20260419T181017
CREATED:20231212T150842Z
LAST-MODIFIED:20231212T151053Z
UID:3697-1703268000-1703271600@bowietxchamber.org
SUMMARY:Christmas performance "A Christmas Carol"
DESCRIPTION:Christmas performance tickets on sale now\n\n\n\n\n  \n\n\n\n\n\n\n\n\n\n\n\nThe beloved tale of “A Christmas Carol” by Charles Dickens comes to life just in time for the holidays presented by the Bowie Alliance for Education and the Arts with three shows Dec. 22 and 23. \nTickets are $10 plus a service fee. The show will be 6 p.m. on Dec. 22 and noon and 6 p.m. on Dec. 23\, at the junior high auditorium. For tickets go to bowieallianceforeducationand thearts.com/events-1. \n“A Christmas Carol” is a story of revelation and redemption for the crotchy Ebenezer Scrooge\, who is visited by three ghosts of Christmas as they force him to confront his life. The play is directed and arranged by Melanie Stott. \nTickets to A Christmas Carol\n\n\n\n 
URL:https://bowietxchamber.org/event/christmas-performance-a-christmas-carol/
END:VEVENT
BEGIN:VEVENT
DTSTART;TZID=America/Chicago:20231223T120000
DTEND;TZID=America/Chicago:20231223T130000
DTSTAMP:20260419T181017
CREATED:20231212T151149Z
LAST-MODIFIED:20231212T151149Z
UID:3700-1703332800-1703336400@bowietxchamber.org
SUMMARY:Christmas performance "A Christmas Carol"
DESCRIPTION:Christmas performance tickets on sale now\n\n\n\n\n  \n\n\n\n\n\n\n\n\n\n\n\nThe beloved tale of “A Christmas Carol” by Charles Dickens comes to life just in time for the holidays presented by the Bowie Alliance for Education and the Arts with three shows Dec. 22 and 23. \nTickets are $10 plus a service fee. The show will be 6 p.m. on Dec. 22 and noon and 6 p.m. on Dec. 23\, at the junior high auditorium. For tickets go to bowieallianceforeducationand thearts.com/events-1. \n“A Christmas Carol” is a story of revelation and redemption for the crotchy Ebenezer Scrooge\, who is visited by three ghosts of Christmas as they force him to confront his life. The play is directed and arranged by Melanie Stott. \nTickets to A Christmas Carol\n\n\n\n 
URL:https://bowietxchamber.org/event/christmas-performance-a-christmas-carol-2/
END:VEVENT
BEGIN:VEVENT
DTSTART;TZID=America/Chicago:20231223T180000
DTEND;TZID=America/Chicago:20231223T190000
DTSTAMP:20260419T181017
CREATED:20231212T151220Z
LAST-MODIFIED:20231212T151220Z
UID:3702-1703354400-1703358000@bowietxchamber.org
SUMMARY:Christmas performance "A Christmas Carol"
DESCRIPTION:Christmas performance tickets on sale now\n\n\n\n\n  \n\n\n\n\n\n\n\n\n\n\n\nThe beloved tale of “A Christmas Carol” by Charles Dickens comes to life just in time for the holidays presented by the Bowie Alliance for Education and the Arts with three shows Dec. 22 and 23. \nTickets are $10 plus a service fee. The show will be 6 p.m. on Dec. 22 and noon and 6 p.m. on Dec. 23\, at the junior high auditorium. For tickets go to bowieallianceforeducationand thearts.com/events-1. \n“A Christmas Carol” is a story of revelation and redemption for the crotchy Ebenezer Scrooge\, who is visited by three ghosts of Christmas as they force him to confront his life. The play is directed and arranged by Melanie Stott. \nTickets to A Christmas Carol\n\n\n\n 
URL:https://bowietxchamber.org/event/christmas-performance-a-christmas-carol-3/
END:VEVENT
BEGIN:VEVENT
DTSTART;TZID=America/Chicago:20231231T200000
DTEND;TZID=America/Chicago:20231231T233000
DTSTAMP:20260419T181017
CREATED:20231130T144613Z
LAST-MODIFIED:20231130T144642Z
UID:3624-1704052800-1704065400@bowietxchamber.org
SUMMARY:New Years Eve Dance 2023 Presented By Bowie Community Center
DESCRIPTION:Bowie Community Center presents \nNew Years Eve Dance 2023 \nDecember 31\, 2023 \nStarts: 8:00 PM \nDoors Open 7:30 PM \nGeneral Admission: $20 \nTables: $160 \nGuest Entertainment: Shane Vandiver & The Nitelife Band \nBYOB \n413 Pelham St. \nBowie TX\, 76230 \nCall Bonnie for tickets at 940-872-4861 or 940-841-1550 \n 
URL:https://bowietxchamber.org/event/new-years-eve-dance-2023-presented-by-bowie-community-center/
END:VEVENT
BEGIN:VEVENT
DTSTART;TZID=America/Chicago:20240102T180000
DTEND;TZID=America/Chicago:20240102T200000
DTSTAMP:20260419T181017
CREATED:20231212T152934Z
LAST-MODIFIED:20231212T153000Z
UID:3715-1704218400-1704225600@bowietxchamber.org
SUMMARY:Piston Heads Auto Club
DESCRIPTION:1st Tuesday of the Mont at Wellington State Bank \n6:00 PM Board Meeting \n6:30 PM Social Time \n7:00 PM General Meeting
URL:https://bowietxchamber.org/event/piston-heads-auto-club/
END:VEVENT
BEGIN:VEVENT
DTSTART;TZID=UTC:20240105T080000
DTEND;TZID=UTC:20240107T170000
DTSTAMP:20260419T181017
CREATED:20240214T143822Z
LAST-MODIFIED:20240214T143822Z
UID:3897-1704441600-1704646800@bowietxchamber.org
SUMMARY:2nd Monday Trade Days
DESCRIPTION:Second Monday Trade Days is open rain sleet or snow on the weekend of the Second Monday every month — The Friday\, Saturday & Sunday preceding the second Monday of each Month.
URL:https://bowietxchamber.org/event/2nd-monday-trade-days-7/
LOCATION:2nd Monday Trade Days\, 414 Pelham St.\, Bowie\, TX\, 76230\, United States
CATEGORIES:2nd Monday Trade Days
ORGANIZER;CN="Bonnie Kinder":MAILTO:communitycenter@cityofbowietx.com
END:VEVENT
BEGIN:VEVENT
DTSTART;TZID=America/Chicago:20240122T180000
DTEND;TZID=America/Chicago:20240122T210000
DTSTAMP:20260419T181017
CREATED:20231229T193631Z
LAST-MODIFIED:20231229T193631Z
UID:3778-1705946400-1705957200@bowietxchamber.org
SUMMARY:Annual Bowie Chamber Banquet
DESCRIPTION:Annual Bowie Chamber Banquet \nMonday January 22 \nDoors open 6:00 Pm: for social hour \nBanquet doors open 6:40 Pm: for seating \nBowie Community Center \n413 Pelham Street \nBowie\, Texas
URL:https://bowietxchamber.org/event/annual-bowie-chamber-banquet/
LOCATION:Bowie Community Center\, 413 Pelham St\, Bowie\, TX\, 76230\, United States
END:VEVENT
BEGIN:VEVENT
DTSTART;TZID=America/Chicago:20240206T180000
DTEND;TZID=America/Chicago:20240206T200000
DTSTAMP:20260419T181017
CREATED:20231212T153358Z
LAST-MODIFIED:20231212T153358Z
UID:3721-1707242400-1707249600@bowietxchamber.org
SUMMARY:Piston Heads Auto Club
DESCRIPTION:1st Tuesday of the Mont at Wellington State Bank \n6:00 PM Board Meeting \n6:30 PM Social Time \n7:00 PM General Meeting
URL:https://bowietxchamber.org/event/piston-heads-auto-club-2/
END:VEVENT
BEGIN:VEVENT
DTSTART;VALUE=DATE:20240209
DTEND;VALUE=DATE:20240212
DTSTAMP:20260419T181017
CREATED:20240214T143857Z
LAST-MODIFIED:20240214T143857Z
UID:3899-1707436800-1707695999@bowietxchamber.org
SUMMARY:2nd Monday Trade Days
DESCRIPTION:Second Monday Trade Days is open rain sleet or snow on the weekend of the Second Monday every month — The Friday\, Saturday & Sunday preceding the second Monday of each Month.
URL:https://bowietxchamber.org/event/2nd-monday-trade-days-8/
LOCATION:2nd Monday Trade Days\, 414 Pelham St.\, Bowie\, TX\, 76230\, United States
CATEGORIES:2nd Monday Trade Days
ORGANIZER;CN="Bonnie Kinder":MAILTO:communitycenter@cityofbowietx.com
END:VEVENT
BEGIN:VEVENT
DTSTART;TZID=America/Chicago:20240224T100000
DTEND;TZID=America/Chicago:20240224T160000
DTSTAMP:20260419T181017
CREATED:20231212T152341Z
LAST-MODIFIED:20231212T152447Z
UID:3712-1708768800-1708790400@bowietxchamber.org
SUMMARY:Tiny Human Shindig
DESCRIPTION:February 24 \n10 AM – 4 PM \nAt Bowie Community Center
URL:https://bowietxchamber.org/event/tiny-human-shindig/
LOCATION:Bowie Community Center\, 413 Pelham St\, Bowie\, TX\, 76230\, United States
END:VEVENT
BEGIN:VEVENT
DTSTART;TZID=America/Chicago:20240227T073000
DTEND;TZID=America/Chicago:20240227T093000
DTSTAMP:20260419T181017
CREATED:20240214T141638Z
LAST-MODIFIED:20240214T141638Z
UID:3873-1709019000-1709026200@bowietxchamber.org
SUMMARY:The Bowie Business Boost
DESCRIPTION:Customer Engagement Through Modern Storytelling Session One \nTuesday\, Feburary 27 \nBreakfast 7:30 am \nPresentation 8 am to 9:30 am \n413 Pelham Street \nBowie\, Texas 76230
URL:https://bowietxchamber.org/event/the-bowie-business-boost/
END:VEVENT
BEGIN:VEVENT
DTSTART;TZID=America/Chicago:20240302T100000
DTEND;TZID=America/Chicago:20240302T180000
DTSTAMP:20260419T181017
CREATED:20240227T184523Z
LAST-MODIFIED:20240227T184913Z
UID:4207-1709373600-1709402400@bowietxchamber.org
SUMMARY:Davis & Blevins Gallery
DESCRIPTION:Davis & Blevins Gallery \nFeaturing 9 Amazing Artists \n\n\nDavis & Blevins Gallery\n228 Wagner Rd\nSaint Jo\, TX 76265\n10:00 pm – 6:00 pm Saturday\n12:00 pm – 4:00 pm Sunday\n(214) 505-8916
URL:https://bowietxchamber.org/event/davis-blevins-gallery/
END:VEVENT
BEGIN:VEVENT
DTSTART;TZID=America/Chicago:20240303T123000
DTEND;TZID=America/Chicago:20240303T160000
DTSTAMP:20260419T181017
CREATED:20240227T185107Z
LAST-MODIFIED:20240227T185107Z
UID:4212-1709469000-1709481600@bowietxchamber.org
SUMMARY:Davis & Blevins Gallery
DESCRIPTION:Davis & Blevins Gallery \nFeaturing 9 Amazing Artists \n\n\nDavis & Blevins Gallery\n228 Wagner Rd\nSaint Jo\, TX 76265\n10:00 am – 6:00 pm Saturday\n12:00 pm – 4:00 pm Sunday\n(214) 505-8916
URL:https://bowietxchamber.org/event/davis-blevins-gallery-2/
END:VEVENT
BEGIN:VEVENT
DTSTART;TZID=America/Chicago:20240305T180000
DTEND;TZID=America/Chicago:20240305T200000
DTSTAMP:20260419T181017
CREATED:20231212T153421Z
LAST-MODIFIED:20231212T153421Z
UID:3723-1709661600-1709668800@bowietxchamber.org
SUMMARY:Piston Heads Auto Club
DESCRIPTION:1st Tuesday of the Mont at Wellington State Bank \n6:00 PM Board Meeting \n6:30 PM Social Time \n7:00 PM General Meeting
URL:https://bowietxchamber.org/event/piston-heads-auto-club-3/
END:VEVENT
BEGIN:VEVENT
DTSTART;VALUE=DATE:20240308
DTEND;VALUE=DATE:20240311
DTSTAMP:20260419T181017
CREATED:20240214T143917Z
LAST-MODIFIED:20240214T143917Z
UID:3901-1709856000-1710115199@bowietxchamber.org
SUMMARY:2nd Monday Trade Days
DESCRIPTION:Second Monday Trade Days is open rain sleet or snow on the weekend of the Second Monday every month — The Friday\, Saturday & Sunday preceding the second Monday of each Month.
URL:https://bowietxchamber.org/event/2nd-monday-trade-days-9/
LOCATION:2nd Monday Trade Days\, 414 Pelham St.\, Bowie\, TX\, 76230\, United States
CATEGORIES:2nd Monday Trade Days
ORGANIZER;CN="Bonnie Kinder":MAILTO:communitycenter@cityofbowietx.com
END:VEVENT
BEGIN:VEVENT
DTSTART;TZID=America/Chicago:20240315T170000
DTEND;TZID=America/Chicago:20240315T210000
DTSTAMP:20260419T181017
CREATED:20231212T161216Z
LAST-MODIFIED:20231212T161216Z
UID:3744-1710522000-1710536400@bowietxchamber.org
SUMMARY:Sip & Stroll
DESCRIPTION:
URL:https://bowietxchamber.org/event/sip-stroll-5/
END:VEVENT
BEGIN:VEVENT
DTSTART;TZID=America/Chicago:20240319T073000
DTEND;TZID=America/Chicago:20240319T093000
DTSTAMP:20260419T181017
CREATED:20240214T143006Z
LAST-MODIFIED:20240214T143006Z
UID:3885-1710833400-1710840600@bowietxchamber.org
SUMMARY:The Bowie Business Boost
DESCRIPTION:The Bowie Business Boost \nBreakfast 7:30 am Presentation 8 am to 9:30 am \n713 Pelham Street \nBowie\, TX 76230
URL:https://bowietxchamber.org/event/the-bowie-business-boost-4/
END:VEVENT
BEGIN:VEVENT
DTSTART;TZID=America/Chicago:20240402T180000
DTEND;TZID=America/Chicago:20240402T200000
DTSTAMP:20260419T181017
CREATED:20231212T153444Z
LAST-MODIFIED:20231212T153444Z
UID:3725-1712080800-1712088000@bowietxchamber.org
SUMMARY:Piston Heads Auto Club
DESCRIPTION:1st Tuesday of the Mont at Wellington State Bank \n6:00 PM Board Meeting \n6:30 PM Social Time \n7:00 PM General Meeting
URL:https://bowietxchamber.org/event/piston-heads-auto-club-4/
END:VEVENT
BEGIN:VEVENT
DTSTART;VALUE=DATE:20240405
DTEND;VALUE=DATE:20240408
DTSTAMP:20260419T181017
CREATED:20240214T143937Z
LAST-MODIFIED:20240214T143937Z
UID:3903-1712275200-1712534399@bowietxchamber.org
SUMMARY:2nd Monday Trade Days
DESCRIPTION:Second Monday Trade Days is open rain sleet or snow on the weekend of the Second Monday every month — The Friday\, Saturday & Sunday preceding the second Monday of each Month.
URL:https://bowietxchamber.org/event/2nd-monday-trade-days-10/
LOCATION:2nd Monday Trade Days\, 414 Pelham St.\, Bowie\, TX\, 76230\, United States
CATEGORIES:2nd Monday Trade Days
ORGANIZER;CN="Bonnie Kinder":MAILTO:communitycenter@cityofbowietx.com
END:VEVENT
BEGIN:VEVENT
DTSTART;TZID=America/Chicago:20240411T113000
DTEND;TZID=America/Chicago:20240411T123000
DTSTAMP:20260419T181017
CREATED:20240409T134710Z
LAST-MODIFIED:20240409T134735Z
UID:4368-1712835000-1712838600@bowietxchamber.org
SUMMARY:Texas Community Futures Forum
DESCRIPTION:Texas Community Futures Forum \nApril 11th\, 2024 \n11:30 Am \nMontague County Courthouse Annex \n11339 Tx-59 \nMontague\, TX 76251
URL:https://bowietxchamber.org/event/texas-community-futures-forum/
END:VEVENT
BEGIN:VEVENT
DTSTART;TZID=America/Chicago:20240413T090000
DTEND;TZID=America/Chicago:20240413T130000
DTSTAMP:20260419T181017
CREATED:20240409T134311Z
LAST-MODIFIED:20240409T134311Z
UID:4361-1712998800-1713013200@bowietxchamber.org
SUMMARY:Free: Shred-A-Thon
DESCRIPTION:Free: Shred-A-Thon \nSaturday\, April 13th \nSponsored by Wellington State Bank \n1301 Hwy 59 N. \n9:00 am – 1:00 pm \nAny Donations will be sent to Bowie Rural Fire Department
URL:https://bowietxchamber.org/event/free-shred-a-thon-2/
END:VEVENT
BEGIN:VEVENT
DTSTART;TZID=America/Chicago:20240413T090000
DTEND;TZID=America/Chicago:20240413T140000
DTSTAMP:20260419T181017
CREATED:20240409T134421Z
LAST-MODIFIED:20240409T134421Z
UID:4364-1712998800-1713016800@bowietxchamber.org
SUMMARY:Computer Recycling Day
DESCRIPTION:Computer Recycling Day! \nSaturday\, April 13\, 2023 \n9:00 am – 2:00 pm \nBowie City Hall Parking Lot \n307 N. Mason Street \n 
URL:https://bowietxchamber.org/event/computer-recycling-day-2/
END:VEVENT
BEGIN:VEVENT
DTSTART;TZID=America/Chicago:20240416T073000
DTEND;TZID=America/Chicago:20240416T093000
DTSTAMP:20260419T181017
CREATED:20240214T142856Z
LAST-MODIFIED:20240214T143028Z
UID:3880-1713252600-1713259800@bowietxchamber.org
SUMMARY:The Bowie Business Boost
DESCRIPTION:The Bowie Business Boost \nBreakfast 7:30 am Presentation 8 am to 9:30 am \n713 Pelham Street \nBowie\, TX 76230
URL:https://bowietxchamber.org/event/the-bowie-business-boost-2/
END:VEVENT
BEGIN:VEVENT
DTSTART;TZID=America/Chicago:20240420T080000
DTEND;TZID=America/Chicago:20240420T140000
DTSTAMP:20260419T181017
CREATED:20240409T135233Z
LAST-MODIFIED:20240409T135233Z
UID:4374-1713600000-1713621600@bowietxchamber.org
SUMMARY:Farmers Market
DESCRIPTION:April 20th \n8 Am to 2 Pm \nFlying Horse RV Park \n4701 FM 1125 \nBowie\, TX 76230
URL:https://bowietxchamber.org/event/farmers-market/
END:VEVENT
BEGIN:VEVENT
DTSTART;TZID=America/Chicago:20240420T140000
DTEND;TZID=America/Chicago:20240420T180000
DTSTAMP:20260419T181017
CREATED:20240409T135007Z
LAST-MODIFIED:20240409T135007Z
UID:4371-1713621600-1713636000@bowietxchamber.org
SUMMARY:Spring In Bowie 5K Walk/Run
DESCRIPTION:Spring In Bowie 5K Walk/Run \nApril 20th\, 2024 \nPre-Race Warm-Up 8:30 Am \nPelham Park \n413 Pelham Rd \nBowie\, TX 76230
URL:https://bowietxchamber.org/event/spring-in-bowie-5k-walk-run/
END:VEVENT
BEGIN:VEVENT
DTSTART;TZID=America/Chicago:20240423T185000
DTEND;TZID=America/Chicago:20240423T193000
DTSTAMP:20260419T181017
CREATED:20240409T141225Z
LAST-MODIFIED:20240409T141225Z
UID:4377-1713898200-1713900600@bowietxchamber.org
SUMMARY:Re-Imagine Your Shadow Self
DESCRIPTION:April 23\, 2024 \n6:50 Pm \nBowie Community Center\, East Hall \n$25 per person
URL:https://bowietxchamber.org/event/re-imagine-your-shadow-self/
END:VEVENT
BEGIN:VEVENT
DTSTART;TZID=America/Chicago:20240424T083000
DTEND;TZID=America/Chicago:20240424T093000
DTSTAMP:20260419T181017
CREATED:20240409T141458Z
LAST-MODIFIED:20240409T141458Z
UID:4380-1713947400-1713951000@bowietxchamber.org
SUMMARY:Glazed and Confused
DESCRIPTION:Glazed and Confused about the home buying process? \nHome Buying Seminar \nApril 24th\, 2024 \n8:30 Am – 9:30 Am \nBowie Community Center
URL:https://bowietxchamber.org/event/glazed-and-confused/
END:VEVENT
BEGIN:VEVENT
DTSTART;VALUE=DATE:20240426
DTEND;VALUE=DATE:20240428
DTSTAMP:20260419T181017
CREATED:20240416T144249Z
LAST-MODIFIED:20240416T144424Z
UID:4424-1714089600-1714262399@bowietxchamber.org
SUMMARY:Bowie City Wide Garage Sale
DESCRIPTION:Bowie City Wide Garage Sale \nNo Permits Required
URL:https://bowietxchamber.org/event/bowie-city-wide-garage-sale/
END:VEVENT
BEGIN:VEVENT
DTSTART;TZID=America/Chicago:20240426T080000
DTEND;TZID=America/Chicago:20240426T120000
DTSTAMP:20260419T181017
CREATED:20240415T160406Z
LAST-MODIFIED:20240415T161523Z
UID:4409-1714118400-1714132800@bowietxchamber.org
SUMMARY:Bowie Health and Resource Fair
DESCRIPTION:Sign up to be a vendor at: \nhttps://form.jotform.com/240778215966064
URL:https://bowietxchamber.org/event/bowie-health-and-resource-fair/
LOCATION:Faith Community Hospital – Bowie ER\, 705 East Greenwood Ave\, Bowie\, TX\, 76230\, United States
CATEGORIES:Health
ORGANIZER;CN="Melanie Belcher":MAILTO:mbelcher@fchtexas.com
END:VEVENT
BEGIN:VEVENT
DTSTART;TZID=America/Chicago:20240427T073000
DTEND;TZID=America/Chicago:20240427T100000
DTSTAMP:20260419T181017
CREATED:20240416T144519Z
LAST-MODIFIED:20240416T144519Z
UID:4427-1714203000-1714212000@bowietxchamber.org
SUMMARY:Bowie Senior Citizens Center all you can eat breakfast
DESCRIPTION:Bowie Senior Citizens Center all you can eat breakfast \nSaturday\, April 27\, 2024 from 7:30-10 a.m. \nat the Bowie Senior Citizens Center
URL:https://bowietxchamber.org/event/bowie-senior-citizens-center-all-you-can-eat-breakfast/
END:VEVENT
END:VCALENDAR