BEGIN:VCALENDAR
VERSION:2.0
PRODID:-//Bowie TX Chamber of Commerce - ECPv6.15.20//NONSGML v1.0//EN
CALSCALE:GREGORIAN
METHOD:PUBLISH
X-WR-CALNAME:Bowie TX Chamber of Commerce
X-ORIGINAL-URL:https://bowietxchamber.org
X-WR-CALDESC:Events for Bowie TX Chamber of Commerce
REFRESH-INTERVAL;VALUE=DURATION:PT1H
X-Robots-Tag:noindex
X-PUBLISHED-TTL:PT1H
BEGIN:VTIMEZONE
TZID:America/Chicago
BEGIN:DAYLIGHT
TZOFFSETFROM:-0600
TZOFFSETTO:-0500
TZNAME:CDT
DTSTART:20220313T080000
END:DAYLIGHT
BEGIN:STANDARD
TZOFFSETFROM:-0500
TZOFFSETTO:-0600
TZNAME:CST
DTSTART:20221106T070000
END:STANDARD
BEGIN:DAYLIGHT
TZOFFSETFROM:-0600
TZOFFSETTO:-0500
TZNAME:CDT
DTSTART:20230312T080000
END:DAYLIGHT
BEGIN:STANDARD
TZOFFSETFROM:-0500
TZOFFSETTO:-0600
TZNAME:CST
DTSTART:20231105T070000
END:STANDARD
BEGIN:DAYLIGHT
TZOFFSETFROM:-0600
TZOFFSETTO:-0500
TZNAME:CDT
DTSTART:20240310T080000
END:DAYLIGHT
BEGIN:STANDARD
TZOFFSETFROM:-0500
TZOFFSETTO:-0600
TZNAME:CST
DTSTART:20241103T070000
END:STANDARD
END:VTIMEZONE
BEGIN:VTIMEZONE
TZID:UTC
BEGIN:STANDARD
TZOFFSETFROM:+0000
TZOFFSETTO:+0000
TZNAME:UTC
DTSTART:20220101T000000
END:STANDARD
END:VTIMEZONE
BEGIN:VEVENT
DTSTART;VALUE=DATE:20230620
DTEND;VALUE=DATE:20230621
DTSTAMP:20260419T143741
CREATED:20230601T193019Z
LAST-MODIFIED:20230601T193143Z
UID:2522-1687219200-1687305599@bowietxchamber.org
SUMMARY:Jim Bowie Days
DESCRIPTION:
URL:https://bowietxchamber.org/event/jim-bowie-days-copy-3/
END:VEVENT
BEGIN:VEVENT
DTSTART;VALUE=DATE:20230619
DTEND;VALUE=DATE:20230620
DTSTAMP:20260419T143741
CREATED:20230601T193008Z
LAST-MODIFIED:20230601T193138Z
UID:2521-1687132800-1687219199@bowietxchamber.org
SUMMARY:Jim Bowie Days
DESCRIPTION:
URL:https://bowietxchamber.org/event/jim-bowie-days-copy-2/
END:VEVENT
BEGIN:VEVENT
DTSTART;VALUE=DATE:20230618
DTEND;VALUE=DATE:20230619
DTSTAMP:20260419T143741
CREATED:20230601T191823Z
LAST-MODIFIED:20230601T192919Z
UID:2514-1687046400-1687132799@bowietxchamber.org
SUMMARY:Jim Bowie Days
DESCRIPTION:
URL:https://bowietxchamber.org/event/jim-bowie-days/
END:VEVENT
BEGIN:VEVENT
DTSTART;VALUE=DATE:20230617
DTEND;VALUE=DATE:20230618
DTSTAMP:20260419T143741
CREATED:20230601T192901Z
LAST-MODIFIED:20230601T192958Z
UID:2519-1686960000-1687046399@bowietxchamber.org
SUMMARY:Jim Bowie Days
DESCRIPTION:
URL:https://bowietxchamber.org/event/jim-bowie-days-copy/
END:VEVENT
BEGIN:VEVENT
DTSTART;TZID=America/Chicago:20230616T173000
DTEND;TZID=America/Chicago:20230616T190000
DTSTAMP:20260419T143741
CREATED:20230602T140013Z
LAST-MODIFIED:20230602T140213Z
UID:2543-1686936600-1686942000@bowietxchamber.org
SUMMARY:Ribbon Cutting: Reviving Real Foods
DESCRIPTION:Who doesn’t love these adorable kids!? It is time for some GOAT YOGA with Reviving Real Food and Good Vibes Yoga Studio. \nWe love with two of our Chamber members team up for wonderful cross promotion and FUN! \nReviving Real Foods will be holding a ribbon cutting on Friday evening\, June 16\, 2023\, from 5:30 p.m. to 7 pm. at 359 Lama Rd. Bowie\, Texas 76230 at their ranch. \nAt 6 p.m. guests can start acclimating with the goats\, and yoga will start at 6:30 p.m. Please come dressed accordingly if you plan to participate. \nPlease contact Charlotte with Good Vibes to sign up for the Yoga by calling 940.232.1592
URL:https://bowietxchamber.org/event/ribbon-cutting-reviving-real-foods/
ATTACH;FMTTYPE=image/jpeg:https://bowietxchamber.org/wp-content/uploads/2023/06/goat-yoga.jpg
END:VEVENT
BEGIN:VEVENT
DTSTART;TZID=America/Chicago:20230615T073000
DTEND;TZID=America/Chicago:20230615T213000
DTSTAMP:20260419T143741
CREATED:20230602T141550Z
LAST-MODIFIED:20230602T141550Z
UID:2550-1686814200-1686864600@bowietxchamber.org
SUMMARY:Happy Feet Classic Golf Tournament
DESCRIPTION:12th Annual Bowie Rotarty Club Happy Feet Classic Golf Tournament \nSign up starts at 7:30 AM \nTee off at 8:00 AM
URL:https://bowietxchamber.org/event/happy-feet-classic-golf-tournament/
END:VEVENT
BEGIN:VEVENT
DTSTART;TZID=UTC:20230613T120000
DTEND;TZID=UTC:20230613T130000
DTSTAMP:20260419T143741
CREATED:20221230T172548Z
LAST-MODIFIED:20221230T172611Z
UID:2070-1686657600-1686661200@bowietxchamber.org
SUMMARY:Chamber Board Meeting
DESCRIPTION:Monthly Bowie Chamber of Commerce Board of Directors Meeting. General board meetings are open to the public; however\, if someone has the desire to speak to the board\, please speak to the director of the chamber to be placed on the agenda at least 8 days prior to the meeting.
URL:https://bowietxchamber.org/event/chamber-board-meeting-6-copy/
LOCATION:Chamber of Commerce – EDC Building\, 101 E. Pecan St\, Bowie\, TX\, 76230\, United States
CATEGORIES:Chamber Board Meetings
ORGANIZER;CN="Debbie Herriage":MAILTO:info@bowietxchamber.org
END:VEVENT
BEGIN:VEVENT
DTSTART;TZID=America/Chicago:20230613T100000
DTEND;TZID=America/Chicago:20230613T110000
DTSTAMP:20260419T143741
CREATED:20230602T142333Z
LAST-MODIFIED:20230602T142333Z
UID:2562-1686650400-1686654000@bowietxchamber.org
SUMMARY:All Together Now: Field Day
DESCRIPTION:
URL:https://bowietxchamber.org/event/all-together-now-field-day/
LOCATION:Bowie Community Center\, 413 Pelham St\, Bowie\, TX\, 76230\, United States
CATEGORIES:All Together Now
END:VEVENT
BEGIN:VEVENT
DTSTART;TZID=America/Chicago:20230609T120000
DTEND;TZID=America/Chicago:20230609T130000
DTSTAMP:20260419T143741
CREATED:20230602T135841Z
LAST-MODIFIED:20230602T135841Z
UID:2541-1686312000-1686315600@bowietxchamber.org
SUMMARY:Ribbon Cutting: Rustic Rose
DESCRIPTION:Rustic Rose will host a ribbon cutting with the Bowie Chamber of Commerce  \nFriday\, June 9\, 2023 at noon in downtown \n 218 North Mason Street\,  \nBowie\, Texas
URL:https://bowietxchamber.org/event/ribbon-cutting-rustic-rose/
CATEGORIES:Ribbon Cutting
END:VEVENT
BEGIN:VEVENT
DTSTART;TZID=America/Chicago:20230609T080000
DTEND;TZID=America/Chicago:20230611T170000
DTSTAMP:20260419T143741
CREATED:20230602T140446Z
LAST-MODIFIED:20230602T140529Z
UID:2546-1686297600-1686502800@bowietxchamber.org
SUMMARY:Bowie BMX Texas State Qualifier Race
DESCRIPTION:June 9 – 11 \n\n9th 6 – 9 PM\n10th 4 – 8 PM\n11th 9:30 2 PM\n\n801 S. Mill St. \nBowie TX \n76230 \n 
URL:https://bowietxchamber.org/event/bowie-bmx-texas-state-qualifier-race/
END:VEVENT
BEGIN:VEVENT
DTSTART;TZID=UTC:20230609T080000
DTEND;TZID=UTC:20230611T170000
DTSTAMP:20260419T143741
CREATED:20221230T173654Z
LAST-MODIFIED:20221230T174410Z
UID:2091-1686297600-1686502800@bowietxchamber.org
SUMMARY:2nd Monday Trade Days
DESCRIPTION:Second Monday Trade Days is open rain sleet or snow on the weekend of the Second Monday every month — The Friday\, Saturday & Sunday preceding the second Monday of each Month.
URL:https://bowietxchamber.org/event/2nd-monday-trade-days-6f/
LOCATION:2nd Monday Trade Days\, 414 Pelham St.\, Bowie\, TX\, 76230\, United States
CATEGORIES:2nd Monday Trade Days
ORGANIZER;CN="Bonnie Kinder":MAILTO:communitycenter@cityofbowietx.com
END:VEVENT
BEGIN:VEVENT
DTSTART;TZID=America/Chicago:20230606T100000
DTEND;TZID=America/Chicago:20230606T110000
DTSTAMP:20260419T143741
CREATED:20230602T142222Z
LAST-MODIFIED:20230602T142222Z
UID:2559-1686045600-1686049200@bowietxchamber.org
SUMMARY:All Together Now: Patriotic Patty
DESCRIPTION:
URL:https://bowietxchamber.org/event/all-together-now-patriotic-patty/
LOCATION:Bowie Community Center\, 413 Pelham St\, Bowie\, TX\, 76230\, United States
CATEGORIES:All Together Now
END:VEVENT
BEGIN:VEVENT
DTSTART;TZID=America/Chicago:20230603T080000
DTEND;TZID=America/Chicago:20230603T100000
DTSTAMP:20260419T143741
CREATED:20230602T141832Z
LAST-MODIFIED:20230602T141832Z
UID:2556-1685779200-1685786400@bowietxchamber.org
SUMMARY:Bowie Lions Club 4 Person Golf Scramble
DESCRIPTION:
URL:https://bowietxchamber.org/event/bowie-lions-club-4-person-golf-scramble/
END:VEVENT
BEGIN:VEVENT
DTSTART;VALUE=DATE:20230603
DTEND;VALUE=DATE:20230604
DTSTAMP:20260419T143741
CREATED:20230602T141700Z
LAST-MODIFIED:20230602T141700Z
UID:2553-1685750400-1685836799@bowietxchamber.org
SUMMARY:Painting Raffle
DESCRIPTION:
URL:https://bowietxchamber.org/event/painting-raffle/
END:VEVENT
BEGIN:VEVENT
DTSTART;TZID=America/Chicago:20230601T170000
DTEND;TZID=America/Chicago:20230601T200000
DTSTAMP:20260419T143741
CREATED:20230302T161248Z
LAST-MODIFIED:20230302T161337Z
UID:2261-1685638800-1685649600@bowietxchamber.org
SUMMARY:Game Night at the Bowie Community Center
DESCRIPTION:The First Thursday of Every Month \n6 – 8 pm \nAges 21 and over. \nDominos\, Yahtzee\, Farkle\, Cards\, Scrabble\, Monopoly\, and more. \nPotluck bring enough to share. \nBring drink of your choice. \nFree water and coffee. \nFore more info call Bonnie \n940-872-4861 \n940-841-1550 \nBowie Community Center \n413 Pelham Street \n304 Lindsey \nBowie\, TX 76230
URL:https://bowietxchamber.org/event/game-night-at-the-bowie-community-center-8/
LOCATION:Bowie Community Center\, 413 Pelham St\, Bowie\, TX\, 76230\, United States
END:VEVENT
BEGIN:VEVENT
DTSTART;TZID=America/Chicago:20230516T120000
DTEND;TZID=America/Chicago:20230516T130000
DTSTAMP:20260419T143741
CREATED:20230302T155514Z
LAST-MODIFIED:20230302T155514Z
UID:2243-1684238400-1684242000@bowietxchamber.org
SUMMARY:Lunch and Learn
DESCRIPTION:Lunch and Learn \nTuesday\, May 16th \n413 Pelham St. \nat the Community Center East Hall \n12:00 noon. \nSpeaker Brian Searcy “Patton” Col (Ret) USAF Speak on Situational Awareness Mindset & Behaviors\, Human Trafficking.
URL:https://bowietxchamber.org/event/lunch-and-learn/
END:VEVENT
BEGIN:VEVENT
DTSTART;TZID=America/Chicago:20230512T180000
DTEND;TZID=America/Chicago:20230512T200000
DTSTAMP:20260419T143741
CREATED:20230302T163023Z
LAST-MODIFIED:20230302T163023Z
UID:2281-1683914400-1683921600@bowietxchamber.org
SUMMARY:Sip & Stroll
DESCRIPTION:Sip & Stroll \nDowntown \nBowie\, TX \nMom’s Night Out \nMay 12\, 2023
URL:https://bowietxchamber.org/event/sip-stroll-2/
END:VEVENT
BEGIN:VEVENT
DTSTART;TZID=UTC:20230509T120000
DTEND;TZID=UTC:20230509T130000
DTSTAMP:20260419T143741
CREATED:20221230T172451Z
LAST-MODIFIED:20221230T172526Z
UID:2068-1683633600-1683637200@bowietxchamber.org
SUMMARY:Chamber Board Meeting
DESCRIPTION:Monthly Bowie Chamber of Commerce Board of Directors Meeting. General board meetings are open to the public; however\, if someone has the desire to speak to the board\, please speak to the director of the chamber to be placed on the agenda at least 8 days prior to the meeting.
URL:https://bowietxchamber.org/event/chamber-board-meeting-5-copy/
LOCATION:Chamber of Commerce – EDC Building\, 101 E. Pecan St\, Bowie\, TX\, 76230\, United States
CATEGORIES:Chamber Board Meetings
ORGANIZER;CN="Debbie Herriage":MAILTO:info@bowietxchamber.org
END:VEVENT
BEGIN:VEVENT
DTSTART;TZID=UTC:20230505T080000
DTEND;TZID=UTC:20230507T170000
DTSTAMP:20260419T143741
CREATED:20221230T173649Z
LAST-MODIFIED:20221230T174341Z
UID:2090-1683273600-1683478800@bowietxchamber.org
SUMMARY:2nd Monday Trade Days
DESCRIPTION:Second Monday Trade Days is open rain sleet or snow on the weekend of the Second Monday every month — The Friday\, Saturday & Sunday preceding the second Monday of each Month.
URL:https://bowietxchamber.org/event/2nd-monday-trade-days-6e/
LOCATION:2nd Monday Trade Days\, 414 Pelham St.\, Bowie\, TX\, 76230\, United States
CATEGORIES:2nd Monday Trade Days
ORGANIZER;CN="Bonnie Kinder":MAILTO:communitycenter@cityofbowietx.com
END:VEVENT
BEGIN:VEVENT
DTSTART;TZID=America/Chicago:20230504T170000
DTEND;TZID=America/Chicago:20230504T200000
DTSTAMP:20260419T143741
CREATED:20230302T161242Z
LAST-MODIFIED:20230302T161320Z
UID:2260-1683219600-1683230400@bowietxchamber.org
SUMMARY:Game Night at the Bowie Community
DESCRIPTION:The First Thursday of Every Month \n6 – 8 pm \nAges 21 and over. \nDominos\, Yahtzee\, Farkle\, Cards\, Scrabble\, Monopoly\, and more. \nPotluck bring enough to share. \nBring drink of your choice. \nFree water and coffee. \nFore more info call Bonnie \n940-872-4861 \n940-841-1550 \nBowie Community Center \n413 Pelham Street \n304 Lindsey \nBowie\, TX 76230
URL:https://bowietxchamber.org/event/game-night-at-the-bowie-community-center-7/
LOCATION:Bowie Community Center\, 413 Pelham St\, Bowie\, TX\, 76230\, United States
END:VEVENT
BEGIN:VEVENT
DTSTART;TZID=America/Chicago:20230429T180000
DTEND;TZID=America/Chicago:20230429T190000
DTSTAMP:20260419T143741
CREATED:20230302T165740Z
LAST-MODIFIED:20230302T165836Z
UID:2300-1682791200-1682794800@bowietxchamber.org
SUMMARY:Murder at the Pie Auction
DESCRIPTION:Murder at the Pie Auction \nDon’t miss this Fun night out with Dinner\, a Mystery and Guessing who Done it with Bowie Alliance for Education and the Arts latest performance with Murder at the Pie Auction.\nDon’t forget the live pie auction! All proceeds benefit local students!!!\nFollow the link for tickets. Three shows April 28th and 29th! \nMurder at the Pie Auction ticket link
URL:https://bowietxchamber.org/event/murder-at-the-pie-auction-copy-copy/
END:VEVENT
BEGIN:VEVENT
DTSTART;TZID=America/Chicago:20230429T120000
DTEND;TZID=America/Chicago:20230429T130000
DTSTAMP:20260419T143741
CREATED:20230302T165735Z
LAST-MODIFIED:20230302T165813Z
UID:2299-1682769600-1682773200@bowietxchamber.org
SUMMARY:Murder at the Pie Auction
DESCRIPTION:Murder at the Pie Auction \nDon’t miss this Fun night out with Dinner\, a Mystery and Guessing who Done it with Bowie Alliance for Education and the Arts latest performance with Murder at the Pie Auction.\nDon’t forget the live pie auction! All proceeds benefit local students!!!\nFollow the link for tickets. Three shows April 28th and 29th! \nMurder at the Pie Auction ticket link
URL:https://bowietxchamber.org/event/murder-at-the-pie-auction-copy/
END:VEVENT
BEGIN:VEVENT
DTSTART;VALUE=DATE:20230429
DTEND;VALUE=DATE:20230430
DTSTAMP:20260419T143741
CREATED:20230302T164952Z
LAST-MODIFIED:20230302T165111Z
UID:2290-1682726400-1682812799@bowietxchamber.org
SUMMARY:Chamber Links Golf Tournament
DESCRIPTION:Chamber Links Golf Tournament \nSaturday April 29\, 2023 \nTwisted Oaks Golf Club \n676 Country Club Rd. \nBowie Texas \n940-872-4000
URL:https://bowietxchamber.org/event/chamber-links-golf-tournament-copy/
LOCATION:Top of Lake Country Club\, 676 Country Club Rd\, Bowie\, TX\, 76230\, United States
ORGANIZER;CN="Debbie Herriage":MAILTO:info@bowietxchamber.org
END:VEVENT
BEGIN:VEVENT
DTSTART;TZID=America/Chicago:20230428T190000
DTEND;TZID=America/Chicago:20230428T200000
DTSTAMP:20260419T143741
CREATED:20230302T165716Z
LAST-MODIFIED:20230302T165716Z
UID:2297-1682708400-1682712000@bowietxchamber.org
SUMMARY:Murder at the Pie Auction
DESCRIPTION:Murder at the Pie Auction \nDon’t miss this Fun night out with Dinner\, a Mystery and Guessing who Done it with Bowie Alliance for Education and the Arts latest performance with Murder at the Pie Auction.\nDon’t forget the live pie auction! All proceeds benefit local students!!!\nFollow the link for tickets. Three shows April 28th and 29th! \nMurder at the Pie Auction ticket link
URL:https://bowietxchamber.org/event/murder-at-the-pie-auction/
END:VEVENT
BEGIN:VEVENT
DTSTART;TZID=America/Chicago:20230427T190000
DTEND;TZID=America/Chicago:20230427T200000
DTSTAMP:20260419T143741
CREATED:20230302T165502Z
LAST-MODIFIED:20230302T165502Z
UID:2295-1682622000-1682625600@bowietxchamber.org
SUMMARY:Light Up The Night Free Concert
DESCRIPTION:Light Up The Night Free Concert \nDavid Adam Byrnes \nThursday\, April 27 2023 \nBowie Community Center \n 
URL:https://bowietxchamber.org/event/light-up-the-night-free-concert/
END:VEVENT
BEGIN:VEVENT
DTSTART;TZID=America/Chicago:20230420T120000
DTEND;TZID=America/Chicago:20230420T130000
DTSTAMP:20260419T143741
CREATED:20230302T160215Z
LAST-MODIFIED:20230602T140525Z
UID:2249-1681992000-1681995600@bowietxchamber.org
SUMMARY:Ribbon Cutting: ReBoot Tech Repair
DESCRIPTION:Ribbon Cutting: ReBoot Tech Repair \non Friday\, April 20\, 2023 \nat noon at their new location at 118 \nNorth Mason Street downtown \nBowie\, Texas 76230.
URL:https://bowietxchamber.org/event/ribbon-cutting-reboot-tech-repair/
CATEGORIES:Ribbon Cutting
END:VEVENT
BEGIN:VEVENT
DTSTART;TZID=America/Chicago:20230414T173000
DTEND;TZID=America/Chicago:20230414T190000
DTSTAMP:20260419T143741
CREATED:20230302T160409Z
LAST-MODIFIED:20230302T160409Z
UID:2251-1681493400-1681498800@bowietxchamber.org
SUMMARY:Ribbon Cutting: 5BarBQ
DESCRIPTION:Ribbon Cutting: 5BarBQ \nFriday\, April 14\, 2023 from 5:30-7 p.m. \n106 Crabtree St \nBowie\, TX 76230 (in Stoneburg\, Texas) \nThis event will be BYOB.
URL:https://bowietxchamber.org/event/ribbon-cutting-5barbq/
CATEGORIES:Ribbon Cutting
END:VEVENT
BEGIN:VEVENT
DTSTART;TZID=America/Chicago:20230411T120000
DTEND;TZID=America/Chicago:20230411T130000
DTSTAMP:20260419T143741
CREATED:20221230T172400Z
LAST-MODIFIED:20221230T172429Z
UID:2065-1681214400-1681218000@bowietxchamber.org
SUMMARY:Chamber Board Meeting
DESCRIPTION:Monthly Bowie Chamber of Commerce Board of Directors Meeting. General board meetings are open to the public; however\, if someone has the desire to speak to the board\, please speak to the director of the chamber to be placed on the agenda at least 8 days prior to the meeting.
URL:https://bowietxchamber.org/event/chamber-board-meeting-7-copy-2/
LOCATION:Chamber of Commerce – EDC Building\, 101 E. Pecan St\, Bowie\, TX\, 76230\, United States
CATEGORIES:Chamber Board Meetings
ORGANIZER;CN="Debbie Herriage":MAILTO:info@bowietxchamber.org
END:VEVENT
BEGIN:VEVENT
DTSTART;TZID=America/Chicago:20230407T120000
DTEND;TZID=America/Chicago:20230407T130000
DTSTAMP:20260419T143741
CREATED:20230302T155718Z
LAST-MODIFIED:20230302T160546Z
UID:2246-1680868800-1680872400@bowietxchamber.org
SUMMARY:Ribbon Cutting: Maddox Legacy Cowboy Hats
DESCRIPTION:Ribbon Cutting: Maddox Legacy Cowboy Hats \nFriday\, April 7\, 2023 \n12:00 PM \n103 N Mason Street downtown \nBowie\, Texas 76230. \n  \nOn Saturday\, April 8\, 2023 \nthere will be an official Grand Opening. \nDrop in and welcome our newest downtown business to Bowie\, Texas.
URL:https://bowietxchamber.org/event/ribbon-cutting-maddox-legacy/
CATEGORIES:Ribbon Cutting
END:VEVENT
BEGIN:VEVENT
DTSTART;TZID=UTC:20230407T080000
DTEND;TZID=UTC:20230409T170000
DTSTAMP:20260419T143741
CREATED:20221230T173640Z
LAST-MODIFIED:20221230T174313Z
UID:2089-1680854400-1681059600@bowietxchamber.org
SUMMARY:2nd Monday Trade Days
DESCRIPTION:Second Monday Trade Days is open rain sleet or snow on the weekend of the Second Monday every month — The Friday\, Saturday & Sunday preceding the second Monday of each Month.
URL:https://bowietxchamber.org/event/2nd-monday-trade-days-6d/
LOCATION:2nd Monday Trade Days\, 414 Pelham St.\, Bowie\, TX\, 76230\, United States
CATEGORIES:2nd Monday Trade Days
ORGANIZER;CN="Bonnie Kinder":MAILTO:communitycenter@cityofbowietx.com
END:VEVENT
END:VCALENDAR