BEGIN:VCALENDAR
VERSION:2.0
PRODID:-//Bowie TX Chamber of Commerce - ECPv6.15.20//NONSGML v1.0//EN
CALSCALE:GREGORIAN
METHOD:PUBLISH
X-ORIGINAL-URL:https://bowietxchamber.org
X-WR-CALDESC:Events for Bowie TX Chamber of Commerce
REFRESH-INTERVAL;VALUE=DURATION:PT1H
X-Robots-Tag:noindex
X-PUBLISHED-TTL:PT1H
BEGIN:VTIMEZONE
TZID:America/New_York
BEGIN:DAYLIGHT
TZOFFSETFROM:-0500
TZOFFSETTO:-0400
TZNAME:EDT
DTSTART:20230312T070000
END:DAYLIGHT
BEGIN:STANDARD
TZOFFSETFROM:-0400
TZOFFSETTO:-0500
TZNAME:EST
DTSTART:20231105T060000
END:STANDARD
BEGIN:DAYLIGHT
TZOFFSETFROM:-0500
TZOFFSETTO:-0400
TZNAME:EDT
DTSTART:20240310T070000
END:DAYLIGHT
BEGIN:STANDARD
TZOFFSETFROM:-0400
TZOFFSETTO:-0500
TZNAME:EST
DTSTART:20241103T060000
END:STANDARD
BEGIN:DAYLIGHT
TZOFFSETFROM:-0500
TZOFFSETTO:-0400
TZNAME:EDT
DTSTART:20250309T070000
END:DAYLIGHT
BEGIN:STANDARD
TZOFFSETFROM:-0400
TZOFFSETTO:-0500
TZNAME:EST
DTSTART:20251102T060000
END:STANDARD
END:VTIMEZONE
BEGIN:VTIMEZONE
TZID:America/Chicago
BEGIN:DAYLIGHT
TZOFFSETFROM:-0600
TZOFFSETTO:-0500
TZNAME:CDT
DTSTART:20230312T080000
END:DAYLIGHT
BEGIN:STANDARD
TZOFFSETFROM:-0500
TZOFFSETTO:-0600
TZNAME:CST
DTSTART:20231105T070000
END:STANDARD
BEGIN:DAYLIGHT
TZOFFSETFROM:-0600
TZOFFSETTO:-0500
TZNAME:CDT
DTSTART:20240310T080000
END:DAYLIGHT
BEGIN:STANDARD
TZOFFSETFROM:-0500
TZOFFSETTO:-0600
TZNAME:CST
DTSTART:20241103T070000
END:STANDARD
BEGIN:DAYLIGHT
TZOFFSETFROM:-0600
TZOFFSETTO:-0500
TZNAME:CDT
DTSTART:20250309T080000
END:DAYLIGHT
BEGIN:STANDARD
TZOFFSETFROM:-0500
TZOFFSETTO:-0600
TZNAME:CST
DTSTART:20251102T070000
END:STANDARD
END:VTIMEZONE
BEGIN:VTIMEZONE
TZID:UTC
BEGIN:STANDARD
TZOFFSETFROM:+0000
TZOFFSETTO:+0000
TZNAME:UTC
DTSTART:20230101T000000
END:STANDARD
END:VTIMEZONE
BEGIN:VEVENT
DTSTART;TZID=America/New_York:20240921T080000
DTEND;TZID=America/New_York:20240921T130000
DTSTAMP:20260419T224440
CREATED:20240905T160929Z
LAST-MODIFIED:20240905T160929Z
UID:5149-1726905600-1726923600@bowietxchamber.org
SUMMARY:Chamber Links 2024 Golf Tournament
DESCRIPTION:
URL:https://bowietxchamber.org/event/chamber-links-2024-golf-tournament/
LOCATION:TX
END:VEVENT
BEGIN:VEVENT
DTSTART;TZID=America/New_York:20240929T140000
DTEND;TZID=America/New_York:20240929T163000
DTSTAMP:20260419T224440
CREATED:20240906T161628Z
LAST-MODIFIED:20240906T161628Z
UID:5181-1727618400-1727627400@bowietxchamber.org
SUMMARY:Culpepper & Merriweather Circus
DESCRIPTION:
URL:https://bowietxchamber.org/event/culpepper-merriweather-circus/
LOCATION:TX
END:VEVENT
BEGIN:VEVENT
DTSTART;TZID=America/New_York:20240929T160000
DTEND;TZID=America/New_York:20240929T200000
DTSTAMP:20260419T224440
CREATED:20240906T163452Z
LAST-MODIFIED:20240906T163452Z
UID:5184-1727625600-1727640000@bowietxchamber.org
SUMMARY:Open Mic Night
DESCRIPTION:
URL:https://bowietxchamber.org/event/open-mic-night/
LOCATION:Bowie Community Center\, 413 Pelham St\, Bowie\, TX\, 76230\, United States
ATTACH;FMTTYPE=image/jpeg:https://bowietxchamber.org/wp-content/uploads/2024/09/open-mic-night.jpg
END:VEVENT
BEGIN:VEVENT
DTSTART;TZID=America/Chicago:20241004T170000
DTEND;TZID=America/Chicago:20241004T210000
DTSTAMP:20260419T224440
CREATED:20231212T161356Z
LAST-MODIFIED:20231212T161356Z
UID:3749-1728061200-1728075600@bowietxchamber.org
SUMMARY:Sip & Stroll
DESCRIPTION:
URL:https://bowietxchamber.org/event/sip-stroll-7/
LOCATION:TX
END:VEVENT
BEGIN:VEVENT
DTSTART;TZID=America/New_York:20241005T100000
DTEND;TZID=America/New_York:20241005T160000
DTSTAMP:20260419T224440
CREATED:20240906T172102Z
LAST-MODIFIED:20240906T172102Z
UID:5200-1728122400-1728144000@bowietxchamber.org
SUMMARY:29th Annual Chicken & Bread Days
DESCRIPTION:
URL:https://bowietxchamber.org/event/29th-annual-chicken-bread-days/
LOCATION:TX
END:VEVENT
BEGIN:VEVENT
DTSTART;TZID=America/Chicago:20241008T180000
DTEND;TZID=America/Chicago:20241008T200000
DTSTAMP:20260419T224440
CREATED:20231212T160931Z
LAST-MODIFIED:20231212T160931Z
UID:3738-1728410400-1728417600@bowietxchamber.org
SUMMARY:Piston Heads Auto Club
DESCRIPTION:1st Tuesday of the Mont at Wellington State Bank \n6:00 PM Board Meeting \n6:30 PM Social Time \n7:00 PM General Meeting
URL:https://bowietxchamber.org/event/piston-heads-auto-club-10/
LOCATION:TX
END:VEVENT
BEGIN:VEVENT
DTSTART;VALUE=DATE:20241011
DTEND;VALUE=DATE:20241014
DTSTAMP:20260419T224440
CREATED:20240214T144624Z
LAST-MODIFIED:20240214T144624Z
UID:3915-1728604800-1728863999@bowietxchamber.org
SUMMARY:2nd Monday Trade Days
DESCRIPTION:Second Monday Trade Days is open rain sleet or snow on the weekend of the Second Monday every month — The Friday\, Saturday & Sunday preceding the second Monday of each Month.
URL:https://bowietxchamber.org/event/2nd-monday-trade-days-16/
LOCATION:2nd Monday Trade Days\, 414 Pelham St.\, Bowie\, TX\, 76230\, United States
CATEGORIES:2nd Monday Trade Days
ORGANIZER;CN="Bonnie Kinder":MAILTO:communitycenter@cityofbowietx.com
END:VEVENT
BEGIN:VEVENT
DTSTART;TZID=America/New_York:20241012T070000
DTEND;TZID=America/New_York:20241012T150000
DTSTAMP:20260419T224440
CREATED:20240906T172424Z
LAST-MODIFIED:20240906T172424Z
UID:5203-1728716400-1728745200@bowietxchamber.org
SUMMARY:Chicken & Bread Days Bass Tournament
DESCRIPTION:
URL:https://bowietxchamber.org/event/chicken-bread-days-bass-tournament-2/
LOCATION:TX
END:VEVENT
BEGIN:VEVENT
DTSTART;TZID=America/New_York:20241012T100000
DTEND;TZID=America/New_York:20241012T130000
DTSTAMP:20260419T224440
CREATED:20240905T165552Z
LAST-MODIFIED:20240905T165552Z
UID:5155-1728727200-1728738000@bowietxchamber.org
SUMMARY:Shred-A-Thon
DESCRIPTION:
URL:https://bowietxchamber.org/event/shred-a-thon/
LOCATION:TX
END:VEVENT
BEGIN:VEVENT
DTSTART;VALUE=DATE:20241018
DTEND;VALUE=DATE:20241020
DTSTAMP:20260419T224440
CREATED:20240905T182607Z
LAST-MODIFIED:20240905T182607Z
UID:5158-1729209600-1729382399@bowietxchamber.org
SUMMARY:BMX Bike Park BBQ Cook-Off
DESCRIPTION:
URL:https://bowietxchamber.org/event/bmx-bike-park-bbq-cook-off/
LOCATION:TX
END:VEVENT
BEGIN:VEVENT
DTSTART;TZID=America/New_York:20241019T090000
DTEND;TZID=America/New_York:20241019T210000
DTSTAMP:20260419T224440
CREATED:20240905T184224Z
LAST-MODIFIED:20240905T184224Z
UID:5173-1729328400-1729371600@bowietxchamber.org
SUMMARY:Keith Maddox Memorial Golf Tournament
DESCRIPTION:
URL:https://bowietxchamber.org/event/keith-maddox-memorial-golf-tournament/
LOCATION:TX
END:VEVENT
BEGIN:VEVENT
DTSTART;TZID=America/New_York:20241027T160000
DTEND;TZID=America/New_York:20241027T200000
DTSTAMP:20260419T224440
CREATED:20240906T163718Z
LAST-MODIFIED:20240906T163718Z
UID:5188-1730044800-1730059200@bowietxchamber.org
SUMMARY:Open Mic Night
DESCRIPTION:
URL:https://bowietxchamber.org/event/open-mic-night-2/
LOCATION:Bowie Community Center\, 413 Pelham St\, Bowie\, TX\, 76230\, United States
END:VEVENT
BEGIN:VEVENT
DTSTART;TZID=America/New_York:20241101T080000
DTEND;TZID=America/New_York:20241101T170000
DTSTAMP:20260419T224440
CREATED:20240906T171400Z
LAST-MODIFIED:20240906T171400Z
UID:5197-1730448000-1730480400@bowietxchamber.org
SUMMARY:Bowie 2024 Clean-Up Days
DESCRIPTION:Customers must bring current city bill showing garbage charge to 1201 Roach Street. Trash haul should be tarped or all loose pieces tied down according to TCEQ chapter 330.235. A safety vest is required. Direct questions to: 940-872-9009. \nResidential Only\, Free up to 1\,000 lbs.
URL:https://bowietxchamber.org/event/bowie-2024-clean-up-days/
LOCATION:TX
END:VEVENT
BEGIN:VEVENT
DTSTART;TZID=America/Chicago:20241104T180000
DTEND;TZID=America/Chicago:20241104T200000
DTSTAMP:20260419T224440
CREATED:20231212T160949Z
LAST-MODIFIED:20231212T160949Z
UID:3740-1730743200-1730750400@bowietxchamber.org
SUMMARY:Piston Heads Auto Club
DESCRIPTION:1st Tuesday of the Mont at Wellington State Bank \n6:00 PM Board Meeting \n6:30 PM Social Time \n7:00 PM General Meeting
URL:https://bowietxchamber.org/event/piston-heads-auto-club-11/
LOCATION:TX
END:VEVENT
BEGIN:VEVENT
DTSTART;TZID=America/New_York:20241107T120000
DTEND;TZID=America/New_York:20241107T130000
DTSTAMP:20260419T224440
CREATED:20241104T192015Z
LAST-MODIFIED:20241104T192015Z
UID:5357-1730980800-1730984400@bowietxchamber.org
SUMMARY:Ribbon Cutting: KJL CPA Karen Lee
DESCRIPTION:Nov 7th at noon \n707 Hwy 59N \nBowie\, Texas 76230
URL:https://bowietxchamber.org/event/ribbon-cutting-kjl-cpa-karen-lee/
LOCATION:TX
CATEGORIES:Ribbon Cutting
END:VEVENT
BEGIN:VEVENT
DTSTART;TZID=America/New_York:20241107T120000
DTEND;TZID=America/New_York:20241107T130000
DTSTAMP:20260419T224440
CREATED:20241104T192436Z
LAST-MODIFIED:20241104T192436Z
UID:5364-1730980800-1730984400@bowietxchamber.org
SUMMARY:Creating Hope for our Communities
DESCRIPTION:
URL:https://bowietxchamber.org/event/creating-hope-for-our-communities/
LOCATION:TX
END:VEVENT
BEGIN:VEVENT
DTSTART;TZID=America/New_York:20241107T170000
DTEND;TZID=America/New_York:20241107T190000
DTSTAMP:20260419T224440
CREATED:20241104T192304Z
LAST-MODIFIED:20241104T192304Z
UID:5361-1730998800-1731006000@bowietxchamber.org
SUMMARY:Oh Baby! 30th Anniversary Celebration for ClearChoice PRC
DESCRIPTION:
URL:https://bowietxchamber.org/event/oh-baby-30th-anniversary-celebration-for-clearchoice-prc/
LOCATION:TX
END:VEVENT
BEGIN:VEVENT
DTSTART;VALUE=DATE:20241108
DTEND;VALUE=DATE:20241111
DTSTAMP:20260419T224440
CREATED:20240214T144643Z
LAST-MODIFIED:20240214T144643Z
UID:3917-1731024000-1731283199@bowietxchamber.org
SUMMARY:2nd Monday Trade Days
DESCRIPTION:Second Monday Trade Days is open rain sleet or snow on the weekend of the Second Monday every month — The Friday\, Saturday & Sunday preceding the second Monday of each Month.
URL:https://bowietxchamber.org/event/2nd-monday-trade-days-17/
LOCATION:2nd Monday Trade Days\, 414 Pelham St.\, Bowie\, TX\, 76230\, United States
CATEGORIES:2nd Monday Trade Days
ORGANIZER;CN="Bonnie Kinder":MAILTO:communitycenter@cityofbowietx.com
END:VEVENT
BEGIN:VEVENT
DTSTART;TZID=America/New_York:20241114T120000
DTEND;TZID=America/New_York:20241114T130000
DTSTAMP:20260419T224440
CREATED:20241104T192112Z
LAST-MODIFIED:20241112T201310Z
UID:5359-1731585600-1731589200@bowietxchamber.org
SUMMARY:Ribbon Cutting: Bowie Martial Arts
DESCRIPTION:Nov 14th at noon \n204 Roach St. \nBowie\, Texas 76230
URL:https://bowietxchamber.org/event/ribbon-cutting-bowie-matial-arts/
LOCATION:TX
CATEGORIES:Ribbon Cutting
END:VEVENT
BEGIN:VEVENT
DTSTART;TZID=America/New_York:20241115T190000
DTEND;TZID=America/New_York:20241115T213000
DTSTAMP:20260419T224440
CREATED:20241104T192830Z
LAST-MODIFIED:20241104T192830Z
UID:5367-1731697200-1731706200@bowietxchamber.org
SUMMARY:The Curious Savage
DESCRIPTION:
URL:https://bowietxchamber.org/event/the-curious-savage/
LOCATION:TX
END:VEVENT
BEGIN:VEVENT
DTSTART;TZID=America/New_York:20241116T120000
DTEND;TZID=America/New_York:20241116T143000
DTSTAMP:20260419T224440
CREATED:20241104T192900Z
LAST-MODIFIED:20241104T192900Z
UID:5370-1731758400-1731767400@bowietxchamber.org
SUMMARY:The Curious Savage
DESCRIPTION:
URL:https://bowietxchamber.org/event/the-curious-savage-2/
LOCATION:TX
END:VEVENT
BEGIN:VEVENT
DTSTART;TZID=America/New_York:20241116T180000
DTEND;TZID=America/New_York:20241116T203000
DTSTAMP:20260419T224440
CREATED:20241104T192934Z
LAST-MODIFIED:20241104T192934Z
UID:5372-1731780000-1731789000@bowietxchamber.org
SUMMARY:The Curious Savage
DESCRIPTION:
URL:https://bowietxchamber.org/event/the-curious-savage-3/
LOCATION:TX
END:VEVENT
BEGIN:VEVENT
DTSTART;TZID=America/New_York:20241121T120000
DTEND;TZID=America/New_York:20241121T130000
DTSTAMP:20260419T224440
CREATED:20241104T193121Z
LAST-MODIFIED:20241104T193121Z
UID:5374-1732190400-1732194000@bowietxchamber.org
SUMMARY:Advanced Rehabilition and Healthcare Annual Family Thanksgiving Dinner
DESCRIPTION:
URL:https://bowietxchamber.org/event/advanced-rehabilition-and-healthcare-annual-family-thanksgiving-dinner/
LOCATION:TX
END:VEVENT
BEGIN:VEVENT
DTSTART;TZID=America/Chicago:20241202T180000
DTEND;TZID=America/Chicago:20241202T200000
DTSTAMP:20260419T224440
CREATED:20231212T161004Z
LAST-MODIFIED:20231212T161008Z
UID:3742-1733162400-1733169600@bowietxchamber.org
SUMMARY:Piston Heads Auto Club
DESCRIPTION:1st Tuesday of the Mont at Wellington State Bank \n6:00 PM Board Meeting \n6:30 PM Social Time \n7:00 PM General Meeting
URL:https://bowietxchamber.org/event/piston-heads-auto-club-12/
LOCATION:TX
END:VEVENT
BEGIN:VEVENT
DTSTART;TZID=America/New_York:20241203T173000
DTEND;TZID=America/New_York:20241203T183000
DTSTAMP:20260419T224440
CREATED:20241104T193232Z
LAST-MODIFIED:20241104T193232Z
UID:5377-1733247000-1733250600@bowietxchamber.org
SUMMARY:Book Club
DESCRIPTION:
URL:https://bowietxchamber.org/event/book-club/
LOCATION:TX
END:VEVENT
BEGIN:VEVENT
DTSTART;VALUE=DATE:20241206
DTEND;VALUE=DATE:20241209
DTSTAMP:20260419T224440
CREATED:20240214T144706Z
LAST-MODIFIED:20240214T144706Z
UID:3919-1733443200-1733702399@bowietxchamber.org
SUMMARY:2nd Monday Trade Days
DESCRIPTION:Second Monday Trade Days is open rain sleet or snow on the weekend of the Second Monday every month — The Friday\, Saturday & Sunday preceding the second Monday of each Month.
URL:https://bowietxchamber.org/event/2nd-monday-trade-days-18/
LOCATION:2nd Monday Trade Days\, 414 Pelham St.\, Bowie\, TX\, 76230\, United States
CATEGORIES:2nd Monday Trade Days
ORGANIZER;CN="Bonnie Kinder":MAILTO:communitycenter@cityofbowietx.com
END:VEVENT
BEGIN:VEVENT
DTSTART;TZID=America/New_York:20241206T123000
DTEND;TZID=America/New_York:20241206T133000
DTSTAMP:20260419T224440
CREATED:20241104T193254Z
LAST-MODIFIED:20241104T193254Z
UID:5380-1733488200-1733491800@bowietxchamber.org
SUMMARY:Book Club
DESCRIPTION:
URL:https://bowietxchamber.org/event/book-club-2/
LOCATION:TX
END:VEVENT
BEGIN:VEVENT
DTSTART;TZID=America/Chicago:20241206T170000
DTEND;TZID=America/Chicago:20241206T210000
DTSTAMP:20260419T224440
CREATED:20231212T161423Z
LAST-MODIFIED:20231212T161423Z
UID:3751-1733504400-1733518800@bowietxchamber.org
SUMMARY:Sip & Stroll
DESCRIPTION:
URL:https://bowietxchamber.org/event/sip-stroll-8/
LOCATION:TX
END:VEVENT
BEGIN:VEVENT
DTSTART;TZID=America/New_York:20241207T170000
DTEND;TZID=America/New_York:20241207T200000
DTSTAMP:20260419T224440
CREATED:20241104T193728Z
LAST-MODIFIED:20241119T163628Z
UID:5386-1733590800-1733601600@bowietxchamber.org
SUMMARY:Fantasy of Lights Parade
DESCRIPTION:
URL:https://bowietxchamber.org/event/fantasy-of-lights-parade-2/
LOCATION:TX
END:VEVENT
BEGIN:VEVENT
DTSTART;TZID=America/New_York:20241208T140000
DTEND;TZID=America/New_York:20241208T170000
DTSTAMP:20260419T224440
CREATED:20241104T193452Z
LAST-MODIFIED:20241104T193452Z
UID:5382-1733666400-1733677200@bowietxchamber.org
SUMMARY:Amity Club of Bowie: Christmas Tour of Homes
DESCRIPTION:Dec 8th from 2 – 5 PM \n$20 per ticket \nunder 14 free
URL:https://bowietxchamber.org/event/amity-club-of-bowie-christmas-tour-of-homes/
LOCATION:TX
END:VEVENT
END:VCALENDAR