BEGIN:VCALENDAR
VERSION:2.0
PRODID:-//Bowie TX Chamber of Commerce - ECPv6.15.20//NONSGML v1.0//EN
CALSCALE:GREGORIAN
METHOD:PUBLISH
X-WR-CALNAME:Bowie TX Chamber of Commerce
X-ORIGINAL-URL:https://bowietxchamber.org
X-WR-CALDESC:Events for Bowie TX Chamber of Commerce
REFRESH-INTERVAL;VALUE=DURATION:PT1H
X-Robots-Tag:noindex
X-PUBLISHED-TTL:PT1H
BEGIN:VTIMEZONE
TZID:America/Chicago
BEGIN:DAYLIGHT
TZOFFSETFROM:-0600
TZOFFSETTO:-0500
TZNAME:CDT
DTSTART:20210314T080000
END:DAYLIGHT
BEGIN:STANDARD
TZOFFSETFROM:-0500
TZOFFSETTO:-0600
TZNAME:CST
DTSTART:20211107T070000
END:STANDARD
BEGIN:DAYLIGHT
TZOFFSETFROM:-0600
TZOFFSETTO:-0500
TZNAME:CDT
DTSTART:20220313T080000
END:DAYLIGHT
BEGIN:STANDARD
TZOFFSETFROM:-0500
TZOFFSETTO:-0600
TZNAME:CST
DTSTART:20221106T070000
END:STANDARD
BEGIN:DAYLIGHT
TZOFFSETFROM:-0600
TZOFFSETTO:-0500
TZNAME:CDT
DTSTART:20230312T080000
END:DAYLIGHT
BEGIN:STANDARD
TZOFFSETFROM:-0500
TZOFFSETTO:-0600
TZNAME:CST
DTSTART:20231105T070000
END:STANDARD
END:VTIMEZONE
BEGIN:VTIMEZONE
TZID:UTC
BEGIN:STANDARD
TZOFFSETFROM:+0000
TZOFFSETTO:+0000
TZNAME:UTC
DTSTART:20210101T000000
END:STANDARD
END:VTIMEZONE
BEGIN:VEVENT
DTSTART;TZID=America/Chicago:20221103T180000
DTEND;TZID=America/Chicago:20221103T200000
DTSTAMP:20260420T015447
CREATED:20220930T185804Z
LAST-MODIFIED:20220930T185920Z
UID:1910-1667498400-1667505600@bowietxchamber.org
SUMMARY:Game Night at the Bowie Community Center
DESCRIPTION:The First Thursday of Every Month \n6 – 8 pm \nAges 21 and over. \nDominos\, Yahtzee\, Farkle\, Cards\, Scrabble\, Monopoly\, and more. \nPotluck bring enough to share. \nBring drink of your choice. \nFree water and coffee. \nFore more info call Bonnie \n940-872-4861 \n940-841-1550 \nBowie Community Center \n413 Pelham Street \n304 Lindsey \nBowie\, TX 76230
URL:https://bowietxchamber.org/event/game-night-at-the-bowie-community-center-2/
LOCATION:Bowie Community Center\, 413 Pelham St\, Bowie\, TX\, 76230\, United States
END:VEVENT
BEGIN:VEVENT
DTSTART;TZID=America/Chicago:20221103T100000
DTEND;TZID=America/Chicago:20221103T140000
DTSTAMP:20260420T015447
CREATED:20221020T194923Z
LAST-MODIFIED:20221020T194923Z
UID:1944-1667469600-1667484000@bowietxchamber.org
SUMMARY:Carter BloodCare: Blood Drive
DESCRIPTION:Carter BloodCare \nBlood Drive \nThursday\, November 3rd \n10:00 am – 2:00 pm \nBowie Rotary \nCarter Bloodcare Bus \n303 N Mason St \nBowie\, TX 76230 \nContact \nMelanie Belcher \nmbelcher@fchtexas.com
URL:https://bowietxchamber.org/event/carter-bloodcare-blood-drive/
END:VEVENT
BEGIN:VEVENT
DTSTART;TZID=America/Chicago:20221101T173000
DTEND;TZID=America/Chicago:20221101T190000
DTSTAMP:20260420T015447
CREATED:20221020T194140Z
LAST-MODIFIED:20221020T194140Z
UID:1935-1667323800-1667329200@bowietxchamber.org
SUMMARY:Kimber Creek Gifts and Wine Bar: Re-Grand Opening
DESCRIPTION:Kimber Creek Gifts and Wine Bar: Re-Grand Opening \nTuesday\, November 1st \nRibbon Cutting 5:30 \n5:30-7:00pm \n108 N. Mason St. \nBowie TX
URL:https://bowietxchamber.org/event/kimber-creek-gifts-and-wine-bar-re-grand-opening/
CATEGORIES:Ribbon Cutting
END:VEVENT
BEGIN:VEVENT
DTSTART;TZID=America/Chicago:20221030T160000
DTEND;TZID=America/Chicago:20221030T180000
DTSTAMP:20260420T015447
CREATED:20220930T150348Z
LAST-MODIFIED:20220930T183008Z
UID:1879-1667145600-1667152800@bowietxchamber.org
SUMMARY:Trunk or Treat Contest
DESCRIPTION:Trunk or Treat Contest \nTreats and Prizes \n501 Pelham St. \nBowie TX 76230 \nWant to join the competition? Sign up to decorate your trunk and win fun prizes for the best trunks!! More information at www.facebook.com/vwobowietx
URL:https://bowietxchamber.org/event/trunk-or-treat-contest/
END:VEVENT
BEGIN:VEVENT
DTSTART;TZID=America/Chicago:20221029T170000
DTEND;TZID=America/Chicago:20221029T220000
DTSTAMP:20260420T015447
CREATED:20220930T181850Z
LAST-MODIFIED:20221020T193615Z
UID:1893-1667062800-1667080800@bowietxchamber.org
SUMMARY:Bowie BMX Halloween Festivities
DESCRIPTION:Bowie BMX Park \nOctober 28th 6 – 10 pm \nOctober 29th 5 – 10pm \n801 S. Mill St. \nBowie TX 76230 \nHalloween Festivities \nOpen to the public \nHaunted Hayride\, Oktoberfest Food\, Fun\, BMX Racing\, Games\, Costume Contest.
URL:https://bowietxchamber.org/event/bowie-bmx-halloween-festivities-2/
END:VEVENT
BEGIN:VEVENT
DTSTART;TZID=America/Chicago:20221029T170000
DTEND;TZID=America/Chicago:20221029T210000
DTSTAMP:20260420T015447
CREATED:20221020T193831Z
LAST-MODIFIED:20221020T193831Z
UID:1933-1667062800-1667077200@bowietxchamber.org
SUMMARY:Citywide Halloween
DESCRIPTION:The City Of Bowie Celebrates Halloween October 29th
URL:https://bowietxchamber.org/event/citywide-halloween/
END:VEVENT
BEGIN:VEVENT
DTSTART;TZID=America/Chicago:20221028T180000
DTEND;TZID=America/Chicago:20221028T220000
DTSTAMP:20260420T015447
CREATED:20220930T181813Z
LAST-MODIFIED:20220930T181813Z
UID:1891-1666980000-1666994400@bowietxchamber.org
SUMMARY:Bowie BMX Halloween Festivities
DESCRIPTION:Bowie BMX Park \nOctober 28th 6 – 10 pm \nOctober 29th 5 – 10pm \n801 S. Mill St. \nBowie TX 76230 \nHalloween Festivities \nOpen to the public \nHaunted Hayride\, Oktoberfest Food\, Fun\, BMX Racing\, Games\, Costume Contest.
URL:https://bowietxchamber.org/event/bowie-bmx-halloween-festivities/
END:VEVENT
BEGIN:VEVENT
DTSTART;TZID=America/Chicago:20221021T120000
DTEND;TZID=America/Chicago:20221021T130000
DTSTAMP:20260420T015447
CREATED:20220930T143247Z
LAST-MODIFIED:20220930T143453Z
UID:1873-1666353600-1666357200@bowietxchamber.org
SUMMARY:Ribbon Cutting: Bowie Smoke Shop Plus CBD
DESCRIPTION:Ribbon Cutting: Bowie Smoke Shop Plus CBD \n103 E. Wise St. \nBowie\, TX 76230 \n817-714-8997 \nBowieSmokeshop@gmail.com
URL:https://bowietxchamber.org/event/bowie-smoke-shop/
CATEGORIES:Ribbon Cutting
END:VEVENT
BEGIN:VEVENT
DTSTART;TZID=America/Chicago:20221015T180000
DTEND;TZID=America/Chicago:20221015T180000
DTSTAMP:20260420T015447
CREATED:20220930T175331Z
LAST-MODIFIED:20220930T175425Z
UID:1885-1665856800-1665856800@bowietxchamber.org
SUMMARY:Fundraising Wine Tasting Event
DESCRIPTION:Affirming Texas Families Services Fundraising Wine Tasting Event \nSaturday October 15th 6pm \n300 W. Nelson St. \nBowie\, TX 76230 \nTickets must be purchased. \n$35 for a single ticket\, $180 for a table of 6. \n  \nContact Jenny \n940-210-1081 \n1-855-239-2837
URL:https://bowietxchamber.org/event/affirming-texas-families-services-fundraising-wine-tasting-event/
END:VEVENT
BEGIN:VEVENT
DTSTART;TZID=America/Chicago:20221015T160000
DTEND;TZID=America/Chicago:20221015T180000
DTSTAMP:20260420T015447
CREATED:20220930T175747Z
LAST-MODIFIED:20220930T175747Z
UID:1888-1665849600-1665856800@bowietxchamber.org
SUMMARY:Bowie Campus Trunk or Treat
DESCRIPTION:Bowie Campus Trunk or Treat \nSaturday October 15th 4 – 6 pm \nNCTC Bowie Campus \n810 S. Mill St. \nBowie\, TX 76230 \nOpen to the public. \nFor Kids: Trunk or Treating\, Costume Contest\, Free Games\, and Bounce Houses \nFor Adults: Learn About NCTC Programs and Services\, Win NCTC Swag
URL:https://bowietxchamber.org/event/bowie-campus-trunk-or-treat/
END:VEVENT
BEGIN:VEVENT
DTSTART;TZID=America/Chicago:20221015T130000
DTEND;TZID=America/Chicago:20221015T130000
DTSTAMP:20260420T015447
CREATED:20220930T183729Z
LAST-MODIFIED:20220930T183729Z
UID:1906-1665838800-1665838800@bowietxchamber.org
SUMMARY:"It Was a Dark and Stormy Night" by Tim Kelly
DESCRIPTION:Bowie Alliance for Education and the Arts presents… “It Was a Dark and Stormy Night” by Tim Kelly. \n3 Performances Only \nThursday\, October 13th 7 pm \nFriday\, October 14th 7 pm \nSaturday\, October 15th 1pm \nA murderously daffy romp\, a play filled with thrills and chills! \nJoin us and find out who will survive the night. \n$10 tickets can be purchased at https://www.bowieallianceforeducationandthearts.com starting Sept. 1 or at the door \nSilver Strings Entertainment Center \n500 N Smythe St. \nBowie\, Tx 76230
URL:https://bowietxchamber.org/event/it-was-a-dark-and-stormy-night-by-tim-kelly-3/
END:VEVENT
BEGIN:VEVENT
DTSTART;TZID=America/Chicago:20221014T190000
DTEND;TZID=America/Chicago:20221014T190000
DTSTAMP:20260420T015447
CREATED:20220930T183640Z
LAST-MODIFIED:20220930T183640Z
UID:1902-1665774000-1665774000@bowietxchamber.org
SUMMARY:"It Was a Dark and Stormy Night" by Tim Kelly
DESCRIPTION:Bowie Alliance for Education and the Arts presents… “It Was a Dark and Stormy Night” by Tim Kelly. \n3 Performances Only \nThursday\, October 13th 7 pm \nFriday\, October 14th 7 pm \nSaturday\, October 15th 1pm \nA murderously daffy romp\, a play filled with thrills and chills! \nJoin us and find out who will survive the night. \n$10 tickets can be purchased at https://www.bowieallianceforeducationandthearts.com starting Sept. 1 or at the door \nSilver Strings Entertainment Center \n500 N Smythe St. \nBowie\, Tx 76230
URL:https://bowietxchamber.org/event/it-was-a-dark-and-stormy-night-by-tim-kelly-2/
END:VEVENT
BEGIN:VEVENT
DTSTART;TZID=America/Chicago:20221013T190000
DTEND;TZID=America/Chicago:20221013T190000
DTSTAMP:20260420T015447
CREATED:20220930T183505Z
LAST-MODIFIED:20220930T183619Z
UID:1900-1665687600-1665687600@bowietxchamber.org
SUMMARY:"It Was a Dark and Stormy Night" by Tim Kelly
DESCRIPTION:Bowie Alliance for Education and the Arts presents… “It Was a Dark and Stormy Night” by Tim Kelly. \n3 Performances Only \nThursday\, October 13th 7 pm \nFriday\, October 14th 7 pm \nSaturday\, October 15th 1pm \nA murderously daffy romp\, a play filled with thrills and chills! \nJoin us and find out who will survive the night. \n$10 tickets can be purchased at https://www.bowieallianceforeducationandthearts.com starting Sept. 1 or at the door \nSilver Strings Entertainment Center \n500 N Smythe St. \nBowie\, Tx 76230
URL:https://bowietxchamber.org/event/it-was-a-dark-and-stormy-night-by-tim-kelly/
END:VEVENT
BEGIN:VEVENT
DTSTART;TZID=UTC:20221011T120000
DTEND;TZID=UTC:20221011T130000
DTSTAMP:20260420T015447
CREATED:20220707T172533Z
LAST-MODIFIED:20220707T172533Z
UID:1588-1665489600-1665493200@bowietxchamber.org
SUMMARY:Chamber Board Meeting
DESCRIPTION:Monthly Bowie Chamber of Commerce Board of Directors Meeting. General board meetings are open to the public; however\, if someone has the desire to speak to the board\, please speak to the director of the chamber to be placed on the agenda at least 8 days prior to the meeting.
URL:https://bowietxchamber.org/event/chamber-board-meeting-4/
LOCATION:Chamber of Commerce – EDC Building\, 101 E. Pecan St\, Bowie\, TX\, 76230\, United States
CATEGORIES:Chamber Board Meetings
ORGANIZER;CN="Debbie Herriage":MAILTO:info@bowietxchamber.org
END:VEVENT
BEGIN:VEVENT
DTSTART;TZID=America/Chicago:20221009T160000
DTEND;TZID=America/Chicago:20221009T180000
DTSTAMP:20260420T015447
CREATED:20220930T174904Z
LAST-MODIFIED:20220930T174904Z
UID:1883-1665331200-1665338400@bowietxchamber.org
SUMMARY:Harvest Festival
DESCRIPTION:Food Fun Games \nSunday October 9th 2022 \n4 to 6 pm \nFree Entry \n501 Pelham St. \nBowie\, TX 76230
URL:https://bowietxchamber.org/event/harvest-festival/
END:VEVENT
BEGIN:VEVENT
DTSTART;TZID=UTC:20221007T080000
DTEND;TZID=UTC:20221009T170000
DTSTAMP:20260420T015447
CREATED:20220707T145014Z
LAST-MODIFIED:20220707T145014Z
UID:1529-1665129600-1665334800@bowietxchamber.org
SUMMARY:2nd Monday Trade Days
DESCRIPTION:Second Monday Trade Days is open rain sleet or snow on the weekend of the Second Monday every month — The Friday\, Saturday & Sunday preceding the second Monday of each Month.
URL:https://bowietxchamber.org/event/2nd-monday-trade-days-4/
LOCATION:2nd Monday Trade Days\, 414 Pelham St.\, Bowie\, TX\, 76230\, United States
CATEGORIES:2nd Monday Trade Days
ORGANIZER;CN="Bonnie Kinder":MAILTO:communitycenter@cityofbowietx.com
END:VEVENT
BEGIN:VEVENT
DTSTART;TZID=America/Chicago:20221006T180000
DTEND;TZID=America/Chicago:20221006T200000
DTSTAMP:20260420T015447
CREATED:20220930T185653Z
LAST-MODIFIED:20220930T185937Z
UID:1908-1665079200-1665086400@bowietxchamber.org
SUMMARY:Game Night at the Bowie Community Center
DESCRIPTION:The First Thursday of Every Month \n6 – 8 pm \nAges 21 and over. \nDominos\, Yahtzee\, Farkle\, Cards\, Scrabble\, Monopoly\, and more. \nPotluck bring enough to share. \nBring drink of your choice. \nFree water and coffee. \nFore more info call Bonnie \n940-872-4861 \n940-841-1550 \nBowie Community Center \n413 Pelham Street \n304 Lindsey \nBowie\, TX 76230
URL:https://bowietxchamber.org/event/game-night-at-the-bowie-community-center/
LOCATION:Bowie Community Center\, 413 Pelham St\, Bowie\, TX\, 76230\, United States
END:VEVENT
BEGIN:VEVENT
DTSTART;TZID=UTC:20221001T100000
DTEND;TZID=UTC:20221001T160000
DTSTAMP:20260420T015447
CREATED:20220707T171959Z
LAST-MODIFIED:20220707T171959Z
UID:1578-1664618400-1664640000@bowietxchamber.org
SUMMARY:Chicken & Bread Days
DESCRIPTION:Downtown Bowie. Street Festival on Smythe and Tarrant.
URL:https://bowietxchamber.org/event/chicken-bread-days/
ORGANIZER;CN="Cindy Roller":MAILTO:bcdb@cityofbowietx.com
END:VEVENT
BEGIN:VEVENT
DTSTART;TZID=UTC:20221001T073000
DTEND;TZID=UTC:20221001T220000
DTSTAMP:20260420T015447
CREATED:20220708T173141Z
LAST-MODIFIED:20220708T173141Z
UID:1647-1664609400-1664661600@bowietxchamber.org
SUMMARY:Cord McCoy PRCA Rodeo
DESCRIPTION:GATES OPEN AT 5:30 pm\nRODEO STARTS AT 7:30 pm\nGENERAL ADMISSION $15.00. BOX SEATS 4 ($100).
URL:https://bowietxchamber.org/event/cord-mccoy-prca-rodeo/
LOCATION:Bowie Community Center\, 413 Pelham St\, Bowie\, TX\, 76230\, United States
ORGANIZER;CN="Bonnie Kinder":MAILTO:communitycenter@cityofbowietx.com
END:VEVENT
BEGIN:VEVENT
DTSTART;TZID=UTC:20220924T170000
DTEND;TZID=UTC:20220924T223000
DTSTAMP:20260420T015447
CREATED:20220707T172939Z
LAST-MODIFIED:20220707T173111Z
UID:1589-1664038800-1664058600@bowietxchamber.org
SUMMARY:Volunteer Fire Dept Fish Fry & Concert
DESCRIPTION:
URL:https://bowietxchamber.org/event/volunteer-fire-dept-fish-fry/
LOCATION:Bowie Community Center\, 413 Pelham St\, Bowie\, TX\, 76230\, United States
ORGANIZER;CN="Bonnie Kinder":MAILTO:communitycenter@cityofbowietx.com
END:VEVENT
BEGIN:VEVENT
DTSTART;VALUE=DATE:20220924
DTEND;VALUE=DATE:20220925
DTSTAMP:20260420T015447
CREATED:20220414T134305Z
LAST-MODIFIED:20220707T152349Z
UID:1213-1663977600-1664063999@bowietxchamber.org
SUMMARY:Chamber Links Golf Tournament
DESCRIPTION:
URL:https://bowietxchamber.org/event/chamber-links-golf-tournament/
LOCATION:Top of Lake Country Club\, 676 Country Club Rd\, Bowie\, TX\, 76230\, United States
ORGANIZER;CN="Debbie Herriage":MAILTO:info@bowietxchamber.org
END:VEVENT
BEGIN:VEVENT
DTSTART;VALUE=DATE:20220916
DTEND;VALUE=DATE:20220917
DTSTAMP:20260420T015447
CREATED:20220816T135752Z
LAST-MODIFIED:20220816T135752Z
UID:1776-1663286400-1663372799@bowietxchamber.org
SUMMARY:Ribbon Cutting: The Rise Getaway PLLC
DESCRIPTION:Ribbon Cutting: The Rise Getaway PLLC \nFriday September 16th \nJana Marie Brady \n104 W. Tarrant St.
URL:https://bowietxchamber.org/event/ribbon-cutting-the-rise-getaway-pllc/
LOCATION:The Rise Getaway\, 104 W. Tarrant st.\, Bowie\, 76230\, United States
CATEGORIES:Ribbon Cutting
END:VEVENT
BEGIN:VEVENT
DTSTART;TZID=UTC:20220913T120000
DTEND;TZID=UTC:20220913T130000
DTSTAMP:20260420T015447
CREATED:20220707T172350Z
LAST-MODIFIED:20220707T172350Z
UID:1583-1663070400-1663074000@bowietxchamber.org
SUMMARY:Chamber Board Meeting
DESCRIPTION:Monthly Bowie Chamber of Commerce Board of Directors Meeting. General board meetings are open to the public; however\, if someone has the desire to speak to the board\, please speak to the director of the chamber to be placed on the agenda at least 8 days prior to the meeting.
URL:https://bowietxchamber.org/event/chamber-board-meeting-3/
LOCATION:Chamber of Commerce – EDC Building\, 101 E. Pecan St\, Bowie\, TX\, 76230\, United States
CATEGORIES:Chamber Board Meetings
ORGANIZER;CN="Debbie Herriage":MAILTO:info@bowietxchamber.org
END:VEVENT
BEGIN:VEVENT
DTSTART;TZID=UTC:20220909T080000
DTEND;TZID=UTC:20220911T170000
DTSTAMP:20260420T015447
CREATED:20220707T144903Z
LAST-MODIFIED:20220707T144903Z
UID:1525-1662710400-1662915600@bowietxchamber.org
SUMMARY:2nd Monday Trade Days
DESCRIPTION:Second Monday Trade Days is open rain sleet or snow on the weekend of the Second Monday every month — The Friday\, Saturday & Sunday preceding the second Monday of each Month.
URL:https://bowietxchamber.org/event/2nd-monday-trade-days-3/
LOCATION:2nd Monday Trade Days\, 414 Pelham St.\, Bowie\, TX\, 76230\, United States
CATEGORIES:2nd Monday Trade Days
ORGANIZER;CN="Bonnie Kinder":MAILTO:communitycenter@cityofbowietx.com
END:VEVENT
BEGIN:VEVENT
DTSTART;VALUE=DATE:20220827
DTEND;VALUE=DATE:20220828
DTSTAMP:20260420T015447
CREATED:20220708T173436Z
LAST-MODIFIED:20220708T174510Z
UID:1651-1661558400-1661644799@bowietxchamber.org
SUMMARY:Michael Miears Auction
DESCRIPTION:The viewing starts at 8 am. \nThe auction starts at 11 am. \nTexas Auction Licence #12703
URL:https://bowietxchamber.org/event/michael-miears-auction/
LOCATION:Bowie Community Center\, 413 Pelham St\, Bowie\, TX\, 76230\, United States
ORGANIZER;CN="Michael Miears":MAILTO:michaelmiearsauction@atlinkwifi.com
END:VEVENT
BEGIN:VEVENT
DTSTART;TZID=UTC:20220820T090000
DTEND;TZID=UTC:20220820T170000
DTSTAMP:20260420T015447
CREATED:20220718T203759Z
LAST-MODIFIED:20220718T203759Z
UID:1691-1660986000-1661014800@bowietxchamber.org
SUMMARY:Bowie Outdoor Expo
DESCRIPTION:The 4th Annual Bowie Outdoor Expo. \nFree Event. Food Trucks. Music. Nocona Beer & Brewery \nFamily Friendly!
URL:https://bowietxchamber.org/event/bowie-outdoor-expo/
LOCATION:Bowie Community Center\, 413 Pelham St\, Bowie\, TX\, 76230\, United States
END:VEVENT
BEGIN:VEVENT
DTSTART;TZID=UTC:20220818T170000
DTEND;TZID=UTC:20220818T170000
DTSTAMP:20260420T015447
CREATED:20220816T133358Z
LAST-MODIFIED:20220816T133515Z
UID:1767-1660842000-1660842000@bowietxchamber.org
SUMMARY:Bowie Library: Business After Hours
DESCRIPTION:Bowie Library: Business After Hours Beth Hiatt 5-7 pm \nRibbon Cutting: 5:15 – 5:30 pm \n 
URL:https://bowietxchamber.org/event/bowie-library-business-after-hours/
LOCATION:Bowie Library\, 301 Walnut St.\, Bowie\, 76230\, United States
CATEGORIES:Ribbon Cutting
END:VEVENT
BEGIN:VEVENT
DTSTART;TZID=UTC:20220816T120000
DTEND;TZID=UTC:20220816T130000
DTSTAMP:20260420T015447
CREATED:20220715T191115Z
LAST-MODIFIED:20220715T191115Z
UID:1683-1660651200-1660654800@bowietxchamber.org
SUMMARY:Chamber Lunch & Learn
DESCRIPTION:Great opportunity to Network and Learn while enjoying lunch. The guest speaker will be from the SBDC Small Business Development Center. \nEast Hall
URL:https://bowietxchamber.org/event/chamber-lunch-learn/
LOCATION:Bowie Community Center\, 413 Pelham St\, Bowie\, TX\, 76230\, United States
END:VEVENT
BEGIN:VEVENT
DTSTART;TZID=UTC:20220815T070000
DTEND;TZID=UTC:20220815T210000
DTSTAMP:20260420T015447
CREATED:20220708T141711Z
LAST-MODIFIED:20220708T141711Z
UID:1620-1660546800-1660597200@bowietxchamber.org
SUMMARY:Light Up Your Lymphatic System!
DESCRIPTION:Learn the Lymphatic System\, how to strengthen it\, and use flower essences\, herbs\, essential oils\, and technology for it by Dr. Jeanne Calabretta\, Naturopathic Doctor. Bring a new attendee who hasn’t attended before and receive a $5.00 discount on admission.
URL:https://bowietxchamber.org/event/light-up-your-lymphatic-system/
LOCATION:Bowie Community Center\, 413 Pelham St\, Bowie\, TX\, 76230\, United States
ORGANIZER;CN="Bonnie Kinder":MAILTO:communitycenter@cityofbowietx.com
END:VEVENT
BEGIN:VEVENT
DTSTART;TZID=UTC:20220814T140000
DTEND;TZID=UTC:20220814T160000
DTSTAMP:20260420T015447
CREATED:20220714T151230Z
LAST-MODIFIED:20220714T151230Z
UID:1677-1660485600-1660492800@bowietxchamber.org
SUMMARY:Squeeze The Day With Brenda "Sam" Marshall
DESCRIPTION:Squeeze The Day – With Brenda “Sam” Marshall\n\nSunday\, August 14th\, 2022 – 2:00 – 4:00\n\n$20 – Admission and Seat at a Table (Please select the table you desire\, then add the number of seats) \n\nSummer Refreshments by Leeann’s Tasty Creations\n\n“When life gives you lemons – Make lemonade”\n\n\nAll events are presumed to be Rain or Shine. With the exception of complete event cancellation\, no refunds will be issued unless Refund Protection was purchased at checkout. Please see our Refund Policy for more details.
URL:https://bowietxchamber.org/event/squeeze-the-day-with-brenda-sam-marshall/
LOCATION:Stone Bridge\, 605 Haney Rd\, Bowie\, TX\, 76230\, United States
END:VEVENT
END:VCALENDAR