BEGIN:VCALENDAR
VERSION:2.0
PRODID:-//Bowie TX Chamber of Commerce - ECPv6.15.20//NONSGML v1.0//EN
CALSCALE:GREGORIAN
METHOD:PUBLISH
X-WR-CALNAME:Bowie TX Chamber of Commerce
X-ORIGINAL-URL:https://bowietxchamber.org
X-WR-CALDESC:Events for Bowie TX Chamber of Commerce
REFRESH-INTERVAL;VALUE=DURATION:PT1H
X-Robots-Tag:noindex
X-PUBLISHED-TTL:PT1H
BEGIN:VTIMEZONE
TZID:UTC
BEGIN:STANDARD
TZOFFSETFROM:+0000
TZOFFSETTO:+0000
TZNAME:UTC
DTSTART:20230101T000000
END:STANDARD
END:VTIMEZONE
BEGIN:VTIMEZONE
TZID:America/New_York
BEGIN:DAYLIGHT
TZOFFSETFROM:-0500
TZOFFSETTO:-0400
TZNAME:EDT
DTSTART:20230312T070000
END:DAYLIGHT
BEGIN:STANDARD
TZOFFSETFROM:-0400
TZOFFSETTO:-0500
TZNAME:EST
DTSTART:20231105T060000
END:STANDARD
BEGIN:DAYLIGHT
TZOFFSETFROM:-0500
TZOFFSETTO:-0400
TZNAME:EDT
DTSTART:20240310T070000
END:DAYLIGHT
BEGIN:STANDARD
TZOFFSETFROM:-0400
TZOFFSETTO:-0500
TZNAME:EST
DTSTART:20241103T060000
END:STANDARD
BEGIN:DAYLIGHT
TZOFFSETFROM:-0500
TZOFFSETTO:-0400
TZNAME:EDT
DTSTART:20250309T070000
END:DAYLIGHT
BEGIN:STANDARD
TZOFFSETFROM:-0400
TZOFFSETTO:-0500
TZNAME:EST
DTSTART:20251102T060000
END:STANDARD
BEGIN:DAYLIGHT
TZOFFSETFROM:-0500
TZOFFSETTO:-0400
TZNAME:EDT
DTSTART:20260308T070000
END:DAYLIGHT
BEGIN:STANDARD
TZOFFSETFROM:-0400
TZOFFSETTO:-0500
TZNAME:EST
DTSTART:20261101T060000
END:STANDARD
END:VTIMEZONE
BEGIN:VTIMEZONE
TZID:America/Chicago
BEGIN:DAYLIGHT
TZOFFSETFROM:-0600
TZOFFSETTO:-0500
TZNAME:CDT
DTSTART:20230312T080000
END:DAYLIGHT
BEGIN:STANDARD
TZOFFSETFROM:-0500
TZOFFSETTO:-0600
TZNAME:CST
DTSTART:20231105T070000
END:STANDARD
BEGIN:DAYLIGHT
TZOFFSETFROM:-0600
TZOFFSETTO:-0500
TZNAME:CDT
DTSTART:20240310T080000
END:DAYLIGHT
BEGIN:STANDARD
TZOFFSETFROM:-0500
TZOFFSETTO:-0600
TZNAME:CST
DTSTART:20241103T070000
END:STANDARD
BEGIN:DAYLIGHT
TZOFFSETFROM:-0600
TZOFFSETTO:-0500
TZNAME:CDT
DTSTART:20250309T080000
END:DAYLIGHT
BEGIN:STANDARD
TZOFFSETFROM:-0500
TZOFFSETTO:-0600
TZNAME:CST
DTSTART:20251102T070000
END:STANDARD
BEGIN:DAYLIGHT
TZOFFSETFROM:-0600
TZOFFSETTO:-0500
TZNAME:CDT
DTSTART:20260308T080000
END:DAYLIGHT
BEGIN:STANDARD
TZOFFSETFROM:-0500
TZOFFSETTO:-0600
TZNAME:CST
DTSTART:20261101T070000
END:STANDARD
END:VTIMEZONE
BEGIN:VEVENT
DTSTART;VALUE=DATE:20241206
DTEND;VALUE=DATE:20241209
DTSTAMP:20260419T211103
CREATED:20240214T144706Z
LAST-MODIFIED:20240214T144706Z
UID:3919-1733443200-1733702399@bowietxchamber.org
SUMMARY:2nd Monday Trade Days
DESCRIPTION:Second Monday Trade Days is open rain sleet or snow on the weekend of the Second Monday every month — The Friday\, Saturday & Sunday preceding the second Monday of each Month.
URL:https://bowietxchamber.org/event/2nd-monday-trade-days-18/
LOCATION:2nd Monday Trade Days\, 414 Pelham St.\, Bowie\, TX\, 76230\, United States
CATEGORIES:2nd Monday Trade Days
ORGANIZER;CN="Bonnie Kinder":MAILTO:communitycenter@cityofbowietx.com
END:VEVENT
BEGIN:VEVENT
DTSTART;TZID=America/New_York:20241206T123000
DTEND;TZID=America/New_York:20241206T133000
DTSTAMP:20260419T211103
CREATED:20241104T193254Z
LAST-MODIFIED:20241104T193254Z
UID:5380-1733488200-1733491800@bowietxchamber.org
SUMMARY:Book Club
DESCRIPTION:
URL:https://bowietxchamber.org/event/book-club-2/
END:VEVENT
BEGIN:VEVENT
DTSTART;TZID=America/Chicago:20241206T170000
DTEND;TZID=America/Chicago:20241206T210000
DTSTAMP:20260419T211103
CREATED:20231212T161423Z
LAST-MODIFIED:20231212T161423Z
UID:3751-1733504400-1733518800@bowietxchamber.org
SUMMARY:Sip & Stroll
DESCRIPTION:
URL:https://bowietxchamber.org/event/sip-stroll-8/
END:VEVENT
BEGIN:VEVENT
DTSTART;TZID=America/New_York:20241207T170000
DTEND;TZID=America/New_York:20241207T200000
DTSTAMP:20260419T211103
CREATED:20241104T193728Z
LAST-MODIFIED:20241119T163628Z
UID:5386-1733590800-1733601600@bowietxchamber.org
SUMMARY:Fantasy of Lights Parade
DESCRIPTION:
URL:https://bowietxchamber.org/event/fantasy-of-lights-parade-2/
END:VEVENT
BEGIN:VEVENT
DTSTART;TZID=America/New_York:20241208T140000
DTEND;TZID=America/New_York:20241208T170000
DTSTAMP:20260419T211103
CREATED:20241104T193452Z
LAST-MODIFIED:20241104T193452Z
UID:5382-1733666400-1733677200@bowietxchamber.org
SUMMARY:Amity Club of Bowie: Christmas Tour of Homes
DESCRIPTION:Dec 8th from 2 – 5 PM \n$20 per ticket \nunder 14 free
URL:https://bowietxchamber.org/event/amity-club-of-bowie-christmas-tour-of-homes/
END:VEVENT
BEGIN:VEVENT
DTSTART;TZID=America/New_York:20241212T160000
DTEND;TZID=America/New_York:20241212T190000
DTSTAMP:20260419T211103
CREATED:20241104T193900Z
LAST-MODIFIED:20241104T193900Z
UID:5389-1734019200-1734030000@bowietxchamber.org
SUMMARY:EDC Chamber Appreciation Party
DESCRIPTION:
URL:https://bowietxchamber.org/event/edc-chamber-appreciation-party/
END:VEVENT
BEGIN:VEVENT
DTSTART;TZID=America/New_York:20241231T210000
DTEND;TZID=America/New_York:20250101T000000
DTSTAMP:20260419T211103
CREATED:20241112T202151Z
LAST-MODIFIED:20241112T202151Z
UID:5461-1735678800-1735689600@bowietxchamber.org
SUMMARY:Bowie Community Center New Year's Eve Dance
DESCRIPTION:
URL:https://bowietxchamber.org/event/bowie-community-center-new-years-eve-dance/
END:VEVENT
BEGIN:VEVENT
DTSTART;TZID=America/Chicago:20250102T170000
DTEND;TZID=America/Chicago:20250102T200000
DTSTAMP:20260419T211103
CREATED:20241104T195311Z
LAST-MODIFIED:20241104T195919Z
UID:5417-1735837200-1735848000@bowietxchamber.org
SUMMARY:Game Night at the Bowie Community
DESCRIPTION:The First Thursday of Every Month \n6 – 8 pm \nAges 21 and over. \nDominos\, Yahtzee\, Farkle\, Cards\, Scrabble\, Monopoly\, and more. \nPotluck bring enough to share. \nBring drink of your choice. \nFree water and coffee. \nFore more info call Bonnie \n940-872-4861 \n940-841-1550 \nBowie Community Center \n413 Pelham Street \n304 Lindsey \nBowie\, TX 76230
URL:https://bowietxchamber.org/event/game-night-at-the-bowie-community/
LOCATION:Bowie Community Center\, 413 Pelham St\, Bowie\, TX\, 76230\, United States
ATTACH;FMTTYPE=image/jpeg:https://bowietxchamber.org/wp-content/uploads/2024/11/game-night.jpg
END:VEVENT
BEGIN:VEVENT
DTSTART;VALUE=DATE:20250105
DTEND;VALUE=DATE:20250108
DTSTAMP:20260419T211103
CREATED:20241104T194802Z
LAST-MODIFIED:20241104T194802Z
UID:5392-1736035200-1736294399@bowietxchamber.org
SUMMARY:2nd Monday Trade Days
DESCRIPTION:Second Monday Trade Days is open rain sleet or snow on the weekend of the Second Monday every month — The Friday\, Saturday & Sunday preceding the second Monday of each Month.
URL:https://bowietxchamber.org/event/2nd-monday-trade-days-19/
LOCATION:2nd Monday Trade Days\, 414 Pelham St.\, Bowie\, TX\, 76230\, United States
CATEGORIES:2nd Monday Trade Days
ORGANIZER;CN="Bonnie Kinder":MAILTO:communitycenter@cityofbowietx.com
END:VEVENT
BEGIN:VEVENT
DTSTART;TZID=America/New_York:20250127T180000
DTEND;TZID=America/New_York:20250127T210000
DTSTAMP:20260419T211103
CREATED:20241106T152733Z
LAST-MODIFIED:20250106T170713Z
UID:5443-1738000800-1738011600@bowietxchamber.org
SUMMARY:Bowie Chamber Banquet
DESCRIPTION:
URL:https://bowietxchamber.org/event/bowie-chamber-banquet/
END:VEVENT
BEGIN:VEVENT
DTSTART;TZID=America/Chicago:20250206T170000
DTEND;TZID=America/Chicago:20250206T200000
DTSTAMP:20260419T211103
CREATED:20241104T195332Z
LAST-MODIFIED:20241104T195912Z
UID:5420-1738861200-1738872000@bowietxchamber.org
SUMMARY:Game Night at the Bowie Community
DESCRIPTION:The First Thursday of Every Month \n6 – 8 pm \nAges 21 and over. \nDominos\, Yahtzee\, Farkle\, Cards\, Scrabble\, Monopoly\, and more. \nPotluck bring enough to share. \nBring drink of your choice. \nFree water and coffee. \nFore more info call Bonnie \n940-872-4861 \n940-841-1550 \nBowie Community Center \n413 Pelham Street \n304 Lindsey \nBowie\, TX 76230
URL:https://bowietxchamber.org/event/game-night-at-the-bowie-community-2/
LOCATION:Bowie Community Center\, 413 Pelham St\, Bowie\, TX\, 76230\, United States
ATTACH;FMTTYPE=image/jpeg:https://bowietxchamber.org/wp-content/uploads/2024/11/game-night.jpg
END:VEVENT
BEGIN:VEVENT
DTSTART;VALUE=DATE:20250209
DTEND;VALUE=DATE:20250212
DTSTAMP:20260419T211103
CREATED:20241104T194820Z
LAST-MODIFIED:20241104T194820Z
UID:5395-1739059200-1739318399@bowietxchamber.org
SUMMARY:2nd Monday Trade Days
DESCRIPTION:Second Monday Trade Days is open rain sleet or snow on the weekend of the Second Monday every month — The Friday\, Saturday & Sunday preceding the second Monday of each Month.
URL:https://bowietxchamber.org/event/2nd-monday-trade-days-20/
LOCATION:2nd Monday Trade Days\, 414 Pelham St.\, Bowie\, TX\, 76230\, United States
CATEGORIES:2nd Monday Trade Days
ORGANIZER;CN="Bonnie Kinder":MAILTO:communitycenter@cityofbowietx.com
END:VEVENT
BEGIN:VEVENT
DTSTART;TZID=America/Chicago:20250306T170000
DTEND;TZID=America/Chicago:20250306T200000
DTSTAMP:20260419T211103
CREATED:20241104T195351Z
LAST-MODIFIED:20241104T195905Z
UID:5422-1741280400-1741291200@bowietxchamber.org
SUMMARY:Game Night at the Bowie Community
DESCRIPTION:The First Thursday of Every Month \n6 – 8 pm \nAges 21 and over. \nDominos\, Yahtzee\, Farkle\, Cards\, Scrabble\, Monopoly\, and more. \nPotluck bring enough to share. \nBring drink of your choice. \nFree water and coffee. \nFore more info call Bonnie \n940-872-4861 \n940-841-1550 \nBowie Community Center \n413 Pelham Street \n304 Lindsey \nBowie\, TX 76230
URL:https://bowietxchamber.org/event/game-night-at-the-bowie-community-3/
LOCATION:Bowie Community Center\, 413 Pelham St\, Bowie\, TX\, 76230\, United States
ATTACH;FMTTYPE=image/jpeg:https://bowietxchamber.org/wp-content/uploads/2024/11/game-night.jpg
END:VEVENT
BEGIN:VEVENT
DTSTART;VALUE=DATE:20250308
DTEND;VALUE=DATE:20250311
DTSTAMP:20260419T211103
CREATED:20241104T194834Z
LAST-MODIFIED:20241104T194834Z
UID:5397-1741392000-1741651199@bowietxchamber.org
SUMMARY:2nd Monday Trade Days
DESCRIPTION:Second Monday Trade Days is open rain sleet or snow on the weekend of the Second Monday every month — The Friday\, Saturday & Sunday preceding the second Monday of each Month.
URL:https://bowietxchamber.org/event/2nd-monday-trade-days-21/
LOCATION:2nd Monday Trade Days\, 414 Pelham St.\, Bowie\, TX\, 76230\, United States
CATEGORIES:2nd Monday Trade Days
ORGANIZER;CN="Bonnie Kinder":MAILTO:communitycenter@cityofbowietx.com
END:VEVENT
BEGIN:VEVENT
DTSTART;TZID=America/New_York:20250314T000000
DTEND;TZID=America/New_York:20250314T000000
DTSTAMP:20260419T211103
CREATED:20250220T164842Z
LAST-MODIFIED:20250220T164842Z
UID:5913-1741910400-1741910400@bowietxchamber.org
SUMMARY:St. Patty's Sip & Stroll
DESCRIPTION:
URL:https://bowietxchamber.org/event/st-pattys-sip-stroll/
END:VEVENT
BEGIN:VEVENT
DTSTART;TZID=America/Chicago:20250403T170000
DTEND;TZID=America/Chicago:20250403T200000
DTSTAMP:20260419T211103
CREATED:20241104T195415Z
LAST-MODIFIED:20241104T195858Z
UID:5424-1743699600-1743710400@bowietxchamber.org
SUMMARY:Game Night at the Bowie Community
DESCRIPTION:The First Thursday of Every Month \n6 – 8 pm \nAges 21 and over. \nDominos\, Yahtzee\, Farkle\, Cards\, Scrabble\, Monopoly\, and more. \nPotluck bring enough to share. \nBring drink of your choice. \nFree water and coffee. \nFore more info call Bonnie \n940-872-4861 \n940-841-1550 \nBowie Community Center \n413 Pelham Street \n304 Lindsey \nBowie\, TX 76230
URL:https://bowietxchamber.org/event/game-night-at-the-bowie-community-4/
LOCATION:Bowie Community Center\, 413 Pelham St\, Bowie\, TX\, 76230\, United States
ATTACH;FMTTYPE=image/jpeg:https://bowietxchamber.org/wp-content/uploads/2024/11/game-night.jpg
END:VEVENT
BEGIN:VEVENT
DTSTART;VALUE=DATE:20250411
DTEND;VALUE=DATE:20250414
DTSTAMP:20260419T211103
CREATED:20241104T194850Z
LAST-MODIFIED:20250218T164019Z
UID:5399-1744329600-1744588799@bowietxchamber.org
SUMMARY:2nd Monday Trade Days
DESCRIPTION:Second Monday Trade Days is open rain sleet or snow on the weekend of the Second Monday every month — The Friday\, Saturday & Sunday preceding the second Monday of each Month.
URL:https://bowietxchamber.org/event/2nd-monday-trade-days-22/
LOCATION:2nd Monday Trade Days\, 414 Pelham St.\, Bowie\, TX\, 76230\, United States
CATEGORIES:2nd Monday Trade Days
ORGANIZER;CN="Bonnie Kinder":MAILTO:communitycenter@cityofbowietx.com
END:VEVENT
BEGIN:VEVENT
DTSTART;TZID=America/New_York:20250412T070000
DTEND;TZID=America/New_York:20250412T140000
DTSTAMP:20260419T211103
CREATED:20250218T171238Z
LAST-MODIFIED:20250218T171238Z
UID:5904-1744441200-1744466400@bowietxchamber.org
SUMMARY:Chamber Links
DESCRIPTION:
URL:https://bowietxchamber.org/event/chamber-links/
LOCATION:Top of Lake Country Club\, 676 Country Club Rd\, Bowie\, TX\, 76230\, United States
ORGANIZER;CN="Mary Jane Fulton":MAILTO:info@bowietxchamber.org
END:VEVENT
BEGIN:VEVENT
DTSTART;TZID=America/New_York:20250419T100000
DTEND;TZID=America/New_York:20250419T130000
DTSTAMP:20260419T211103
CREATED:20250218T170618Z
LAST-MODIFIED:20250218T170618Z
UID:5898-1745056800-1745067600@bowietxchamber.org
SUMMARY:Shred-A-Thon
DESCRIPTION:Twice a year\, the Bowie Chamber of Commerce hosts a “Shred-A-Thon\,” sponsored by Wellington State Bank\, providing the community with a secure way to dispose of documents. This service is free\, though donations are encouraged to support local charities.
URL:https://bowietxchamber.org/event/shred-a-thon-2/
ATTACH;FMTTYPE=image/jpeg:https://bowietxchamber.org/wp-content/uploads/2025/02/thumbnail_Chamber-Paper-Pig-Shredding-new-April-2025.jpg
END:VEVENT
BEGIN:VEVENT
DTSTART;TZID=America/Chicago:20250501T170000
DTEND;TZID=America/Chicago:20250501T200000
DTSTAMP:20260419T211103
CREATED:20241104T195429Z
LAST-MODIFIED:20241104T195852Z
UID:5426-1746118800-1746129600@bowietxchamber.org
SUMMARY:Game Night at the Bowie Community
DESCRIPTION:The First Thursday of Every Month \n6 – 8 pm \nAges 21 and over. \nDominos\, Yahtzee\, Farkle\, Cards\, Scrabble\, Monopoly\, and more. \nPotluck bring enough to share. \nBring drink of your choice. \nFree water and coffee. \nFore more info call Bonnie \n940-872-4861 \n940-841-1550 \nBowie Community Center \n413 Pelham Street \n304 Lindsey \nBowie\, TX 76230
URL:https://bowietxchamber.org/event/game-night-at-the-bowie-community-5/
LOCATION:Bowie Community Center\, 413 Pelham St\, Bowie\, TX\, 76230\, United States
ATTACH;FMTTYPE=image/jpeg:https://bowietxchamber.org/wp-content/uploads/2024/11/game-night.jpg
END:VEVENT
BEGIN:VEVENT
DTSTART;TZID=America/New_York:20250502T000000
DTEND;TZID=America/New_York:20250502T000000
DTSTAMP:20260419T211103
CREATED:20250220T164923Z
LAST-MODIFIED:20250220T164923Z
UID:5915-1746144000-1746144000@bowietxchamber.org
SUMMARY:Mom's Night Out Sip & Stroll
DESCRIPTION:
URL:https://bowietxchamber.org/event/moms-night-out-sip-stroll/
END:VEVENT
BEGIN:VEVENT
DTSTART;TZID=America/Chicago:20250502T170000
DTEND;TZID=America/Chicago:20250502T210000
DTSTAMP:20260419T211103
CREATED:20250115T173718Z
LAST-MODIFIED:20250115T173809Z
UID:5767-1746205200-1746219600@bowietxchamber.org
SUMMARY:Sip & Stroll
DESCRIPTION:2025 Mom’s Night Out Sip & Stroll with me \nMom’s Night Out Sip & Stroll with me will be a chance to celebrate our moms with the May 2\, 2025 Friday evening Sip & Stroll with me. Many of our downtown locations stay open late after 5 p.m. for “mini-open house” to showcase for this event. \nDowntown Bowie\, Texas\n101 E. Pecan Street \n  \nFor more on our Sip & Strolls please call Bowie Community Development at 940.872.6246
URL:https://bowietxchamber.org/event/sip-stroll-9/
END:VEVENT
BEGIN:VEVENT
DTSTART;VALUE=DATE:20250509
DTEND;VALUE=DATE:20250512
DTSTAMP:20260419T211103
CREATED:20241104T194911Z
LAST-MODIFIED:20250218T164340Z
UID:5401-1746748800-1747007999@bowietxchamber.org
SUMMARY:2nd Monday Trade Days
DESCRIPTION:Second Monday Trade Days is open rain sleet or snow on the weekend of the Second Monday every month — The Friday\, Saturday & Sunday preceding the second Monday of each Month.
URL:https://bowietxchamber.org/event/2nd-monday-trade-days-23/
LOCATION:2nd Monday Trade Days\, 414 Pelham St.\, Bowie\, TX\, 76230\, United States
CATEGORIES:2nd Monday Trade Days
ORGANIZER;CN="Bonnie Kinder":MAILTO:communitycenter@cityofbowietx.com
END:VEVENT
BEGIN:VEVENT
DTSTART;TZID=America/Chicago:20250605T170000
DTEND;TZID=America/Chicago:20250605T200000
DTSTAMP:20260419T211103
CREATED:20241104T195446Z
LAST-MODIFIED:20241104T195845Z
UID:5428-1749142800-1749153600@bowietxchamber.org
SUMMARY:Game Night at the Bowie Community
DESCRIPTION:The First Thursday of Every Month \n6 – 8 pm \nAges 21 and over. \nDominos\, Yahtzee\, Farkle\, Cards\, Scrabble\, Monopoly\, and more. \nPotluck bring enough to share. \nBring drink of your choice. \nFree water and coffee. \nFore more info call Bonnie \n940-872-4861 \n940-841-1550 \nBowie Community Center \n413 Pelham Street \n304 Lindsey \nBowie\, TX 76230
URL:https://bowietxchamber.org/event/game-night-at-the-bowie-community-6/
LOCATION:Bowie Community Center\, 413 Pelham St\, Bowie\, TX\, 76230\, United States
ATTACH;FMTTYPE=image/jpeg:https://bowietxchamber.org/wp-content/uploads/2024/11/game-night.jpg
END:VEVENT
BEGIN:VEVENT
DTSTART;VALUE=DATE:20250606
DTEND;VALUE=DATE:20250609
DTSTAMP:20260419T211103
CREATED:20241104T194926Z
LAST-MODIFIED:20250218T164338Z
UID:5403-1749168000-1749427199@bowietxchamber.org
SUMMARY:2nd Monday Trade Days
DESCRIPTION:Second Monday Trade Days is open rain sleet or snow on the weekend of the Second Monday every month — The Friday\, Saturday & Sunday preceding the second Monday of each Month.
URL:https://bowietxchamber.org/event/2nd-monday-trade-days-24/
LOCATION:2nd Monday Trade Days\, 414 Pelham St.\, Bowie\, TX\, 76230\, United States
CATEGORIES:2nd Monday Trade Days
ORGANIZER;CN="Bonnie Kinder":MAILTO:communitycenter@cityofbowietx.com
END:VEVENT
BEGIN:VEVENT
DTSTART;TZID=America/New_York:20250626T073000
DTEND;TZID=America/New_York:20250626T223000
DTSTAMP:20260419T211103
CREATED:20250619T190351Z
LAST-MODIFIED:20250619T190843Z
UID:6163-1750923000-1750977000@bowietxchamber.org
SUMMARY:Jim Bowie Days Rodeo Performance Night #1
DESCRIPTION:The Performance will feature the top Cowboys and Cowgirls of the UPRA! \n\n\n\n\n6:30pm:  Mutton Bustin’ Check-In\nCity of Bowie Community Ctr\, Pelham St. \n7:30pm:  Rodeo Performance\nFFA Calf Scramble \nChildren’s Calf Scramble \n\nJIM BOWIE DAYS – FULL SCHEDULE
URL:https://bowietxchamber.org/event/jim-bowie-days-rodeo-performance-night-1/
CATEGORIES:Jim Bowie Days,Rodeo
ATTACH;FMTTYPE=image/png:https://bowietxchamber.org/wp-content/uploads/2025/06/Full-Logo-Colordark-1024x1024-1-e1750360197945.png
END:VEVENT
BEGIN:VEVENT
DTSTART;TZID=America/New_York:20250627T073000
DTEND;TZID=America/New_York:20250627T223000
DTSTAMP:20260419T211103
CREATED:20250619T190548Z
LAST-MODIFIED:20250619T190548Z
UID:6166-1751009400-1751063400@bowietxchamber.org
SUMMARY:Jim Bowie Days Rodeo Performance Night #2
DESCRIPTION:6:30pm:  Mutton Bustin’ Check-In\nCity of Bowie Community Ctr\, Pelham St.Children’s Calf Scramble\nRodeo Stock:  T-N-T Rodeo Company \nJIM BOWIE DAYS – FULL SCHEDULE
URL:https://bowietxchamber.org/event/jim-bowie-days-rodeo-performance-night-2/
CATEGORIES:Jim Bowie Days,Rodeo
ATTACH;FMTTYPE=image/png:https://bowietxchamber.org/wp-content/uploads/2025/06/Full-Logo-Colordark-1024x1024-1-e1750360197945.png
END:VEVENT
BEGIN:VEVENT
DTSTART;TZID=America/New_York:20250628T073000
DTEND;TZID=America/New_York:20250628T223000
DTSTAMP:20260419T211103
CREATED:20250619T190629Z
LAST-MODIFIED:20250619T190629Z
UID:6168-1751095800-1751149800@bowietxchamber.org
SUMMARY:Jim Bowie Days Rodeo Performance Night #3
DESCRIPTION:6:30pm:  Mutton Bustin’ – Top 6 – Check-In\nCity of Bowie Community Ctr.\, Pelham St. \n7:30pm:  Royalty Presentations\nBowie Rodeo Arena\nReigning Royalty and Contestants\n2025 Pioneer Queen & Duchesses\nJim Bowie Days Rodeo Performance\nRodeo Stock:  T-N-T Rodeo Company\nCrowning of Miss & Little Miss Jim Bowie Days \nChildren’s Calf Scramble \nJIM BOWIE DAYS – FULL SCHEDULE
URL:https://bowietxchamber.org/event/jim-bowie-days-rodeo-performance-night-3/
CATEGORIES:Jim Bowie Days,Rodeo
ATTACH;FMTTYPE=image/png:https://bowietxchamber.org/wp-content/uploads/2025/06/Full-Logo-Colordark-1024x1024-1-e1750360197945.png
END:VEVENT
BEGIN:VEVENT
DTSTART;TZID=America/New_York:20250628T080000
DTEND;TZID=America/New_York:20250628T170000
DTSTAMP:20260419T211103
CREATED:20250219T180505Z
LAST-MODIFIED:20250619T191415Z
UID:5908-1751097600-1751130000@bowietxchamber.org
SUMMARY:Jim Bowie Days Corn Hole Tournament
DESCRIPTION:
URL:https://bowietxchamber.org/event/jim-bowie-days-corn-hole-tournament/
CATEGORIES:Jim Bowie Days
END:VEVENT
BEGIN:VEVENT
DTSTART;TZID=America/New_York:20250628T103000
DTEND;TZID=America/New_York:20250628T123000
DTSTAMP:20260419T211103
CREATED:20250619T191314Z
LAST-MODIFIED:20250619T191314Z
UID:6170-1751106600-1751113800@bowietxchamber.org
SUMMARY:Jim Bowie Days Grand Parade
DESCRIPTION:COME ONE\, COME ALL! The Jim Bowie Days Parade is back and bigger than ever as we kick off the 59th Annual Jim Bowie Days Rodeo & Celebration with a good ol’ fashioned Texas-style parade! Get ready for small-town charm\, patriotic pride\, and a whole lot of fun! \n\nCalling All Participants:\nThe Jim Bowie Days Association is looking for YOU to be part of the excitement! Bring the spirit of Texas to the streets of Bowie and help us celebrate this proud tradition. \nCategories include: \n\n\nKids – Decorate Your Bikes and ride in the parade! \n\n\nAntique Cars\, Trucks & Tractors – polish up and show off your classics! \n\n\nCowboys & Cowgirls – Bring Your Horses to Town and ride with pride! \n\n\nBring on the Floats! – Decorate and enter your float in line with our theme! \n\n\nPrizes Will Be Awarded for outstanding entries! \n\nNo Entry Fees!\nThat’s right – there’s no cost to enter. Just bring your enthusiasm\, creativity\, and community spirit. \nFor more information or to enter: 📧 Email: jbdrodeo@live.com\n \nLet’s celebrate Bowie\, Texas with music\, horses\, floats\, and good old-fashioned American pride. We can’t wait to see y’all there! \n\n\n\nJIM BOWIE DAYS – FULL SCHEDULE
URL:https://bowietxchamber.org/event/jim-bowie-days-rodeo-grand-parade/
CATEGORIES:Jim Bowie Days,Parade
END:VEVENT
END:VCALENDAR