BEGIN:VCALENDAR
VERSION:2.0
PRODID:-//Bowie TX Chamber of Commerce - ECPv6.15.20//NONSGML v1.0//EN
CALSCALE:GREGORIAN
METHOD:PUBLISH
X-WR-CALNAME:Bowie TX Chamber of Commerce
X-ORIGINAL-URL:https://bowietxchamber.org
X-WR-CALDESC:Events for Bowie TX Chamber of Commerce
REFRESH-INTERVAL;VALUE=DURATION:PT1H
X-Robots-Tag:noindex
X-PUBLISHED-TTL:PT1H
BEGIN:VTIMEZONE
TZID:America/Chicago
BEGIN:DAYLIGHT
TZOFFSETFROM:-0600
TZOFFSETTO:-0500
TZNAME:CDT
DTSTART:20210314T080000
END:DAYLIGHT
BEGIN:STANDARD
TZOFFSETFROM:-0500
TZOFFSETTO:-0600
TZNAME:CST
DTSTART:20211107T070000
END:STANDARD
BEGIN:DAYLIGHT
TZOFFSETFROM:-0600
TZOFFSETTO:-0500
TZNAME:CDT
DTSTART:20220313T080000
END:DAYLIGHT
BEGIN:STANDARD
TZOFFSETFROM:-0500
TZOFFSETTO:-0600
TZNAME:CST
DTSTART:20221106T070000
END:STANDARD
BEGIN:DAYLIGHT
TZOFFSETFROM:-0600
TZOFFSETTO:-0500
TZNAME:CDT
DTSTART:20230312T080000
END:DAYLIGHT
BEGIN:STANDARD
TZOFFSETFROM:-0500
TZOFFSETTO:-0600
TZNAME:CST
DTSTART:20231105T070000
END:STANDARD
END:VTIMEZONE
BEGIN:VTIMEZONE
TZID:UTC
BEGIN:STANDARD
TZOFFSETFROM:+0000
TZOFFSETTO:+0000
TZNAME:UTC
DTSTART:20210101T000000
END:STANDARD
END:VTIMEZONE
BEGIN:VTIMEZONE
TZID:America/New_York
BEGIN:DAYLIGHT
TZOFFSETFROM:-0500
TZOFFSETTO:-0400
TZNAME:EDT
DTSTART:20210314T070000
END:DAYLIGHT
BEGIN:STANDARD
TZOFFSETFROM:-0400
TZOFFSETTO:-0500
TZNAME:EST
DTSTART:20211107T060000
END:STANDARD
BEGIN:DAYLIGHT
TZOFFSETFROM:-0500
TZOFFSETTO:-0400
TZNAME:EDT
DTSTART:20220313T070000
END:DAYLIGHT
BEGIN:STANDARD
TZOFFSETFROM:-0400
TZOFFSETTO:-0500
TZNAME:EST
DTSTART:20221106T060000
END:STANDARD
BEGIN:DAYLIGHT
TZOFFSETFROM:-0500
TZOFFSETTO:-0400
TZNAME:EDT
DTSTART:20230312T070000
END:DAYLIGHT
BEGIN:STANDARD
TZOFFSETFROM:-0400
TZOFFSETTO:-0500
TZNAME:EST
DTSTART:20231105T060000
END:STANDARD
END:VTIMEZONE
BEGIN:VEVENT
DTSTART;TZID=America/Chicago:20220712T120000
DTEND;TZID=America/Chicago:20220712T130000
DTSTAMP:20260420T002900
CREATED:20220623T163855Z
LAST-MODIFIED:20220707T143503Z
UID:1473-1657627200-1657630800@bowietxchamber.org
SUMMARY:Chamber Board Meeting
DESCRIPTION:Monthly Bowie Chamber of Commerce Board of Directors Meeting. General board meetings are open to the public; however\, if someone has the desire to speak to the board\, please speak to the director of the chamber to be placed on the agenda at least 8 days prior to the meeting.
URL:https://bowietxchamber.org/event/chamber-board-meeting/
LOCATION:Chamber of Commerce – EDC Building\, 101 E. Pecan St\, Bowie\, TX\, 76230\, United States
CATEGORIES:Chamber Board Meetings
ORGANIZER;CN="Debbie Herriage":MAILTO:info@bowietxchamber.org
END:VEVENT
BEGIN:VEVENT
DTSTART;TZID=UTC:20220708T180000
DTEND;TZID=UTC:20220708T200000
DTSTAMP:20260420T002900
CREATED:20220707T174514Z
LAST-MODIFIED:20220707T174514Z
UID:1604-1657303200-1657310400@bowietxchamber.org
SUMMARY:Game Night
DESCRIPTION:Potluck – 21 Years of age and older.
URL:https://bowietxchamber.org/event/game-night/
LOCATION:Bowie Community Center\, 413 Pelham St\, Bowie\, TX\, 76230\, United States
ORGANIZER;CN="Bonnie Kinder":MAILTO:communitycenter@cityofbowietx.com
END:VEVENT
BEGIN:VEVENT
DTSTART;TZID=UTC:20220708T080000
DTEND;TZID=UTC:20220710T170000
DTSTAMP:20260420T002900
CREATED:20220615T174849Z
LAST-MODIFIED:20220707T143737Z
UID:1428-1657267200-1657472400@bowietxchamber.org
SUMMARY:2nd Monday Trade Days
DESCRIPTION:Second Monday Trade Days is open rain sleet or snow on the weekend of the Second Monday every month — The Friday\, Saturday & Sunday preceding the second Monday of each Month.
URL:https://bowietxchamber.org/event/2nd-monday-trade-days/
LOCATION:2nd Monday Trade Days\, 414 Pelham St.\, Bowie\, TX\, 76230\, United States
CATEGORIES:2nd Monday Trade Days
ORGANIZER;CN="Bonnie Kinder":MAILTO:communitycenter@cityofbowietx.com
END:VEVENT
BEGIN:VEVENT
DTSTART;TZID=UTC:20220708T073000
DTEND;TZID=UTC:20220708T220000
DTSTAMP:20260420T002900
CREATED:20220707T172313Z
LAST-MODIFIED:20220707T173655Z
UID:1580-1657265400-1657317600@bowietxchamber.org
SUMMARY:Outdoor Movie Night
DESCRIPTION:FREE! Downtown Bowie. The parking lot of the City of Bowie Customer Service Center at Mason St & Tarrant St. \n\n\n\n\n\nWe will be back downtown for Outdoor Movie Night this Friday\, July 8\, 2022. Join us for our favorite yellow minions in Despicable Me. The movie is free just bring your lawn chairs and blankets to the parking lot at Tarrant and Mason Streets. Look for the giant inflatable screen! See you soon!
URL:https://bowietxchamber.org/event/movie-night/
ORGANIZER;CN="Cindy Roller":MAILTO:bcdb@cityofbowietx.com
END:VEVENT
BEGIN:VEVENT
DTSTART;TZID=America/New_York:20220705T080000
DTEND;TZID=America/New_York:20220707T170000
DTSTAMP:20260420T002900
CREATED:20220707T155739Z
LAST-MODIFIED:20220707T155739Z
UID:1562-1657008000-1657213200@bowietxchamber.org
SUMMARY:Golf Camp
DESCRIPTION:Learn the Basic Golf Skills & Techniques. Registration $75. Includes instruction\, snacks\, drinks\, and junior par-tee. \nAges 3-18 from 9am to 12pm.
URL:https://bowietxchamber.org/event/golf-camp/
LOCATION:Top of Lake Country Club\, 676 Country Club Rd\, Bowie\, TX\, 76230\, United States
END:VEVENT
BEGIN:VEVENT
DTSTART;TZID=America/Chicago:20220617T114500
DTEND;TZID=America/Chicago:20220617T123000
DTSTAMP:20260420T002900
CREATED:20220615T171858Z
LAST-MODIFIED:20220615T172659Z
UID:1419-1655466300-1655469000@bowietxchamber.org
SUMMARY:Ribbon Cutting: United Regional
DESCRIPTION:Join us in welcoming United Regional’s Bowie Clinic. \n1004 N Mill Street\nBowie\, TX 76230\n940-764-7710 \nUnited Regional’s Bowie Clinic
URL:https://bowietxchamber.org/event/ribbon-cutting-united-regional/
END:VEVENT
END:VCALENDAR