BEGIN:VCALENDAR
VERSION:2.0
PRODID:-//Bowie TX Chamber of Commerce - ECPv6.15.20//NONSGML v1.0//EN
CALSCALE:GREGORIAN
METHOD:PUBLISH
X-ORIGINAL-URL:https://bowietxchamber.org
X-WR-CALDESC:Events for Bowie TX Chamber of Commerce
REFRESH-INTERVAL;VALUE=DURATION:PT1H
X-Robots-Tag:noindex
X-PUBLISHED-TTL:PT1H
BEGIN:VTIMEZONE
TZID:America/New_York
BEGIN:DAYLIGHT
TZOFFSETFROM:-0500
TZOFFSETTO:-0400
TZNAME:EDT
DTSTART:20240310T070000
END:DAYLIGHT
BEGIN:STANDARD
TZOFFSETFROM:-0400
TZOFFSETTO:-0500
TZNAME:EST
DTSTART:20241103T060000
END:STANDARD
BEGIN:DAYLIGHT
TZOFFSETFROM:-0500
TZOFFSETTO:-0400
TZNAME:EDT
DTSTART:20250309T070000
END:DAYLIGHT
BEGIN:STANDARD
TZOFFSETFROM:-0400
TZOFFSETTO:-0500
TZNAME:EST
DTSTART:20251102T060000
END:STANDARD
BEGIN:DAYLIGHT
TZOFFSETFROM:-0500
TZOFFSETTO:-0400
TZNAME:EDT
DTSTART:20260308T070000
END:DAYLIGHT
BEGIN:STANDARD
TZOFFSETFROM:-0400
TZOFFSETTO:-0500
TZNAME:EST
DTSTART:20261101T060000
END:STANDARD
END:VTIMEZONE
BEGIN:VTIMEZONE
TZID:America/Chicago
BEGIN:DAYLIGHT
TZOFFSETFROM:-0600
TZOFFSETTO:-0500
TZNAME:CDT
DTSTART:20240310T080000
END:DAYLIGHT
BEGIN:STANDARD
TZOFFSETFROM:-0500
TZOFFSETTO:-0600
TZNAME:CST
DTSTART:20241103T070000
END:STANDARD
BEGIN:DAYLIGHT
TZOFFSETFROM:-0600
TZOFFSETTO:-0500
TZNAME:CDT
DTSTART:20250309T080000
END:DAYLIGHT
BEGIN:STANDARD
TZOFFSETFROM:-0500
TZOFFSETTO:-0600
TZNAME:CST
DTSTART:20251102T070000
END:STANDARD
BEGIN:DAYLIGHT
TZOFFSETFROM:-0600
TZOFFSETTO:-0500
TZNAME:CDT
DTSTART:20260308T080000
END:DAYLIGHT
BEGIN:STANDARD
TZOFFSETFROM:-0500
TZOFFSETTO:-0600
TZNAME:CST
DTSTART:20261101T070000
END:STANDARD
BEGIN:DAYLIGHT
TZOFFSETFROM:-0600
TZOFFSETTO:-0500
TZNAME:CDT
DTSTART:20270314T080000
END:DAYLIGHT
BEGIN:STANDARD
TZOFFSETFROM:-0500
TZOFFSETTO:-0600
TZNAME:CST
DTSTART:20271107T070000
END:STANDARD
END:VTIMEZONE
BEGIN:VTIMEZONE
TZID:UTC
BEGIN:STANDARD
TZOFFSETFROM:+0000
TZOFFSETTO:+0000
TZNAME:UTC
DTSTART:20240101T000000
END:STANDARD
END:VTIMEZONE
BEGIN:VEVENT
DTSTART;TZID=America/New_York:20250904T080000
DTEND;TZID=America/New_York:20250904T170000
DTSTAMP:20260420T042141
CREATED:20250902T150643Z
LAST-MODIFIED:20250902T154344Z
UID:6539-1756972800-1757005200@bowietxchamber.org
SUMMARY:Food Bites! End of Summer Bash!
DESCRIPTION:Thursday 5 – 7:30 PM \nWise Street Mercantile \n111 West Wise Street
URL:https://bowietxchamber.org/event/food-bites-end-of-summer-bash/
ATTACH;FMTTYPE=image/png:https://bowietxchamber.org/wp-content/uploads/2025/09/Wise_St_Merch_Untitled_20250825_120522.png
END:VEVENT
BEGIN:VEVENT
DTSTART;TZID=America/Chicago:20250904T170000
DTEND;TZID=America/Chicago:20250904T200000
DTSTAMP:20260420T042141
CREATED:20241104T195534Z
LAST-MODIFIED:20241104T195822Z
UID:5434-1757005200-1757016000@bowietxchamber.org
SUMMARY:Game Night at the Bowie Community
DESCRIPTION:The First Thursday of Every Month \n6 – 8 pm \nAges 21 and over. \nDominos\, Yahtzee\, Farkle\, Cards\, Scrabble\, Monopoly\, and more. \nPotluck bring enough to share. \nBring drink of your choice. \nFree water and coffee. \nFore more info call Bonnie \n940-872-4861 \n940-841-1550 \nBowie Community Center \n413 Pelham Street \n304 Lindsey \nBowie\, TX 76230
URL:https://bowietxchamber.org/event/game-night-at-the-bowie-community-9/
LOCATION:Bowie Community Center\, 413 Pelham St\, Bowie\, TX\, 76230\, United States
ATTACH;FMTTYPE=image/jpeg:https://bowietxchamber.org/wp-content/uploads/2024/11/game-night.jpg
END:VEVENT
BEGIN:VEVENT
DTSTART;VALUE=DATE:20250905
DTEND;VALUE=DATE:20250908
DTSTAMP:20260420T042141
CREATED:20241104T195011Z
LAST-MODIFIED:20250218T164333Z
UID:5409-1757030400-1757289599@bowietxchamber.org
SUMMARY:2nd Monday Trade Days
DESCRIPTION:Second Monday Trade Days is open rain sleet or snow on the weekend of the Second Monday every month — The Friday\, Saturday & Sunday preceding the second Monday of each Month.
URL:https://bowietxchamber.org/event/2nd-monday-trade-days-27/
LOCATION:2nd Monday Trade Days\, 414 Pelham St.\, Bowie\, TX\, 76230\, United States
CATEGORIES:2nd Monday Trade Days
ORGANIZER;CN="Bonnie Kinder":MAILTO:communitycenter@cityofbowietx.com
END:VEVENT
BEGIN:VEVENT
DTSTART;TZID=America/New_York:20250906T190000
DTEND;TZID=America/New_York:20250906T230000
DTSTAMP:20260420T042141
CREATED:20250902T160531Z
LAST-MODIFIED:20250902T160531Z
UID:6547-1757185200-1757199600@bowietxchamber.org
SUMMARY:Community Dance at Silver Strings Entertainment Center
DESCRIPTION:Community Dance at Silver Strings Entertainment Center \nSaturday Sept. 6th \n7 – 11 PM \n$10 Admission \nSilver Strings Entertainment Center \n500 N Smyth St. \nBowie Texas 76230
URL:https://bowietxchamber.org/event/community-dance-at-silver-strings-entertainment-center/
ATTACH;FMTTYPE=image/jpeg:https://bowietxchamber.org/wp-content/uploads/2025/09/Silver_Strings_IMG_5713_20250810_164737__1_.jpg
END:VEVENT
BEGIN:VEVENT
DTSTART;TZID=America/New_York:20250911T173000
DTEND;TZID=America/New_York:20250911T193000
DTSTAMP:20260420T042141
CREATED:20250807T145423Z
LAST-MODIFIED:20250807T210500Z
UID:6426-1757611800-1757619000@bowietxchamber.org
SUMMARY:Emergency Preparedness Cookbook
DESCRIPTION:Register Now\n\n\n\nEmergency Preparedness Cookbook \nSAVE THE DATE:\nSeptember 11\, 2025 \nWould you feel confident in feeding your family when things go dark? Plan to join us to sample some tasty recipes\, receive tips for safety\, and preparation if there is an emergency. \nEmergency Preparedness Edition \n$20 per Person \nAt Bowie Community Center\, East Hall \n413 Pelham Street\,\nBowie\, TX 76230 \nFor questions\, please contact:\nMelanie Stott\, CEA-FCH\nmelanie.stott@ag.tamu.edu\n940.894.2831 \n  \n\n 
URL:https://bowietxchamber.org/event/emergency-preparedness-cookbook/
LOCATION:Bowie Community Center\, 413 Pelham St\, Bowie\, TX\, 76230\, United States
ATTACH;FMTTYPE=image/jpeg:https://bowietxchamber.org/wp-content/uploads/2025/08/emergency-preparedness-cookbook-4.jpg
ORGANIZER;CN="Cindy Roller":MAILTO:bcdb@cityofbowietx.com
END:VEVENT
BEGIN:VEVENT
DTSTART;TZID=America/New_York:20250913T070000
DTEND;TZID=America/New_York:20250913T150000
DTSTAMP:20260420T042141
CREATED:20250902T160704Z
LAST-MODIFIED:20250908T155007Z
UID:6550-1757746800-1757775600@bowietxchamber.org
SUMMARY:Chicken & Bread Days Bass Tournament
DESCRIPTION:2025 Chicken and Bread Day Bass Tournament Registration and Rules \n\n\nRegister Now
URL:https://bowietxchamber.org/event/chicken-bread-days-bass-tournament-3/
ATTACH;FMTTYPE=image/jpeg:https://bowietxchamber.org/wp-content/uploads/2025/09/thumbnail_CB-Days-Bass-Tournament-2025-scaled.jpg
END:VEVENT
BEGIN:VEVENT
DTSTART;TZID=America/New_York:20250913T160000
DTEND;TZID=America/New_York:20250913T190000
DTSTAMP:20260420T042141
CREATED:20250902T154514Z
LAST-MODIFIED:20250902T154620Z
UID:6544-1757779200-1757790000@bowietxchamber.org
SUMMARY:Faux Concrete Pumpkin Party
DESCRIPTION:hosted by Rustic Rose Furniture & Treasures is scheduled for Saturday\, September 13 from 4 p.m. to 7 p.m. at their downtown location 218 N. Mason Street Bowie\, Texas 76230.\nLet’s all get ready for fall together!
URL:https://bowietxchamber.org/event/faux-concrete-pumpkin-party/
ATTACH;FMTTYPE=image/jpeg:https://bowietxchamber.org/wp-content/uploads/2025/09/Rustic_Rose_FB_IMG_1756334084677.jpg
END:VEVENT
BEGIN:VEVENT
DTSTART;VALUE=DATE:20250919
DTEND;VALUE=DATE:20250920
DTSTAMP:20260420T042141
CREATED:20250710T142236Z
LAST-MODIFIED:20250710T142414Z
UID:6283-1758240000-1758326399@bowietxchamber.org
SUMMARY:Bowie High School All Class Reunion
DESCRIPTION:
URL:https://bowietxchamber.org/event/bowie-high-school-all-class-reunion/
ATTACH;FMTTYPE=image/jpeg:https://bowietxchamber.org/wp-content/uploads/2025/07/489992700_3910207845962749_6027561276471971662_n.jpg
END:VEVENT
BEGIN:VEVENT
DTSTART;VALUE=DATE:20250920
DTEND;VALUE=DATE:20250921
DTSTAMP:20260420T042141
CREATED:20250710T142334Z
LAST-MODIFIED:20250710T142334Z
UID:6286-1758326400-1758412799@bowietxchamber.org
SUMMARY:Bowie High School All Class Reunion
DESCRIPTION:
URL:https://bowietxchamber.org/event/bowie-high-school-all-class-reunion-2/
ATTACH;FMTTYPE=image/jpeg:https://bowietxchamber.org/wp-content/uploads/2025/07/489992700_3910207845962749_6027561276471971662_n.jpg
END:VEVENT
BEGIN:VEVENT
DTSTART;TZID=America/Chicago:20251002T170000
DTEND;TZID=America/Chicago:20251002T200000
DTSTAMP:20260420T042141
CREATED:20241104T195548Z
LAST-MODIFIED:20241104T195814Z
UID:5436-1759424400-1759435200@bowietxchamber.org
SUMMARY:Game Night at the Bowie Community
DESCRIPTION:The First Thursday of Every Month \n6 – 8 pm \nAges 21 and over. \nDominos\, Yahtzee\, Farkle\, Cards\, Scrabble\, Monopoly\, and more. \nPotluck bring enough to share. \nBring drink of your choice. \nFree water and coffee. \nFore more info call Bonnie \n940-872-4861 \n940-841-1550 \nBowie Community Center \n413 Pelham Street \n304 Lindsey \nBowie\, TX 76230
URL:https://bowietxchamber.org/event/game-night-at-the-bowie-community-10/
LOCATION:Bowie Community Center\, 413 Pelham St\, Bowie\, TX\, 76230\, United States
ATTACH;FMTTYPE=image/jpeg:https://bowietxchamber.org/wp-content/uploads/2024/11/game-night.jpg
END:VEVENT
BEGIN:VEVENT
DTSTART;TZID=America/New_York:20251003T000000
DTEND;TZID=America/New_York:20251003T000000
DTSTAMP:20260420T042141
CREATED:20250220T164959Z
LAST-MODIFIED:20250220T164959Z
UID:5917-1759449600-1759449600@bowietxchamber.org
SUMMARY:Chicken & Bread Days Sip & Stroll
DESCRIPTION:
URL:https://bowietxchamber.org/event/chicken-bread-days-sip-stroll/
END:VEVENT
BEGIN:VEVENT
DTSTART;TZID=America/New_York:20251004T100000
DTEND;TZID=America/New_York:20251004T160000
DTSTAMP:20260420T042141
CREATED:20250902T160826Z
LAST-MODIFIED:20250902T160826Z
UID:6553-1759572000-1759593600@bowietxchamber.org
SUMMARY:30th Annual Chicken & Bread Days
DESCRIPTION:
URL:https://bowietxchamber.org/event/30th-annual-chicken-bread-days/
ATTACH;FMTTYPE=image/jpeg:https://bowietxchamber.org/wp-content/uploads/2025/09/C_B_Days_flyer_2025.jpg
END:VEVENT
BEGIN:VEVENT
DTSTART;TZID=America/New_York:20251004T100000
DTEND;TZID=America/New_York:20251004T160000
DTSTAMP:20260420T042141
CREATED:20250902T161110Z
LAST-MODIFIED:20250902T161300Z
UID:6556-1759572000-1759593600@bowietxchamber.org
SUMMARY:Car Show
DESCRIPTION:Piston Heads Auto Club \nChicken & Bread Days \nCar Show \nOct. 4th \n10 AM – 4 PM \n 
URL:https://bowietxchamber.org/event/car-show/
ATTACH;FMTTYPE=image/jpeg:https://bowietxchamber.org/wp-content/uploads/2025/09/Car_Show_FB_IMG_1756333697122.jpg
END:VEVENT
BEGIN:VEVENT
DTSTART;VALUE=DATE:20251010
DTEND;VALUE=DATE:20251013
DTSTAMP:20260420T042141
CREATED:20241104T195023Z
LAST-MODIFIED:20250218T164331Z
UID:5411-1760054400-1760313599@bowietxchamber.org
SUMMARY:2nd Monday Trade Days
DESCRIPTION:Second Monday Trade Days is open rain sleet or snow on the weekend of the Second Monday every month — The Friday\, Saturday & Sunday preceding the second Monday of each Month.
URL:https://bowietxchamber.org/event/2nd-monday-trade-days-28/
LOCATION:2nd Monday Trade Days\, 414 Pelham St.\, Bowie\, TX\, 76230\, United States
CATEGORIES:2nd Monday Trade Days
ORGANIZER;CN="Bonnie Kinder":MAILTO:communitycenter@cityofbowietx.com
END:VEVENT
BEGIN:VEVENT
DTSTART;TZID=America/New_York:20251011T100000
DTEND;TZID=America/New_York:20251011T130000
DTSTAMP:20260420T042141
CREATED:20251001T152946Z
LAST-MODIFIED:20251001T152946Z
UID:6670-1760176800-1760187600@bowietxchamber.org
SUMMARY:Shred-A-Thon
DESCRIPTION:Free Shred-a-thon\nby: Wellington State Bank\n10 am – 1 pm\n1301 North Highway 59\nBowie\, Texas 76230
URL:https://bowietxchamber.org/event/shred-a-thon-3/
ATTACH;FMTTYPE=image/jpeg:https://bowietxchamber.org/wp-content/uploads/2025/10/Fall_Paper_Pig_Advertising_2025.jpg
END:VEVENT
BEGIN:VEVENT
DTSTART;TZID=America/Chicago:20251106T170000
DTEND;TZID=America/Chicago:20251106T200000
DTSTAMP:20260420T042141
CREATED:20241104T195602Z
LAST-MODIFIED:20241104T195807Z
UID:5438-1762448400-1762459200@bowietxchamber.org
SUMMARY:Game Night at the Bowie Community
DESCRIPTION:The First Thursday of Every Month \n6 – 8 pm \nAges 21 and over. \nDominos\, Yahtzee\, Farkle\, Cards\, Scrabble\, Monopoly\, and more. \nPotluck bring enough to share. \nBring drink of your choice. \nFree water and coffee. \nFore more info call Bonnie \n940-872-4861 \n940-841-1550 \nBowie Community Center \n413 Pelham Street \n304 Lindsey \nBowie\, TX 76230
URL:https://bowietxchamber.org/event/game-night-at-the-bowie-community-11/
LOCATION:Bowie Community Center\, 413 Pelham St\, Bowie\, TX\, 76230\, United States
ATTACH;FMTTYPE=image/jpeg:https://bowietxchamber.org/wp-content/uploads/2024/11/game-night.jpg
END:VEVENT
BEGIN:VEVENT
DTSTART;VALUE=DATE:20251107
DTEND;VALUE=DATE:20251110
DTSTAMP:20260420T042141
CREATED:20241104T195035Z
LAST-MODIFIED:20250218T164329Z
UID:5413-1762473600-1762732799@bowietxchamber.org
SUMMARY:2nd Monday Trade Days
DESCRIPTION:Second Monday Trade Days is open rain sleet or snow on the weekend of the Second Monday every month — The Friday\, Saturday & Sunday preceding the second Monday of each Month.
URL:https://bowietxchamber.org/event/2nd-monday-trade-days-29/
LOCATION:2nd Monday Trade Days\, 414 Pelham St.\, Bowie\, TX\, 76230\, United States
CATEGORIES:2nd Monday Trade Days
ORGANIZER;CN="Bonnie Kinder":MAILTO:communitycenter@cityofbowietx.com
END:VEVENT
BEGIN:VEVENT
DTSTART;TZID=America/New_York:20251113T130000
DTEND;TZID=America/New_York:20251113T133000
DTSTAMP:20260420T042141
CREATED:20251112T155741Z
LAST-MODIFIED:20251112T155741Z
UID:6816-1763038800-1763040600@bowietxchamber.org
SUMMARY:Groundbreaking Ceremony of the New Pickleball Courts
DESCRIPTION:Thursday\, November 13th \n1:00 PM \n1623 W. Wist St\, Bowie\, Tx \nnext to the Bowie Knife
URL:https://bowietxchamber.org/event/groundbreaking-ceremony-of-the-new-pickleball-courts/
CATEGORIES:Groundbreaking
ATTACH;FMTTYPE=image/jpeg:https://bowietxchamber.org/wp-content/uploads/2025/11/Pickleball_invite_2025.jpg
END:VEVENT
BEGIN:VEVENT
DTSTART;TZID=America/New_York:20251117T190000
DTEND;TZID=America/New_York:20251117T210000
DTSTAMP:20260420T042141
CREATED:20251112T161904Z
LAST-MODIFIED:20251112T161904Z
UID:6872-1763406000-1763413200@bowietxchamber.org
SUMMARY:Balance Emotions with Flower Essences
DESCRIPTION:Learn 38 Bach Remedies \nSafe for all humans \nSafe for Pets \nBlend your own to take home with you! \n  \nMonday Nov. 17th \n7 – 9 PM \nFlood’s Fresh Market \n106 N. Mason St. \nBowie\, Texas \nCall or text with questions \n315-283-8889
URL:https://bowietxchamber.org/event/balance-emotions-with-flower-essences/
ATTACH;FMTTYPE=image/jpeg:https://bowietxchamber.org/wp-content/uploads/2025/11/Jeanne_flyer_IMG_0139_20251110_093633.jpg
END:VEVENT
BEGIN:VEVENT
DTSTART;TZID=America/New_York:20251201T190000
DTEND;TZID=America/New_York:20251201T203000
DTSTAMP:20260420T042141
CREATED:20251112T163135Z
LAST-MODIFIED:20251112T163253Z
UID:6885-1764615600-1764621000@bowietxchamber.org
SUMMARY:Learn Touch Therapies for Emergencies
DESCRIPTION:Emergencies Happen – Be Prepared! \nMonday Dec 1st \nFlood’s Fresh Market \n  \n106 N. Mason St. \nBowie Texas
URL:https://bowietxchamber.org/event/learn-touch-therapies-for-emergencies/
ATTACH;FMTTYPE=image/jpeg:https://bowietxchamber.org/wp-content/uploads/2025/11/Jeanne_IMG_0140_20251110_093633.jpg
END:VEVENT
BEGIN:VEVENT
DTSTART;TZID=America/Chicago:20251204T170000
DTEND;TZID=America/Chicago:20251204T200000
DTSTAMP:20260420T042141
CREATED:20241104T195617Z
LAST-MODIFIED:20241104T195757Z
UID:5440-1764867600-1764878400@bowietxchamber.org
SUMMARY:Game Night at the Bowie Community
DESCRIPTION:The First Thursday of Every Month \n6 – 8 pm \nAges 21 and over. \nDominos\, Yahtzee\, Farkle\, Cards\, Scrabble\, Monopoly\, and more. \nPotluck bring enough to share. \nBring drink of your choice. \nFree water and coffee. \nFore more info call Bonnie \n940-872-4861 \n940-841-1550 \nBowie Community Center \n413 Pelham Street \n304 Lindsey \nBowie\, TX 76230
URL:https://bowietxchamber.org/event/game-night-at-the-bowie-community-12/
LOCATION:Bowie Community Center\, 413 Pelham St\, Bowie\, TX\, 76230\, United States
ATTACH;FMTTYPE=image/jpeg:https://bowietxchamber.org/wp-content/uploads/2024/11/game-night.jpg
END:VEVENT
BEGIN:VEVENT
DTSTART;TZID=America/New_York:20251205T000000
DTEND;TZID=America/New_York:20251205T000000
DTSTAMP:20260420T042141
CREATED:20250220T165039Z
LAST-MODIFIED:20250220T165039Z
UID:5919-1764892800-1764892800@bowietxchamber.org
SUMMARY:Christmas Songs Sip & Stroll
DESCRIPTION:
URL:https://bowietxchamber.org/event/christmas-songs-sip-stroll/
END:VEVENT
BEGIN:VEVENT
DTSTART;VALUE=DATE:20251205
DTEND;VALUE=DATE:20251208
DTSTAMP:20260420T042141
CREATED:20241104T195048Z
LAST-MODIFIED:20250218T164327Z
UID:5415-1764892800-1765151999@bowietxchamber.org
SUMMARY:2nd Monday Trade Days
DESCRIPTION:Second Monday Trade Days is open rain sleet or snow on the weekend of the Second Monday every month — The Friday\, Saturday & Sunday preceding the second Monday of each Month.
URL:https://bowietxchamber.org/event/2nd-monday-trade-days-30/
LOCATION:2nd Monday Trade Days\, 414 Pelham St.\, Bowie\, TX\, 76230\, United States
CATEGORIES:2nd Monday Trade Days
ORGANIZER;CN="Bonnie Kinder":MAILTO:communitycenter@cityofbowietx.com
END:VEVENT
BEGIN:VEVENT
DTSTART;TZID=America/New_York:20251206T080000
DTEND;TZID=America/New_York:20251206T170000
DTSTAMP:20260420T042141
CREATED:20251112T163416Z
LAST-MODIFIED:20251112T163416Z
UID:6888-1765008000-1765040400@bowietxchamber.org
SUMMARY:Fantasy of Lights
DESCRIPTION:Saturday Dec 6th \nDowntown Bowie
URL:https://bowietxchamber.org/event/fantasy-of-lights/
ATTACH;FMTTYPE=image/jpeg:https://bowietxchamber.org/wp-content/uploads/2025/11/Fantasy_of_Lights_Christmas_Festival_Songs_Bowie_2025.jpg
END:VEVENT
BEGIN:VEVENT
DTSTART;TZID=America/New_York:20251209T163000
DTEND;TZID=America/New_York:20251209T183000
DTSTAMP:20260420T042141
CREATED:20251112T162048Z
LAST-MODIFIED:20251112T162155Z
UID:6875-1765297800-1765305000@bowietxchamber.org
SUMMARY:Bowie Economic Development Corporation Holiday Open House
DESCRIPTION:Tuesday Dec. 9th \n4:30 – 6:30 PM \nBowie Economic Development Corporation \n101 E. Pecan St. \nBowie\, Texas 76230
URL:https://bowietxchamber.org/event/holiday-open-house/
ATTACH;FMTTYPE=image/jpeg:https://bowietxchamber.org/wp-content/uploads/2025/11/BEDC_Holiday_Open_House_2025.jpg
END:VEVENT
BEGIN:VEVENT
DTSTART;TZID=America/New_York:20251211T180000
DTEND;TZID=America/New_York:20251211T190000
DTSTAMP:20260420T042141
CREATED:20251112T162351Z
LAST-MODIFIED:20251112T162351Z
UID:6879-1765476000-1765479600@bowietxchamber.org
SUMMARY:Adult Craft Night
DESCRIPTION:Thursday Dec. 11th \n6:00 PM \nBowie Public Library \n301 Walnut St. \nBowie\, Texas
URL:https://bowietxchamber.org/event/adult-craft-night/
LOCATION:Bowie Library\, 301 Walnut St.\, Bowie\, 76230\, United States
ATTACH;FMTTYPE=image/jpeg:https://bowietxchamber.org/wp-content/uploads/2025/11/569699811_1224655029695829_1777273772581647982_n.jpg
END:VEVENT
BEGIN:VEVENT
DTSTART;TZID=America/New_York:20251219T090000
DTEND;TZID=America/New_York:20251219T180000
DTSTAMP:20260420T042141
CREATED:20251112T162747Z
LAST-MODIFIED:20251112T162805Z
UID:6882-1766134800-1766167200@bowietxchamber.org
SUMMARY:Bowie Pet Clinic's 40th Anniversary Celebration
DESCRIPTION:Dec 19th \nBowie Pet Clinic \n9:00 AM – 6:00 PM
URL:https://bowietxchamber.org/event/bowie-pet-clinics-40th-anniversary-celebration/
ATTACH;FMTTYPE=image/png:https://bowietxchamber.org/wp-content/uploads/2025/11/Bowie_Pet_Clinic_flyer40thAnnv.png
END:VEVENT
BEGIN:VEVENT
DTSTART;TZID=America/Chicago:20251231T200000
DTEND;TZID=America/Chicago:20251231T233000
DTSTAMP:20260420T042141
CREATED:20251112T163655Z
LAST-MODIFIED:20251215T222354Z
UID:6891-1767211200-1767223800@bowietxchamber.org
SUMMARY:New Years Eve Dance 2025 Presented By Bowie Community Center
DESCRIPTION:Bowie Community Center presents \nNew Years Eve Dance 2025 \nDecember 31\, 2025 \nStarts: 8:30 PM \nDoors Open 8:00 PM \nGeneral Admission: $20 \nTables: $160 \nGuest Entertainment: Shane Vandiver & The Nitelife Band \nBYOB \n413 Pelham St. \nBowie TX\, 76230 \nCall Bonnie for tickets at 940-872-4861 or 940-841-1550 \n 
URL:https://bowietxchamber.org/event/new-years-eve-dance-2025-presented-by-bowie-community-center/
ATTACH;FMTTYPE=image/jpeg:https://bowietxchamber.org/wp-content/uploads/2025/11/Bowie-Community-Center-FB-Cover-851x315-New-Years-Dance-Copy-2.jpg
END:VEVENT
BEGIN:VEVENT
DTSTART;TZID=America/Chicago:20260105T173000
DTEND;TZID=America/Chicago:20260105T200000
DTSTAMP:20260420T042141
CREATED:20251112T160155Z
LAST-MODIFIED:20251112T160155Z
UID:6820-1767634200-1767643200@bowietxchamber.org
SUMMARY:Game Night at the Bowie Community
DESCRIPTION:The First Thursday of Every Month \n6 – 8 pm \nAges 21 and over. \nDominos\, Yahtzee\, Farkle\, Cards\, Scrabble\, Monopoly\, and more. \nPotluck bring enough to share. \nBring drink of your choice. \nFree water and coffee. \nFore more info call Bonnie \n940-872-4861 \n940-841-1550 \nBowie Community Center \n413 Pelham Street \n304 Lindsey \nBowie\, TX 76230
URL:https://bowietxchamber.org/event/game-night-at-the-bowie-community-13/
LOCATION:Bowie Community Center\, 413 Pelham St\, Bowie\, TX\, 76230\, United States
ATTACH;FMTTYPE=image/jpeg:https://bowietxchamber.org/wp-content/uploads/2025/11/Game_Night_FB_IMG_1751924139392.jpg
END:VEVENT
BEGIN:VEVENT
DTSTART;VALUE=DATE:20260110
DTEND;VALUE=DATE:20260113
DTSTAMP:20260420T042141
CREATED:20251112T161057Z
LAST-MODIFIED:20251112T161057Z
UID:6847-1768003200-1768262399@bowietxchamber.org
SUMMARY:2nd Monday Trade Days
DESCRIPTION:Second Monday Trade Days is open rain sleet or snow on the weekend of the Second Monday every month — The Friday\, Saturday & Sunday preceding the second Monday of each Month.
URL:https://bowietxchamber.org/event/2nd-monday-trade-days-31/
LOCATION:2nd Monday Trade Days\, 414 Pelham St.\, Bowie\, TX\, 76230\, United States
CATEGORIES:2nd Monday Trade Days
ATTACH;FMTTYPE=image/jpeg:https://bowietxchamber.org/wp-content/uploads/2025/11/Second_Monday_Trade_Days_Schedule_2025.jpg
ORGANIZER;CN="Bonnie Kinder":MAILTO:communitycenter@cityofbowietx.com
END:VEVENT
END:VCALENDAR