BEGIN:VCALENDAR
VERSION:2.0
PRODID:-//Bowie TX Chamber of Commerce - ECPv6.15.20//NONSGML v1.0//EN
CALSCALE:GREGORIAN
METHOD:PUBLISH
X-WR-CALNAME:Bowie TX Chamber of Commerce
X-ORIGINAL-URL:https://bowietxchamber.org
X-WR-CALDESC:Events for Bowie TX Chamber of Commerce
REFRESH-INTERVAL;VALUE=DURATION:PT1H
X-Robots-Tag:noindex
X-PUBLISHED-TTL:PT1H
BEGIN:VTIMEZONE
TZID:UTC
BEGIN:STANDARD
TZOFFSETFROM:+0000
TZOFFSETTO:+0000
TZNAME:UTC
DTSTART:20250101T000000
END:STANDARD
END:VTIMEZONE
BEGIN:VTIMEZONE
TZID:America/New_York
BEGIN:DAYLIGHT
TZOFFSETFROM:-0500
TZOFFSETTO:-0400
TZNAME:EDT
DTSTART:20250309T070000
END:DAYLIGHT
BEGIN:STANDARD
TZOFFSETFROM:-0400
TZOFFSETTO:-0500
TZNAME:EST
DTSTART:20251102T060000
END:STANDARD
BEGIN:DAYLIGHT
TZOFFSETFROM:-0500
TZOFFSETTO:-0400
TZNAME:EDT
DTSTART:20260308T070000
END:DAYLIGHT
BEGIN:STANDARD
TZOFFSETFROM:-0400
TZOFFSETTO:-0500
TZNAME:EST
DTSTART:20261101T060000
END:STANDARD
BEGIN:DAYLIGHT
TZOFFSETFROM:-0500
TZOFFSETTO:-0400
TZNAME:EDT
DTSTART:20270314T070000
END:DAYLIGHT
BEGIN:STANDARD
TZOFFSETFROM:-0400
TZOFFSETTO:-0500
TZNAME:EST
DTSTART:20271107T060000
END:STANDARD
END:VTIMEZONE
BEGIN:VTIMEZONE
TZID:America/Chicago
BEGIN:DAYLIGHT
TZOFFSETFROM:-0600
TZOFFSETTO:-0500
TZNAME:CDT
DTSTART:20250309T080000
END:DAYLIGHT
BEGIN:STANDARD
TZOFFSETFROM:-0500
TZOFFSETTO:-0600
TZNAME:CST
DTSTART:20251102T070000
END:STANDARD
BEGIN:DAYLIGHT
TZOFFSETFROM:-0600
TZOFFSETTO:-0500
TZNAME:CDT
DTSTART:20260308T080000
END:DAYLIGHT
BEGIN:STANDARD
TZOFFSETFROM:-0500
TZOFFSETTO:-0600
TZNAME:CST
DTSTART:20261101T070000
END:STANDARD
BEGIN:DAYLIGHT
TZOFFSETFROM:-0600
TZOFFSETTO:-0500
TZNAME:CDT
DTSTART:20270314T080000
END:DAYLIGHT
BEGIN:STANDARD
TZOFFSETFROM:-0500
TZOFFSETTO:-0600
TZNAME:CST
DTSTART:20271107T070000
END:STANDARD
END:VTIMEZONE
BEGIN:VEVENT
DTSTART;VALUE=DATE:20260207
DTEND;VALUE=DATE:20260210
DTSTAMP:20260419T192510
CREATED:20251112T161231Z
LAST-MODIFIED:20251112T161231Z
UID:6860-1770422400-1770681599@bowietxchamber.org
SUMMARY:2nd Monday Trade Days
DESCRIPTION:Second Monday Trade Days is open rain sleet or snow on the weekend of the Second Monday every month — The Friday\, Saturday & Sunday preceding the second Monday of each Month.
URL:https://bowietxchamber.org/event/2nd-monday-trade-days-32/
LOCATION:2nd Monday Trade Days\, 414 Pelham St.\, Bowie\, TX\, 76230\, United States
CATEGORIES:2nd Monday Trade Days
ATTACH;FMTTYPE=image/jpeg:https://bowietxchamber.org/wp-content/uploads/2025/11/Second_Monday_Trade_Days_Schedule_2025.jpg
ORGANIZER;CN="Bonnie Kinder":MAILTO:communitycenter@cityofbowietx.com
END:VEVENT
BEGIN:VEVENT
DTSTART;VALUE=DATE:20260307
DTEND;VALUE=DATE:20260310
DTSTAMP:20260419T192510
CREATED:20251112T161241Z
LAST-MODIFIED:20251112T161241Z
UID:6859-1772841600-1773100799@bowietxchamber.org
SUMMARY:2nd Monday Trade Days
DESCRIPTION:Second Monday Trade Days is open rain sleet or snow on the weekend of the Second Monday every month — The Friday\, Saturday & Sunday preceding the second Monday of each Month.
URL:https://bowietxchamber.org/event/2nd-monday-trade-days-33/
LOCATION:2nd Monday Trade Days\, 414 Pelham St.\, Bowie\, TX\, 76230\, United States
CATEGORIES:2nd Monday Trade Days
ATTACH;FMTTYPE=image/jpeg:https://bowietxchamber.org/wp-content/uploads/2025/11/Second_Monday_Trade_Days_Schedule_2025.jpg
ORGANIZER;CN="Bonnie Kinder":MAILTO:communitycenter@cityofbowietx.com
END:VEVENT
BEGIN:VEVENT
DTSTART;TZID=America/New_York:20260316T180000
DTEND;TZID=America/New_York:20260316T220000
DTSTAMP:20260419T192510
CREATED:20250219T180701Z
LAST-MODIFIED:20260313T154038Z
UID:5910-1773684000-1773698400@bowietxchamber.org
SUMMARY:Annual Chamber Banquet
DESCRIPTION:POSTPONED to March 16\, 2026 \n  \nThe Bowie Chamber of Commerce invites you to the 2026 Annual Community Awards Banquet\, an evening dedicated to celebrating the people\, businesses\, and organizations that make Bowie a great place to call home. \nJoin community leaders\, local businesses\, and residents as we recognize outstanding service\, leadership\, and achievement from the past year. Through fellowship\, dinner\, and awards\, this special night honors those who go above and beyond to strengthen our community and shape Bowie’s future. \nMonday\, January 26\, 2026 \nBowie Community Center\n413 Pelham St\, Bowie\, TX 76230 \n$50 per ticket \n\nBuy now
URL:https://bowietxchamber.org/event/annual-chamber-banquet/
LOCATION:Bowie Community Center\, 413 Pelham St\, Bowie\, TX\, 76230\, United States
ATTACH;FMTTYPE=image/jpeg:https://bowietxchamber.org/wp-content/uploads/2025/02/Save_the_Date_2026.jpg
END:VEVENT
BEGIN:VEVENT
DTSTART;TZID=America/Chicago:20260317T073000
DTEND;TZID=America/Chicago:20260317T093000
DTSTAMP:20260419T192510
CREATED:20260313T154354Z
LAST-MODIFIED:20260313T154616Z
UID:7680-1773732600-1773739800@bowietxchamber.org
SUMMARY:The Bowie Business Boost
DESCRIPTION:Time & Location\n\n\nMar 17\, 2026\, 7:30 AM \nBowie Expo Center\, 415 Pelham St\, Bowie\, TX 76230\, USA \n\n\n\n\nAbout the event\n\n\n\nThe Bowie Business Boost is a series of four workshops (Sessions #1\, #2\, #3 and #4) featuring AI Expert-Steve Brown\, Small Business Expert-Marci Goodwin\, AI Expert-Katie Milton Jordon\, and Small Business Strategist-Lorie Vincent.  \n \nRegistration Opens March 4\, 2026 \nEach Session will be held at the Bowie Community Center.  \nDoors open at 7:30 am and the Presentations will be from 8:00 am to 9:30 am. Breakfast will be provided.  \nRegistration is $40 for the entire Bowie Business Boost Workshop (includes all four sessions). Sessions are transferable.  \n\nRegister Here
URL:https://bowietxchamber.org/event/the-bowie-business-boost-5/
ATTACH;FMTTYPE=image/jpeg:https://bowietxchamber.org/wp-content/uploads/2026/03/8.5_x_11_The_Bowie_Business_Promo.jpg
END:VEVENT
BEGIN:VEVENT
DTSTART;TZID=America/New_York:20260320T180000
DTEND;TZID=America/New_York:20260320T210000
DTSTAMP:20260419T192510
CREATED:20260313T155417Z
LAST-MODIFIED:20260313T155508Z
UID:7691-1774029600-1774040400@bowietxchamber.org
SUMMARY:St. Patty's Sip & Stroll
DESCRIPTION:
URL:https://bowietxchamber.org/event/st-pattys-sip-stroll-2/
ATTACH;FMTTYPE=image/jpeg:https://bowietxchamber.org/wp-content/uploads/2026/03/Sip_and_Stroll_St_Pattys_Spring_March_2026.jpg
END:VEVENT
BEGIN:VEVENT
DTSTART;TZID=America/Chicago:20260328T180000
DTEND;TZID=America/Chicago:20260328T200000
DTSTAMP:20260419T192510
CREATED:20260313T155725Z
LAST-MODIFIED:20260313T155725Z
UID:7702-1774720800-1774728000@bowietxchamber.org
SUMMARY:Jim Bowie Car Show
DESCRIPTION:  \n  \n 
URL:https://bowietxchamber.org/event/jim-bowie-car-show-2/
ATTACH;FMTTYPE=image/jpeg:https://bowietxchamber.org/wp-content/uploads/2026/03/JBD_car_show_Screenshot_20260129-130554.jpg
END:VEVENT
BEGIN:VEVENT
DTSTART;TZID=America/New_York:20260328T200000
DTEND;TZID=America/New_York:20260328T220000
DTSTAMP:20260419T192510
CREATED:20260313T155926Z
LAST-MODIFIED:20260313T155926Z
UID:7705-1774728000-1774735200@bowietxchamber.org
SUMMARY:Endless Summer Concert
DESCRIPTION:
URL:https://bowietxchamber.org/event/endless-summer-concert/
ATTACH;FMTTYPE=image/jpeg:https://bowietxchamber.org/wp-content/uploads/2026/03/Bowie_Community_Center__-_Endless_Summer_March_2026.jpg
END:VEVENT
BEGIN:VEVENT
DTSTART;TZID=America/Chicago:20260331T073000
DTEND;TZID=America/Chicago:20260331T093000
DTSTAMP:20260419T192510
CREATED:20260313T154713Z
LAST-MODIFIED:20260313T154713Z
UID:7682-1774942200-1774949400@bowietxchamber.org
SUMMARY:The Bowie Business Boost
DESCRIPTION:Time & Location\n\n\nMar 31\, 2026\, 7:30 AM \nBowie Expo Center\, 415 Pelham St\, Bowie\, TX 76230\, USA \n\n\n\n\nAbout the event\n\n\n\nThe Bowie Business Boost is a series of four workshops (Sessions #1\, #2\, #3 and #4) featuring AI Expert-Steve Brown\, Small Business Expert-Marci Goodwin\, AI Expert-Katie Milton Jordon\, and Small Business Strategist-Lorie Vincent.  \n \nRegistration Opens March 4\, 2026 \nEach Session will be held at the Bowie Community Center.  \nDoors open at 7:30 am and the Presentations will be from 8:00 am to 9:30 am. Breakfast will be provided.  \nRegistration is $40 for the entire Bowie Business Boost Workshop (includes all four sessions). Sessions are transferable.  \n\nRegister Here
URL:https://bowietxchamber.org/event/the-bowie-business-boost-6/
ATTACH;FMTTYPE=image/jpeg:https://bowietxchamber.org/wp-content/uploads/2026/03/8.5_x_11_The_Bowie_Business_Promo.jpg
END:VEVENT
BEGIN:VEVENT
DTSTART;TZID=America/New_York:20260410T140000
DTEND;TZID=America/New_York:20260410T150000
DTSTAMP:20260419T192510
CREATED:20260313T160130Z
LAST-MODIFIED:20260313T160130Z
UID:7708-1775829600-1775833200@bowietxchamber.org
SUMMARY:Grand Opening The Blade Pickleball Courts
DESCRIPTION:
URL:https://bowietxchamber.org/event/grand-opening-the-blade-pickleball-courts/
ATTACH;FMTTYPE=image/jpeg:https://bowietxchamber.org/wp-content/uploads/2026/03/BEDC_BLADE_Pickleball_Court_Grand_Opening_April_2026.jpg
END:VEVENT
BEGIN:VEVENT
DTSTART;VALUE=DATE:20260411
DTEND;VALUE=DATE:20260414
DTSTAMP:20260419T192510
CREATED:20251112T161251Z
LAST-MODIFIED:20251112T161251Z
UID:6858-1775865600-1776124799@bowietxchamber.org
SUMMARY:2nd Monday Trade Days
DESCRIPTION:Second Monday Trade Days is open rain sleet or snow on the weekend of the Second Monday every month — The Friday\, Saturday & Sunday preceding the second Monday of each Month.
URL:https://bowietxchamber.org/event/2nd-monday-trade-days-34/
LOCATION:2nd Monday Trade Days\, 414 Pelham St.\, Bowie\, TX\, 76230\, United States
CATEGORIES:2nd Monday Trade Days
ATTACH;FMTTYPE=image/jpeg:https://bowietxchamber.org/wp-content/uploads/2025/11/Second_Monday_Trade_Days_Schedule_2025.jpg
ORGANIZER;CN="Bonnie Kinder":MAILTO:communitycenter@cityofbowietx.com
END:VEVENT
BEGIN:VEVENT
DTSTART;TZID=America/New_York:20260411T070000
DTEND;TZID=America/New_York:20260411T150000
DTSTAMP:20260419T192510
CREATED:20260313T160654Z
LAST-MODIFIED:20260313T160654Z
UID:7717-1775890800-1775919600@bowietxchamber.org
SUMMARY:Chicken & Bread Days Bass Tournament
DESCRIPTION:2026 Chicken and Bread Day Bass Tournament  \n\n\nRegister Now
URL:https://bowietxchamber.org/event/chicken-bread-days-bass-tournament-4/
ATTACH;FMTTYPE=image/jpeg:https://bowietxchamber.org/wp-content/uploads/2026/03/CB_Days_Bass_Tournament_2026.jpg
END:VEVENT
BEGIN:VEVENT
DTSTART;TZID=America/New_York:20260411T100000
DTEND;TZID=America/New_York:20260411T130000
DTSTAMP:20260419T192510
CREATED:20260313T160301Z
LAST-MODIFIED:20260313T160301Z
UID:7711-1775901600-1775912400@bowietxchamber.org
SUMMARY:Shred-A-Thon
DESCRIPTION:Free Shred-a-thon\nby: Wellington State Bank\n10 am – 1 pm\n1301 North Highway 59\nBowie\, Texas 76230
URL:https://bowietxchamber.org/event/shred-a-thon-4/
ATTACH;FMTTYPE=image/jpeg:https://bowietxchamber.org/wp-content/uploads/2026/03/Chamber_Paper_Pig_Shredding_new_April_2026.jpg
END:VEVENT
BEGIN:VEVENT
DTSTART;TZID=America/Chicago:20260414T073000
DTEND;TZID=America/Chicago:20260414T093000
DTSTAMP:20260419T192510
CREATED:20260313T154752Z
LAST-MODIFIED:20260313T154834Z
UID:7686-1776151800-1776159000@bowietxchamber.org
SUMMARY:The Bowie Business Boost
DESCRIPTION:Time & Location\n\n\nApr 14\, 2026\, 7:30 AM \nBowie Expo Center\, 415 Pelham St\, Bowie\, TX 76230\, USA \n\n\n\n\nAbout the event\n\n\n\nThe Bowie Business Boost is a series of four workshops (Sessions #1\, #2\, #3 and #4) featuring AI Expert-Steve Brown\, Small Business Expert-Marci Goodwin\, AI Expert-Katie Milton Jordon\, and Small Business Strategist-Lorie Vincent.  \n \nRegistration Opens March 4\, 2026 \nEach Session will be held at the Bowie Community Center.  \nDoors open at 7:30 am and the Presentations will be from 8:00 am to 9:30 am. Breakfast will be provided.  \nRegistration is $40 for the entire Bowie Business Boost Workshop (includes all four sessions). Sessions are transferable.  \n\nRegister Here
URL:https://bowietxchamber.org/event/the-bowie-business-boost-7/
ATTACH;FMTTYPE=image/jpeg:https://bowietxchamber.org/wp-content/uploads/2026/03/8.5_x_11_The_Bowie_Business_Promo.jpg
END:VEVENT
BEGIN:VEVENT
DTSTART;TZID=America/Chicago:20260428T073000
DTEND;TZID=America/Chicago:20260428T093000
DTSTAMP:20260419T192510
CREATED:20260313T154821Z
LAST-MODIFIED:20260313T154821Z
UID:7687-1777361400-1777368600@bowietxchamber.org
SUMMARY:The Bowie Business Boost
DESCRIPTION:Time & Location\n\n\nApr 28\, 2026\, 7:30 AM \nBowie Expo Center\, 415 Pelham St\, Bowie\, TX 76230\, USA \n\n\n\n\nAbout the event\n\n\n\nThe Bowie Business Boost is a series of four workshops (Sessions #1\, #2\, #3 and #4) featuring AI Expert-Steve Brown\, Small Business Expert-Marci Goodwin\, AI Expert-Katie Milton Jordon\, and Small Business Strategist-Lorie Vincent.  \n \nRegistration Opens March 4\, 2026 \nEach Session will be held at the Bowie Community Center.  \nDoors open at 7:30 am and the Presentations will be from 8:00 am to 9:30 am. Breakfast will be provided.  \nRegistration is $40 for the entire Bowie Business Boost Workshop (includes all four sessions). Sessions are transferable.  \n\nRegister Here
URL:https://bowietxchamber.org/event/the-bowie-business-boost-8/
ATTACH;FMTTYPE=image/jpeg:https://bowietxchamber.org/wp-content/uploads/2026/03/8.5_x_11_The_Bowie_Business_Promo.jpg
END:VEVENT
BEGIN:VEVENT
DTSTART;TZID=America/New_York:20260501T180000
DTEND;TZID=America/New_York:20260501T210000
DTSTAMP:20260419T192510
CREATED:20260313T155347Z
LAST-MODIFIED:20260313T155347Z
UID:7692-1777658400-1777669200@bowietxchamber.org
SUMMARY:Mom's Night Out Sip & Stroll
DESCRIPTION:
URL:https://bowietxchamber.org/event/moms-night-out-sip-stroll-2/
ATTACH;FMTTYPE=image/jpeg:https://bowietxchamber.org/wp-content/uploads/2026/03/Sip_postcard_size_2026.jpg
END:VEVENT
BEGIN:VEVENT
DTSTART;TZID=America/New_York:20260502T080000
DTEND;TZID=America/New_York:20260502T170000
DTSTAMP:20260419T192510
CREATED:20260313T160756Z
LAST-MODIFIED:20260313T160756Z
UID:7721-1777708800-1777741200@bowietxchamber.org
SUMMARY:Lions Club of Bowie Raffle
DESCRIPTION:
URL:https://bowietxchamber.org/event/lions-club-of-bowie-raffle/
ATTACH;FMTTYPE=image/jpeg:https://bowietxchamber.org/wp-content/uploads/2026/03/Lions_Scan_20260311.jpg
END:VEVENT
BEGIN:VEVENT
DTSTART;TZID=America/New_York:20260502T140000
DTEND;TZID=America/New_York:20260502T160000
DTSTAMP:20260419T192510
CREATED:20260313T160434Z
LAST-MODIFIED:20260313T160434Z
UID:7714-1777730400-1777737600@bowietxchamber.org
SUMMARY:Clear Choice Pregnancy Resource Crawfish Festival Fundraiser
DESCRIPTION:
URL:https://bowietxchamber.org/event/clear-choice-pregnancy-resource-crawfish-festival-fundraiser/
ATTACH;FMTTYPE=image/jpeg:https://bowietxchamber.org/wp-content/uploads/2026/03/Clear_Choice_Pregnancy_Resource_Ctr_fundraiser_May_2026_FB_IMG_1771896203281.jpg
END:VEVENT
BEGIN:VEVENT
DTSTART;VALUE=DATE:20260509
DTEND;VALUE=DATE:20260512
DTSTAMP:20260419T192510
CREATED:20251112T161301Z
LAST-MODIFIED:20251112T161301Z
UID:6857-1778284800-1778543999@bowietxchamber.org
SUMMARY:2nd Monday Trade Days
DESCRIPTION:Second Monday Trade Days is open rain sleet or snow on the weekend of the Second Monday every month — The Friday\, Saturday & Sunday preceding the second Monday of each Month.
URL:https://bowietxchamber.org/event/2nd-monday-trade-days-35/
LOCATION:2nd Monday Trade Days\, 414 Pelham St.\, Bowie\, TX\, 76230\, United States
CATEGORIES:2nd Monday Trade Days
ATTACH;FMTTYPE=image/jpeg:https://bowietxchamber.org/wp-content/uploads/2025/11/Second_Monday_Trade_Days_Schedule_2025.jpg
ORGANIZER;CN="Bonnie Kinder":MAILTO:communitycenter@cityofbowietx.com
END:VEVENT
BEGIN:VEVENT
DTSTART;VALUE=DATE:20260606
DTEND;VALUE=DATE:20260609
DTSTAMP:20260419T192510
CREATED:20251112T161311Z
LAST-MODIFIED:20251112T161311Z
UID:6856-1780704000-1780963199@bowietxchamber.org
SUMMARY:2nd Monday Trade Days
DESCRIPTION:Second Monday Trade Days is open rain sleet or snow on the weekend of the Second Monday every month — The Friday\, Saturday & Sunday preceding the second Monday of each Month.
URL:https://bowietxchamber.org/event/2nd-monday-trade-days-36/
LOCATION:2nd Monday Trade Days\, 414 Pelham St.\, Bowie\, TX\, 76230\, United States
CATEGORIES:2nd Monday Trade Days
ATTACH;FMTTYPE=image/jpeg:https://bowietxchamber.org/wp-content/uploads/2025/11/Second_Monday_Trade_Days_Schedule_2025.jpg
ORGANIZER;CN="Bonnie Kinder":MAILTO:communitycenter@cityofbowietx.com
END:VEVENT
BEGIN:VEVENT
DTSTART;VALUE=DATE:20260711
DTEND;VALUE=DATE:20260714
DTSTAMP:20260419T192510
CREATED:20251112T161320Z
LAST-MODIFIED:20251112T161320Z
UID:6855-1783728000-1783987199@bowietxchamber.org
SUMMARY:2nd Monday Trade Days
DESCRIPTION:Second Monday Trade Days is open rain sleet or snow on the weekend of the Second Monday every month — The Friday\, Saturday & Sunday preceding the second Monday of each Month.
URL:https://bowietxchamber.org/event/2nd-monday-trade-days-37/
LOCATION:2nd Monday Trade Days\, 414 Pelham St.\, Bowie\, TX\, 76230\, United States
CATEGORIES:2nd Monday Trade Days
ATTACH;FMTTYPE=image/jpeg:https://bowietxchamber.org/wp-content/uploads/2025/11/Second_Monday_Trade_Days_Schedule_2025.jpg
ORGANIZER;CN="Bonnie Kinder":MAILTO:communitycenter@cityofbowietx.com
END:VEVENT
BEGIN:VEVENT
DTSTART;VALUE=DATE:20260808
DTEND;VALUE=DATE:20260811
DTSTAMP:20260419T192510
CREATED:20251112T161330Z
LAST-MODIFIED:20251112T161330Z
UID:6854-1786147200-1786406399@bowietxchamber.org
SUMMARY:2nd Monday Trade Days
DESCRIPTION:Second Monday Trade Days is open rain sleet or snow on the weekend of the Second Monday every month — The Friday\, Saturday & Sunday preceding the second Monday of each Month.
URL:https://bowietxchamber.org/event/2nd-monday-trade-days-38/
LOCATION:2nd Monday Trade Days\, 414 Pelham St.\, Bowie\, TX\, 76230\, United States
CATEGORIES:2nd Monday Trade Days
ATTACH;FMTTYPE=image/jpeg:https://bowietxchamber.org/wp-content/uploads/2025/11/Second_Monday_Trade_Days_Schedule_2025.jpg
ORGANIZER;CN="Bonnie Kinder":MAILTO:communitycenter@cityofbowietx.com
END:VEVENT
BEGIN:VEVENT
DTSTART;VALUE=DATE:20260905
DTEND;VALUE=DATE:20260908
DTSTAMP:20260419T192510
CREATED:20251112T161339Z
LAST-MODIFIED:20251112T161339Z
UID:6853-1788566400-1788825599@bowietxchamber.org
SUMMARY:2nd Monday Trade Days
DESCRIPTION:Second Monday Trade Days is open rain sleet or snow on the weekend of the Second Monday every month — The Friday\, Saturday & Sunday preceding the second Monday of each Month.
URL:https://bowietxchamber.org/event/2nd-monday-trade-days-39/
LOCATION:2nd Monday Trade Days\, 414 Pelham St.\, Bowie\, TX\, 76230\, United States
CATEGORIES:2nd Monday Trade Days
ATTACH;FMTTYPE=image/jpeg:https://bowietxchamber.org/wp-content/uploads/2025/11/Second_Monday_Trade_Days_Schedule_2025.jpg
ORGANIZER;CN="Bonnie Kinder":MAILTO:communitycenter@cityofbowietx.com
END:VEVENT
BEGIN:VEVENT
DTSTART;TZID=America/New_York:20261002T180000
DTEND;TZID=America/New_York:20261002T210000
DTSTAMP:20260419T192510
CREATED:20260313T155143Z
LAST-MODIFIED:20260313T155313Z
UID:7694-1790964000-1790974800@bowietxchamber.org
SUMMARY:Chicken & Bread Days Sip & Stroll
DESCRIPTION:
URL:https://bowietxchamber.org/event/chicken-bread-days-sip-stroll-2/
ATTACH;FMTTYPE=image/jpeg:https://bowietxchamber.org/wp-content/uploads/2026/03/Sip_postcard_size_2026.jpg
END:VEVENT
BEGIN:VEVENT
DTSTART;VALUE=DATE:20261010
DTEND;VALUE=DATE:20261013
DTSTAMP:20260419T192510
CREATED:20251112T161351Z
LAST-MODIFIED:20251112T161351Z
UID:6852-1791590400-1791849599@bowietxchamber.org
SUMMARY:2nd Monday Trade Days
DESCRIPTION:Second Monday Trade Days is open rain sleet or snow on the weekend of the Second Monday every month — The Friday\, Saturday & Sunday preceding the second Monday of each Month.
URL:https://bowietxchamber.org/event/2nd-monday-trade-days-40/
LOCATION:2nd Monday Trade Days\, 414 Pelham St.\, Bowie\, TX\, 76230\, United States
CATEGORIES:2nd Monday Trade Days
ATTACH;FMTTYPE=image/jpeg:https://bowietxchamber.org/wp-content/uploads/2025/11/Second_Monday_Trade_Days_Schedule_2025.jpg
ORGANIZER;CN="Bonnie Kinder":MAILTO:communitycenter@cityofbowietx.com
END:VEVENT
BEGIN:VEVENT
DTSTART;VALUE=DATE:20261107
DTEND;VALUE=DATE:20261110
DTSTAMP:20260419T192510
CREATED:20251112T161401Z
LAST-MODIFIED:20251112T161401Z
UID:6851-1794009600-1794268799@bowietxchamber.org
SUMMARY:2nd Monday Trade Days
DESCRIPTION:Second Monday Trade Days is open rain sleet or snow on the weekend of the Second Monday every month — The Friday\, Saturday & Sunday preceding the second Monday of each Month.
URL:https://bowietxchamber.org/event/2nd-monday-trade-days-41/
LOCATION:2nd Monday Trade Days\, 414 Pelham St.\, Bowie\, TX\, 76230\, United States
CATEGORIES:2nd Monday Trade Days
ATTACH;FMTTYPE=image/jpeg:https://bowietxchamber.org/wp-content/uploads/2025/11/Second_Monday_Trade_Days_Schedule_2025.jpg
ORGANIZER;CN="Bonnie Kinder":MAILTO:communitycenter@cityofbowietx.com
END:VEVENT
BEGIN:VEVENT
DTSTART;TZID=America/New_York:20261204T170000
DTEND;TZID=America/New_York:20261204T210000
DTSTAMP:20260419T192510
CREATED:20260313T155242Z
LAST-MODIFIED:20260313T155242Z
UID:7693-1796403600-1796418000@bowietxchamber.org
SUMMARY:Merry Christmas Sip & Stroll
DESCRIPTION:
URL:https://bowietxchamber.org/event/merry-christmas-sip-stroll/
ATTACH;FMTTYPE=image/jpeg:https://bowietxchamber.org/wp-content/uploads/2026/03/Sip_postcard_size_2026.jpg
END:VEVENT
BEGIN:VEVENT
DTSTART;VALUE=DATE:20261205
DTEND;VALUE=DATE:20261208
DTSTAMP:20260419T192510
CREATED:20251112T161411Z
LAST-MODIFIED:20251112T161411Z
UID:6850-1796428800-1796687999@bowietxchamber.org
SUMMARY:2nd Monday Trade Days
DESCRIPTION:Second Monday Trade Days is open rain sleet or snow on the weekend of the Second Monday every month — The Friday\, Saturday & Sunday preceding the second Monday of each Month.
URL:https://bowietxchamber.org/event/2nd-monday-trade-days-42/
LOCATION:2nd Monday Trade Days\, 414 Pelham St.\, Bowie\, TX\, 76230\, United States
CATEGORIES:2nd Monday Trade Days
ATTACH;FMTTYPE=image/jpeg:https://bowietxchamber.org/wp-content/uploads/2025/11/Second_Monday_Trade_Days_Schedule_2025.jpg
ORGANIZER;CN="Bonnie Kinder":MAILTO:communitycenter@cityofbowietx.com
END:VEVENT
END:VCALENDAR