BEGIN:VCALENDAR
VERSION:2.0
PRODID:-//Bowie TX Chamber of Commerce - ECPv6.15.20//NONSGML v1.0//EN
CALSCALE:GREGORIAN
METHOD:PUBLISH
X-WR-CALNAME:Bowie TX Chamber of Commerce
X-ORIGINAL-URL:https://bowietxchamber.org
X-WR-CALDESC:Events for Bowie TX Chamber of Commerce
REFRESH-INTERVAL;VALUE=DURATION:PT1H
X-Robots-Tag:noindex
X-PUBLISHED-TTL:PT1H
BEGIN:VTIMEZONE
TZID:UTC
BEGIN:STANDARD
TZOFFSETFROM:+0000
TZOFFSETTO:+0000
TZNAME:UTC
DTSTART:20210101T000000
END:STANDARD
END:VTIMEZONE
BEGIN:VEVENT
DTSTART;TZID=UTC:20220708T073000
DTEND;TZID=UTC:20220708T220000
DTSTAMP:20260422T133728
CREATED:20220707T172313Z
LAST-MODIFIED:20220707T173655Z
UID:1580-1657265400-1657317600@bowietxchamber.org
SUMMARY:Outdoor Movie Night
DESCRIPTION:FREE! Downtown Bowie. The parking lot of the City of Bowie Customer Service Center at Mason St & Tarrant St. \n\n\n\n\n\nWe will be back downtown for Outdoor Movie Night this Friday\, July 8\, 2022. Join us for our favorite yellow minions in Despicable Me. The movie is free just bring your lawn chairs and blankets to the parking lot at Tarrant and Mason Streets. Look for the giant inflatable screen! See you soon!
URL:https://bowietxchamber.org/event/movie-night/
ORGANIZER;CN="Cindy Roller":MAILTO:bcdb@cityofbowietx.com
END:VEVENT
END:VCALENDAR